BEGIN:VCALENDAR
VERSION:2.0
PRODID:-//National Behavioral Health Association of Providers (NBHAP) - ECPv6.15.20//NONSGML v1.0//EN
CALSCALE:GREGORIAN
METHOD:PUBLISH
X-WR-CALNAME:National Behavioral Health Association of Providers (NBHAP)
X-ORIGINAL-URL:https://nbhap.org
X-WR-CALDESC:Events for National Behavioral Health Association of Providers (NBHAP)
REFRESH-INTERVAL;VALUE=DURATION:PT1H
X-Robots-Tag:noindex
X-PUBLISHED-TTL:PT1H
BEGIN:VTIMEZONE
TZID:America/Los_Angeles
BEGIN:DAYLIGHT
TZOFFSETFROM:-0800
TZOFFSETTO:-0700
TZNAME:PDT
DTSTART:20250309T100000
END:DAYLIGHT
BEGIN:STANDARD
TZOFFSETFROM:-0700
TZOFFSETTO:-0800
TZNAME:PST
DTSTART:20251102T090000
END:STANDARD
BEGIN:DAYLIGHT
TZOFFSETFROM:-0800
TZOFFSETTO:-0700
TZNAME:PDT
DTSTART:20260308T100000
END:DAYLIGHT
BEGIN:STANDARD
TZOFFSETFROM:-0700
TZOFFSETTO:-0800
TZNAME:PST
DTSTART:20261101T090000
END:STANDARD
BEGIN:DAYLIGHT
TZOFFSETFROM:-0800
TZOFFSETTO:-0700
TZNAME:PDT
DTSTART:20270314T100000
END:DAYLIGHT
BEGIN:STANDARD
TZOFFSETFROM:-0700
TZOFFSETTO:-0800
TZNAME:PST
DTSTART:20271107T090000
END:STANDARD
END:VTIMEZONE
BEGIN:VEVENT
DTSTART;VALUE=DATE:20260204
DTEND;VALUE=DATE:20260423
DTSTAMP:20260423T031153
CREATED:20260120T015845Z
LAST-MODIFIED:20260120T015845Z
UID:4300002091-1770163200-1776902399@nbhap.org
SUMMARY:Financial Skills for Recovery
DESCRIPTION:Wednesdays only
URL:https://nbhap.org/event/financial-skills-for-recovery/
LOCATION:online
CATEGORIES:webinar or workshop
END:VEVENT
BEGIN:VEVENT
DTSTART;VALUE=DATE:20260403
DTEND;VALUE=DATE:20260509
DTSTAMP:20260423T031153
CREATED:20260401T035633Z
LAST-MODIFIED:20260401T035633Z
UID:4300002309-1775174400-1778284799@nbhap.org
SUMMARY:Takes Two to Help Kids Thrive: Raising Resilient Kids
DESCRIPTION:Live Session Options \nMST: 7–8 AM or 4–5 PM\nPST: 6–7 AM or 3–4 PM\nCST: 8–9 AM or 5–6 PM\nEST: 9–10 AM or 6–7 PM\nDates (All Sessions Offered at Both Times):\n    Friday\, April 3\, 2026\n    Friday\, April 10\, 2026\n    Friday\, April 17 (off–no Webinar this week)\n    Friday\, April 24\, 2026\n    Friday\, May 1\, 2026\n    Friday\, May 8\, 2026
URL:https://nbhap.org/event/takes-two-to-help-kids-thrive-raising-resilient-kids/
LOCATION:online
CATEGORIES:webinar or workshop
END:VEVENT
BEGIN:VEVENT
DTSTART;VALUE=DATE:20260406
DTEND;VALUE=DATE:20260519
DTSTAMP:20260423T031153
CREATED:20260408T035422Z
LAST-MODIFIED:20260408T035422Z
UID:4300002324-1775433600-1779148799@nbhap.org
SUMMARY:Cognitive Behavioral Therapy for Body Dysmorphic Disorder: An Introductory Online Course
DESCRIPTION:
URL:https://nbhap.org/event/cognitive-behavioral-therapy-for-body-dysmorphic-disorder-an-introductory-online-course-2/
LOCATION:online
CATEGORIES:webinar or workshop
END:VEVENT
BEGIN:VEVENT
DTSTART;VALUE=DATE:20260406
DTEND;VALUE=DATE:20260602
DTSTAMP:20260423T031153
CREATED:20260401T000536Z
LAST-MODIFIED:20260401T000536Z
UID:4300002265-1775433600-1780358399@nbhap.org
SUMMARY:Assessment of ADHD and Executive Functions Across the Lifespan
DESCRIPTION:
URL:https://nbhap.org/event/assessment-of-adhd-and-executive-functions-across-the-lifespan/
LOCATION:online
CATEGORIES:webinar or workshop
END:VEVENT
BEGIN:VEVENT
DTSTART;VALUE=DATE:20260413
DTEND;VALUE=DATE:20260427
DTSTAMP:20260423T031153
CREATED:20260413T145111Z
LAST-MODIFIED:20260413T145111Z
UID:4300002373-1776038400-1777247999@nbhap.org
SUMMARY:Silent Retreat: Palos Verdes
DESCRIPTION:
URL:https://nbhap.org/event/silent-retreat-palos-verdes/
LOCATION:Palos Verdes\, CA\, Palos Verdes\, CA\, United States
CATEGORIES:conference or summit
END:VEVENT
BEGIN:VEVENT
DTSTART;VALUE=DATE:20260420
DTEND;VALUE=DATE:20260423
DTSTAMP:20260423T031153
CREATED:20251214T185348Z
LAST-MODIFIED:20251214T185404Z
UID:4300002040-1776643200-1776902399@nbhap.org
SUMMARY:The Autism Symposium 2026
DESCRIPTION:
URL:https://nbhap.org/event/the-autism-symposium-2026/
CATEGORIES:conference or summit
END:VEVENT
BEGIN:VEVENT
DTSTART;VALUE=DATE:20260420
DTEND;VALUE=DATE:20260424
DTSTAMP:20260423T031153
CREATED:20251120T020945Z
LAST-MODIFIED:20251120T020945Z
UID:4300001949-1776643200-1776988799@nbhap.org
SUMMARY:On Aging 2026
DESCRIPTION:
URL:https://nbhap.org/event/on-aging-2026/
LOCATION:Atlanta\, GA\, Atlanta\, Georga
CATEGORIES:conference or summit
END:VEVENT
BEGIN:VEVENT
DTSTART;VALUE=DATE:20260421
DTEND;VALUE=DATE:20260423
DTSTAMP:20260423T031153
CREATED:20260213T174815Z
LAST-MODIFIED:20260213T174815Z
UID:4300002211-1776729600-1776902399@nbhap.org
SUMMARY:12th Annual Addiction Leadership Conference (ALC)
DESCRIPTION:Get prepared on innovative ways to speak with your representative in Sacramento. Meanwhile\, CEOs\, executives\, and directors will gain a comprehensive understanding about admissions and marketing. Earn up to 18 hours of continuing education.
URL:https://nbhap.org/event/12th-annual-addiction-leadership-conference-alc/
LOCATION:Sacramento\, CA\, Sacramento\, California
CATEGORIES:conference or summit,partner event
END:VEVENT
BEGIN:VEVENT
DTSTART;VALUE=DATE:20260422
DTEND;VALUE=DATE:20260424
DTSTAMP:20260423T031153
CREATED:20260401T042257Z
LAST-MODIFIED:20260401T042257Z
UID:4300002315-1776816000-1776988799@nbhap.org
SUMMARY:[ORN] Advanced RCO Bootcamp
DESCRIPTION:
URL:https://nbhap.org/event/orn-advanced-rco-bootcamp-2/
LOCATION:online
CATEGORIES:webinar or workshop
END:VEVENT
BEGIN:VEVENT
DTSTART;VALUE=DATE:20260422
DTEND;VALUE=DATE:20260425
DTSTAMP:20260423T031153
CREATED:20260401T013844Z
LAST-MODIFIED:20260401T013844Z
UID:4300002279-1776816000-1777075199@nbhap.org
SUMMARY:Elevate 2026
DESCRIPTION:
URL:https://nbhap.org/event/elevate-2026/
LOCATION:Carlsbad\, CA\, Carlsbad\, CA\, United States
CATEGORIES:conference or summit
END:VEVENT
BEGIN:VEVENT
DTSTART;TZID=America/Los_Angeles:20260422T080000
DTEND;TZID=America/Los_Angeles:20260422T111500
DTSTAMP:20260423T031154
CREATED:20260418T012738Z
LAST-MODIFIED:20260418T012738Z
UID:4300002395-1776844800-1776856500@nbhap.org
SUMMARY:Ethics of Boundaries and Dual Relationships in Mental Health
DESCRIPTION:
URL:https://nbhap.org/event/ethics-of-boundaries-and-dual-relationships-in-mental-health/
LOCATION:online
CATEGORIES:webinar or workshop
END:VEVENT
BEGIN:VEVENT
DTSTART;TZID=America/Los_Angeles:20260422T090000
DTEND;TZID=America/Los_Angeles:20260422T170000
DTSTAMP:20260423T031154
CREATED:20260401T033740Z
LAST-MODIFIED:20260401T033740Z
UID:4300002303-1776848400-1776877200@nbhap.org
SUMMARY:Mental Health First Aid Training
DESCRIPTION:
URL:https://nbhap.org/event/mental-health-first-aid-training-4/
LOCATION:online
CATEGORIES:webinar or workshop
END:VEVENT
BEGIN:VEVENT
DTSTART;TZID=America/Los_Angeles:20260422T120000
DTEND;TZID=America/Los_Angeles:20260422T130000
DTSTAMP:20260423T031154
CREATED:20260410T231515Z
LAST-MODIFIED:20260410T231515Z
UID:4300002358-1776859200-1776862800@nbhap.org
SUMMARY:Treatment Analysis Paralysis
DESCRIPTION:
URL:https://nbhap.org/event/treatment-analysis-paralysis/
LOCATION:online
CATEGORIES:webinar or workshop
END:VEVENT
BEGIN:VEVENT
DTSTART;TZID=America/Los_Angeles:20260422T120000
DTEND;TZID=America/Los_Angeles:20260422T133000
DTSTAMP:20260423T031154
CREATED:20260408T043942Z
LAST-MODIFIED:20260408T043942Z
UID:4300002335-1776859200-1776864600@nbhap.org
SUMMARY:Unseen\, Unheard\, Untreated: A Disconnected System’s Call for the Medicine of Connection
DESCRIPTION:
URL:https://nbhap.org/event/unseen-unheard-untreated-a-disconnected-systems-call-for-the-medicine-of-connection/
LOCATION:online
CATEGORIES:webinar or workshop
END:VEVENT
BEGIN:VEVENT
DTSTART;TZID=America/Los_Angeles:20260422T183000
DTEND;TZID=America/Los_Angeles:20260422T213000
DTSTAMP:20260423T031154
CREATED:20260401T035913Z
LAST-MODIFIED:20260401T035913Z
UID:4300002310-1776882600-1776893400@nbhap.org
SUMMARY:Symposium on Young Neurodivergent Learners
DESCRIPTION:
URL:https://nbhap.org/event/symposium-on-young-neurodivergent-learners/
LOCATION:Jaffrey\, NH\, Jaffrey\, NH\, United States
CATEGORIES:webinar or workshop
END:VEVENT
END:VCALENDAR