BEGIN:VCALENDAR
VERSION:2.0
PRODID:-//National Behavioral Health Association of Providers (NBHAP) - ECPv6.15.20//NONSGML v1.0//EN
CALSCALE:GREGORIAN
METHOD:PUBLISH
X-WR-CALNAME:National Behavioral Health Association of Providers (NBHAP)
X-ORIGINAL-URL:https://nbhap.org
X-WR-CALDESC:Events for National Behavioral Health Association of Providers (NBHAP)
REFRESH-INTERVAL;VALUE=DURATION:PT1H
X-Robots-Tag:noindex
X-PUBLISHED-TTL:PT1H
BEGIN:VTIMEZONE
TZID:America/Los_Angeles
BEGIN:DAYLIGHT
TZOFFSETFROM:-0800
TZOFFSETTO:-0700
TZNAME:PDT
DTSTART:20150308T100000
END:DAYLIGHT
BEGIN:STANDARD
TZOFFSETFROM:-0700
TZOFFSETTO:-0800
TZNAME:PST
DTSTART:20151101T090000
END:STANDARD
BEGIN:DAYLIGHT
TZOFFSETFROM:-0800
TZOFFSETTO:-0700
TZNAME:PDT
DTSTART:20160313T100000
END:DAYLIGHT
BEGIN:STANDARD
TZOFFSETFROM:-0700
TZOFFSETTO:-0800
TZNAME:PST
DTSTART:20161106T090000
END:STANDARD
BEGIN:DAYLIGHT
TZOFFSETFROM:-0800
TZOFFSETTO:-0700
TZNAME:PDT
DTSTART:20170312T100000
END:DAYLIGHT
BEGIN:STANDARD
TZOFFSETFROM:-0700
TZOFFSETTO:-0800
TZNAME:PST
DTSTART:20171105T090000
END:STANDARD
END:VTIMEZONE
BEGIN:VEVENT
DTSTART;VALUE=DATE:20161208
DTEND;VALUE=DATE:20161212
DTSTAMP:20260420T103530
CREATED:20210809T173242Z
LAST-MODIFIED:20210809T173242Z
UID:4300000557-1481155200-1481500799@nbhap.org
SUMMARY:AAAP Annual Meeting
DESCRIPTION:This event provides the latest scientific developments in substance use disorders and co-occurring psychiatric disorders for psychiatrists\, primary care physicians\, and allied health professionals. The goal of the conference is to recognize emerging issues and trends in addiction psychiatry and be on the forefront of diagnosis and treatment of substance use disorders and co-occurring psychiatric disorders.
URL:https://nbhap.org/event/aaap-annual-meeting-2016/
LOCATION:Bonita Springs\, FL\, Bonita Springs\, FL\, United States
CATEGORIES:annual meeting
END:VEVENT
END:VCALENDAR