BEGIN:VCALENDAR
VERSION:2.0
PRODID:-//National Behavioral Health Association of Providers (NBHAP) - ECPv6.15.20//NONSGML v1.0//EN
CALSCALE:GREGORIAN
METHOD:PUBLISH
X-ORIGINAL-URL:https://nbhap.org
X-WR-CALDESC:Events for National Behavioral Health Association of Providers (NBHAP)
REFRESH-INTERVAL;VALUE=DURATION:PT1H
X-Robots-Tag:noindex
X-PUBLISHED-TTL:PT1H
BEGIN:VTIMEZONE
TZID:America/Los_Angeles
BEGIN:DAYLIGHT
TZOFFSETFROM:-0800
TZOFFSETTO:-0700
TZNAME:PDT
DTSTART:20240310T100000
END:DAYLIGHT
BEGIN:STANDARD
TZOFFSETFROM:-0700
TZOFFSETTO:-0800
TZNAME:PST
DTSTART:20241103T090000
END:STANDARD
BEGIN:DAYLIGHT
TZOFFSETFROM:-0800
TZOFFSETTO:-0700
TZNAME:PDT
DTSTART:20250309T100000
END:DAYLIGHT
BEGIN:STANDARD
TZOFFSETFROM:-0700
TZOFFSETTO:-0800
TZNAME:PST
DTSTART:20251102T090000
END:STANDARD
BEGIN:DAYLIGHT
TZOFFSETFROM:-0800
TZOFFSETTO:-0700
TZNAME:PDT
DTSTART:20260308T100000
END:DAYLIGHT
BEGIN:STANDARD
TZOFFSETFROM:-0700
TZOFFSETTO:-0800
TZNAME:PST
DTSTART:20261101T090000
END:STANDARD
END:VTIMEZONE
BEGIN:VEVENT
DTSTART;TZID=America/Los_Angeles:20251103T170000
DTEND;TZID=America/Los_Angeles:20251103T200000
DTSTAMP:20260420T203038
CREATED:20250906T025502Z
LAST-MODIFIED:20250906T025502Z
UID:4300001745-1762189200-1762200000@nbhap.org
SUMMARY:Campus Surge 2025 - Piscataway
DESCRIPTION:
URL:https://nbhap.org/event/campus-surge-2025-piscataway/
LOCATION:Piscataway\, NJ\, Piscataway\, NJ\, United States
CATEGORIES:community or networking
END:VEVENT
BEGIN:VEVENT
DTSTART;TZID=America/Los_Angeles:20251106T110000
DTEND;TZID=America/Los_Angeles:20251106T140000
DTSTAMP:20260420T203038
CREATED:20251017T220557Z
LAST-MODIFIED:20251017T220557Z
UID:4300001941-1762426800-1762437600@nbhap.org
SUMMARY:November CO-PLA: Medicaid: Trends\, Changes\, and Predictions
DESCRIPTION:
URL:https://nbhap.org/event/november-co-pla-medicaid-trends-changes-and-predictions/
LOCATION:Denver\, CO\, Denver\, Colorado
CATEGORIES:community or networking
END:VEVENT
BEGIN:VEVENT
DTSTART;TZID=America/Los_Angeles:20251108T100000
DTEND;TZID=America/Los_Angeles:20251108T160000
DTSTAMP:20260420T203038
CREATED:20250905T232627Z
LAST-MODIFIED:20250906T015252Z
UID:4300001716-1762596000-1762617600@nbhap.org
SUMMARY:NEDA Care Fair - San Diego
DESCRIPTION:
URL:https://nbhap.org/event/neda-care-fair-san-diego/
LOCATION:San Diego\, CA\, San Diego\, California
CATEGORIES:community or networking
END:VEVENT
BEGIN:VEVENT
DTSTART;TZID=America/Los_Angeles:20251122T100000
DTEND;TZID=America/Los_Angeles:20251122T160000
DTSTAMP:20260420T203038
CREATED:20250905T232700Z
LAST-MODIFIED:20250906T015245Z
UID:4300001717-1763805600-1763827200@nbhap.org
SUMMARY:NEDA Care Fair - Houston
DESCRIPTION:
URL:https://nbhap.org/event/neda-care-fair-houston/
LOCATION:Houston\, TX\, Houston\, Texas
CATEGORIES:community or networking
END:VEVENT
END:VCALENDAR