BEGIN:VCALENDAR
VERSION:2.0
PRODID:-//National Behavioral Health Association of Providers (NBHAP) - ECPv6.15.20//NONSGML v1.0//EN
CALSCALE:GREGORIAN
METHOD:PUBLISH
X-ORIGINAL-URL:https://nbhap.org
X-WR-CALDESC:Events for National Behavioral Health Association of Providers (NBHAP)
REFRESH-INTERVAL;VALUE=DURATION:PT1H
X-Robots-Tag:noindex
X-PUBLISHED-TTL:PT1H
BEGIN:VTIMEZONE
TZID:America/Los_Angeles
BEGIN:DAYLIGHT
TZOFFSETFROM:-0800
TZOFFSETTO:-0700
TZNAME:PDT
DTSTART:20250309T100000
END:DAYLIGHT
BEGIN:STANDARD
TZOFFSETFROM:-0700
TZOFFSETTO:-0800
TZNAME:PST
DTSTART:20251102T090000
END:STANDARD
BEGIN:DAYLIGHT
TZOFFSETFROM:-0800
TZOFFSETTO:-0700
TZNAME:PDT
DTSTART:20260308T100000
END:DAYLIGHT
BEGIN:STANDARD
TZOFFSETFROM:-0700
TZOFFSETTO:-0800
TZNAME:PST
DTSTART:20261101T090000
END:STANDARD
BEGIN:DAYLIGHT
TZOFFSETFROM:-0800
TZOFFSETTO:-0700
TZNAME:PDT
DTSTART:20270314T100000
END:DAYLIGHT
BEGIN:STANDARD
TZOFFSETFROM:-0700
TZOFFSETTO:-0800
TZNAME:PST
DTSTART:20271107T090000
END:STANDARD
END:VTIMEZONE
BEGIN:VEVENT
DTSTART;TZID=America/Los_Angeles:20260304T110000
DTEND;TZID=America/Los_Angeles:20260304T130000
DTSTAMP:20260420T211242
CREATED:20260214T002710Z
LAST-MODIFIED:20260214T002710Z
UID:4300002225-1772622000-1772629200@nbhap.org
SUMMARY:March CO-PLA: Networking at Hazelden Betty Ford Children's Program
DESCRIPTION:
URL:https://nbhap.org/event/march-co-pla-networking-at-hazelden-betty-ford-childrens-program/
LOCATION:Greenwood Village\, CO\, Greenwood Village\, CO\, United States
CATEGORIES:community or networking
END:VEVENT
BEGIN:VEVENT
DTSTART;TZID=America/Los_Angeles:20260310T110000
DTEND;TZID=America/Los_Angeles:20260310T120000
DTSTAMP:20260420T211242
CREATED:20251214T173508Z
LAST-MODIFIED:20251214T173508Z
UID:4300002010-1773140400-1773144000@nbhap.org
SUMMARY:ROC 'Masterminds' Monthly Meeting
DESCRIPTION:
URL:https://nbhap.org/event/roc-masterminds-monthly-meeting-031026/
LOCATION:online
CATEGORIES:community or networking
END:VEVENT
END:VCALENDAR