BEGIN:VCALENDAR
VERSION:2.0
PRODID:-//National Behavioral Health Association of Providers (NBHAP) - ECPv6.15.20//NONSGML v1.0//EN
CALSCALE:GREGORIAN
METHOD:PUBLISH
X-WR-CALNAME:National Behavioral Health Association of Providers (NBHAP)
X-ORIGINAL-URL:https://nbhap.org
X-WR-CALDESC:Events for National Behavioral Health Association of Providers (NBHAP)
REFRESH-INTERVAL;VALUE=DURATION:PT1H
X-Robots-Tag:noindex
X-PUBLISHED-TTL:PT1H
BEGIN:VTIMEZONE
TZID:America/Los_Angeles
BEGIN:DAYLIGHT
TZOFFSETFROM:-0800
TZOFFSETTO:-0700
TZNAME:PDT
DTSTART:20240310T100000
END:DAYLIGHT
BEGIN:STANDARD
TZOFFSETFROM:-0700
TZOFFSETTO:-0800
TZNAME:PST
DTSTART:20241103T090000
END:STANDARD
BEGIN:DAYLIGHT
TZOFFSETFROM:-0800
TZOFFSETTO:-0700
TZNAME:PDT
DTSTART:20250309T100000
END:DAYLIGHT
BEGIN:STANDARD
TZOFFSETFROM:-0700
TZOFFSETTO:-0800
TZNAME:PST
DTSTART:20251102T090000
END:STANDARD
BEGIN:DAYLIGHT
TZOFFSETFROM:-0800
TZOFFSETTO:-0700
TZNAME:PDT
DTSTART:20260308T100000
END:DAYLIGHT
BEGIN:STANDARD
TZOFFSETFROM:-0700
TZOFFSETTO:-0800
TZNAME:PST
DTSTART:20261101T090000
END:STANDARD
END:VTIMEZONE
BEGIN:VEVENT
DTSTART;TZID=America/Los_Angeles:20250930T150000
DTEND;TZID=America/Los_Angeles:20250930T190000
DTSTAMP:20260420T185942
CREATED:20250906T024654Z
LAST-MODIFIED:20250906T024654Z
UID:4300001739-1759244400-1759258800@nbhap.org
SUMMARY:Campus Surge 2025 - Conway
DESCRIPTION:
URL:https://nbhap.org/event/campus-surge-2025-conway/
LOCATION:Conway\, AR\, Conway\, AR\, United States
CATEGORIES:community or networking
END:VEVENT
BEGIN:VEVENT
DTSTART;TZID=America/Los_Angeles:20250930T180000
DTEND;TZID=America/Los_Angeles:20250930T200000
DTSTAMP:20260420T185942
CREATED:20250906T024801Z
LAST-MODIFIED:20250906T024801Z
UID:4300001740-1759255200-1759262400@nbhap.org
SUMMARY:Greenville Technical College Recovering Alumni Appreciation Day
DESCRIPTION:
URL:https://nbhap.org/event/greenville-technical-college-recovering-alumni-appreciation-day/
LOCATION:Greenville\, SC\, Greenville\, SC\, United States
CATEGORIES:community or networking
END:VEVENT
END:VCALENDAR