BEGIN:VCALENDAR
VERSION:2.0
PRODID:-//National Behavioral Health Association of Providers (NBHAP) - ECPv6.15.20//NONSGML v1.0//EN
CALSCALE:GREGORIAN
METHOD:PUBLISH
X-ORIGINAL-URL:https://nbhap.org
X-WR-CALDESC:Events for National Behavioral Health Association of Providers (NBHAP)
REFRESH-INTERVAL;VALUE=DURATION:PT1H
X-Robots-Tag:noindex
X-PUBLISHED-TTL:PT1H
BEGIN:VTIMEZONE
TZID:America/Los_Angeles
BEGIN:DAYLIGHT
TZOFFSETFROM:-0800
TZOFFSETTO:-0700
TZNAME:PDT
DTSTART:20230312T100000
END:DAYLIGHT
BEGIN:STANDARD
TZOFFSETFROM:-0700
TZOFFSETTO:-0800
TZNAME:PST
DTSTART:20231105T090000
END:STANDARD
BEGIN:DAYLIGHT
TZOFFSETFROM:-0800
TZOFFSETTO:-0700
TZNAME:PDT
DTSTART:20240310T100000
END:DAYLIGHT
BEGIN:STANDARD
TZOFFSETFROM:-0700
TZOFFSETTO:-0800
TZNAME:PST
DTSTART:20241103T090000
END:STANDARD
BEGIN:DAYLIGHT
TZOFFSETFROM:-0800
TZOFFSETTO:-0700
TZNAME:PDT
DTSTART:20250309T100000
END:DAYLIGHT
BEGIN:STANDARD
TZOFFSETFROM:-0700
TZOFFSETTO:-0800
TZNAME:PST
DTSTART:20251102T090000
END:STANDARD
END:VTIMEZONE
BEGIN:VEVENT
DTSTART;VALUE=DATE:20240401
DTEND;VALUE=DATE:20240405
DTSTAMP:20260423T135116
CREATED:20230825T205611Z
LAST-MODIFIED:20230825T205611Z
UID:4300000883-1711929600-1712275199@nbhap.org
SUMMARY:2024 Rx Drug Abuse & Heroin Summit
DESCRIPTION:
URL:https://nbhap.org/event/2024-rx-drug-abuse-heroin-summit/
LOCATION:Atlanta\, GA\, Atlanta\, Georga
CATEGORIES:conference or summit
END:VEVENT
BEGIN:VEVENT
DTSTART;VALUE=DATE:20240404
DTEND;VALUE=DATE:20240406
DTSTAMP:20260423T135116
CREATED:20231215T232112Z
LAST-MODIFIED:20231215T232112Z
UID:4300000909-1712188800-1712361599@nbhap.org
SUMMARY:2024 Spring Conference
DESCRIPTION:
URL:https://nbhap.org/event/2024-spring-conference/
LOCATION:Norman\, OK\, Norman\, OK\, United States
CATEGORIES:conference or summit
END:VEVENT
BEGIN:VEVENT
DTSTART;VALUE=DATE:20240404
DTEND;VALUE=DATE:20240408
DTSTAMP:20260423T135116
CREATED:20231211T203416Z
LAST-MODIFIED:20231211T203416Z
UID:4300000905-1712188800-1712534399@nbhap.org
SUMMARY:2024 ASAM Annual Conference
DESCRIPTION:
URL:https://nbhap.org/event/2024-asam-annual-conference/
LOCATION:Dallas\, TX\, Dallas\, TX\, United States
CATEGORIES:conference or summit
END:VEVENT
BEGIN:VEVENT
DTSTART;VALUE=DATE:20240405
DTEND;VALUE=DATE:20240407
DTSTAMP:20260423T135116
CREATED:20240126T190933Z
LAST-MODIFIED:20240126T190933Z
UID:4300000920-1712275200-1712447999@nbhap.org
SUMMARY:SMART Recovery Conference
DESCRIPTION:
URL:https://nbhap.org/event/smart-recovery-conference/
LOCATION:Salt Lake City\, UT\, Salt Lake City\, Utah
CATEGORIES:conference or summit
END:VEVENT
BEGIN:VEVENT
DTSTART;VALUE=DATE:20240409
DTEND;VALUE=DATE:20240412
DTSTAMP:20260423T135116
CREATED:20231206T234439Z
LAST-MODIFIED:20231206T234439Z
UID:4300000899-1712620800-1712879999@nbhap.org
SUMMARY:2024 Positive Culture Framework Training
DESCRIPTION:
URL:https://nbhap.org/event/2024-positive-culture-framework-training/
LOCATION:Charlotte\, NC\, Charlotte\, North Carolina
CATEGORIES:conference or summit
END:VEVENT
BEGIN:VEVENT
DTSTART;VALUE=DATE:20240410
DTEND;VALUE=DATE:20240411
DTSTAMP:20260423T135116
CREATED:20240402T161833Z
LAST-MODIFIED:20240402T161833Z
UID:4300000952-1712707200-1712793599@nbhap.org
SUMMARY:April 2024 PreventionWorKS
DESCRIPTION:
URL:https://nbhap.org/event/april-2024-preventionworks/
LOCATION:Wichita\, KS\, Wichita\, Kansas
CATEGORIES:conference or summit
END:VEVENT
BEGIN:VEVENT
DTSTART;VALUE=DATE:20240411
DTEND;VALUE=DATE:20240412
DTSTAMP:20260423T135116
CREATED:20240207T181000Z
LAST-MODIFIED:20240207T181000Z
UID:4300000930-1712793600-1712879999@nbhap.org
SUMMARY:2024 ACMT Symposium
DESCRIPTION:
URL:https://nbhap.org/event/2024-acmt-symposium/
LOCATION:Washington\, DC\, Washington\, DC
CATEGORIES:conference or summit
END:VEVENT
BEGIN:VEVENT
DTSTART;VALUE=DATE:20240411
DTEND;VALUE=DATE:20240414
DTSTAMP:20260423T135116
CREATED:20240327T170749Z
LAST-MODIFIED:20240327T170749Z
UID:4300000946-1712793600-1713052799@nbhap.org
SUMMARY:2024 ACA Conference & Expo
DESCRIPTION:
URL:https://nbhap.org/event/2024-aca-conference-expo/
LOCATION:New Orleans\, LA\, New Orleans\, LA\, United States
CATEGORIES:conference or summit
END:VEVENT
BEGIN:VEVENT
DTSTART;VALUE=DATE:20240413
DTEND;VALUE=DATE:20240417
DTSTAMP:20260423T135116
CREATED:20230420T150145Z
LAST-MODIFIED:20230420T150145Z
UID:4300000856-1712966400-1713311999@nbhap.org
SUMMARY:Environments for Aging Expo & Conference 2024
DESCRIPTION:Speaker proposals due 06/27/23.
URL:https://nbhap.org/event/environments-for-aging-expo-conference-2024/
LOCATION:Atlanta\, GA\, Atlanta\, Georga
CATEGORIES:conference or summit
END:VEVENT
BEGIN:VEVENT
DTSTART;VALUE=DATE:20240415
DTEND;VALUE=DATE:20240418
DTSTAMP:20260423T135116
CREATED:20231128T202629Z
LAST-MODIFIED:20231128T202629Z
UID:4300000892-1713139200-1713398399@nbhap.org
SUMMARY:NatCon24
DESCRIPTION:
URL:https://nbhap.org/event/natcon24/
LOCATION:St. Louis\, MO\, St. Louis\, MO\, United States
CATEGORIES:conference or summit
END:VEVENT
BEGIN:VEVENT
DTSTART;VALUE=DATE:20240417
DTEND;VALUE=DATE:20240420
DTSTAMP:20260423T135116
CREATED:20231227T181838Z
LAST-MODIFIED:20231227T181838Z
UID:4300000914-1713312000-1713571199@nbhap.org
SUMMARY:Emerging Themes in Behavioral Health 2024
DESCRIPTION:
URL:https://nbhap.org/event/emerging-themes-in-behavioral-health-2024/
LOCATION:Los Angeles\, CA\, Los Angeles\, California
CATEGORIES:conference or summit
END:VEVENT
BEGIN:VEVENT
DTSTART;VALUE=DATE:20240419
DTEND;VALUE=DATE:20240421
DTSTAMP:20260423T135116
CREATED:20231031T193457Z
LAST-MODIFIED:20231031T193457Z
UID:4300000887-1713484800-1713657599@nbhap.org
SUMMARY:Addiction Medicine Conference 2024
DESCRIPTION:
URL:https://nbhap.org/event/addiction-medicine-conference-2024/
LOCATION:Asheville\, NC\, Asheville\, North Carolina
CATEGORIES:conference or summit
END:VEVENT
BEGIN:VEVENT
DTSTART;VALUE=DATE:20240419
DTEND;VALUE=DATE:20240422
DTSTAMP:20260423T135116
CREATED:20240410T155420Z
LAST-MODIFIED:20240410T155420Z
UID:4300000958-1713484800-1713743999@nbhap.org
SUMMARY:2024 Therapeutic + Applied Geek + Gaming Summit (TAGGS)
DESCRIPTION:
URL:https://nbhap.org/event/2024-therapeutic-applied-geek-gaming-summit-taggs/
LOCATION:online
CATEGORIES:conference or summit
ORGANIZER;CN="Geek Therapy":MAILTO:https://geektherapy.org/
END:VEVENT
BEGIN:VEVENT
DTSTART;VALUE=DATE:20240419
DTEND;VALUE=DATE:20240423
DTSTAMP:20260423T135116
CREATED:20231128T203506Z
LAST-MODIFIED:20231128T203506Z
UID:4300000893-1713484800-1713830399@nbhap.org
SUMMARY:GACA's 39th Spring Conference
DESCRIPTION:
URL:https://nbhap.org/event/gacas-39th-spring-conference/
LOCATION:online
CATEGORIES:conference or summit
END:VEVENT
END:VCALENDAR