BEGIN:VCALENDAR
VERSION:2.0
PRODID:-//National Behavioral Health Association of Providers (NBHAP) - ECPv6.15.20//NONSGML v1.0//EN
CALSCALE:GREGORIAN
METHOD:PUBLISH
X-WR-CALNAME:National Behavioral Health Association of Providers (NBHAP)
X-ORIGINAL-URL:https://nbhap.org
X-WR-CALDESC:Events for National Behavioral Health Association of Providers (NBHAP)
REFRESH-INTERVAL;VALUE=DURATION:PT1H
X-Robots-Tag:noindex
X-PUBLISHED-TTL:PT1H
BEGIN:VTIMEZONE
TZID:America/Los_Angeles
BEGIN:DAYLIGHT
TZOFFSETFROM:-0800
TZOFFSETTO:-0700
TZNAME:PDT
DTSTART:20240310T100000
END:DAYLIGHT
BEGIN:STANDARD
TZOFFSETFROM:-0700
TZOFFSETTO:-0800
TZNAME:PST
DTSTART:20241103T090000
END:STANDARD
BEGIN:DAYLIGHT
TZOFFSETFROM:-0800
TZOFFSETTO:-0700
TZNAME:PDT
DTSTART:20250309T100000
END:DAYLIGHT
BEGIN:STANDARD
TZOFFSETFROM:-0700
TZOFFSETTO:-0800
TZNAME:PST
DTSTART:20251102T090000
END:STANDARD
BEGIN:DAYLIGHT
TZOFFSETFROM:-0800
TZOFFSETTO:-0700
TZNAME:PDT
DTSTART:20260308T100000
END:DAYLIGHT
BEGIN:STANDARD
TZOFFSETFROM:-0700
TZOFFSETTO:-0800
TZNAME:PST
DTSTART:20261101T090000
END:STANDARD
END:VTIMEZONE
BEGIN:VEVENT
DTSTART;VALUE=DATE:20250303
DTEND;VALUE=DATE:20250306
DTSTAMP:20260420T224329
CREATED:20241205T001746Z
LAST-MODIFIED:20241205T001746Z
UID:4300001086-1740960000-1741219199@nbhap.org
SUMMARY:2025 National Brain Injury Conference and Awareness Day
DESCRIPTION:
URL:https://nbhap.org/event/2025-national-brain-injury-conference-and-awareness-day/
LOCATION:Arlington\, VA\, Arlington\, VA\, United States
CATEGORIES:conference or summit
END:VEVENT
BEGIN:VEVENT
DTSTART;VALUE=DATE:20250303
DTEND;VALUE=DATE:20250307
DTSTAMP:20260420T224329
CREATED:20250205T202159Z
LAST-MODIFIED:20250205T202159Z
UID:4300001168-1740960000-1741305599@nbhap.org
SUMMARY:HIMSS Global Health Conference & Exhibition 2025
DESCRIPTION:
URL:https://nbhap.org/event/himss-global-health-conference-exhibition-2025/
LOCATION:Las Vegas\, NV\, Las Vegas\, Nevada
CATEGORIES:conference or summit
END:VEVENT
BEGIN:VEVENT
DTSTART;VALUE=DATE:20250307
DTEND;VALUE=DATE:20250308
DTSTAMP:20260420T224329
CREATED:20250205T200506Z
LAST-MODIFIED:20250205T200506Z
UID:4300001159-1741305600-1741391999@nbhap.org
SUMMARY:Annual POWER Conference 2025
DESCRIPTION:Preconference: February 7\,l 2025
URL:https://nbhap.org/event/annual-power-conference-2025/
LOCATION:Wichita\, KS\, Wichita\, Kansas
CATEGORIES:conference or summit
END:VEVENT
BEGIN:VEVENT
DTSTART;VALUE=DATE:20250307
DTEND;VALUE=DATE:20250308
DTSTAMP:20260420T224329
CREATED:20250303T201123Z
LAST-MODIFIED:20250303T201123Z
UID:4300001254-1741305600-1741391999@nbhap.org
SUMMARY:Addiction Toxicology Case Conference 2025
DESCRIPTION:
URL:https://nbhap.org/event/addiction-toxicology-case-conference-2025/
LOCATION:online
CATEGORIES:conference or summit
END:VEVENT
BEGIN:VEVENT
DTSTART;VALUE=DATE:20250309
DTEND;VALUE=DATE:20250313
DTSTAMP:20260420T224329
CREATED:20250205T192515Z
LAST-MODIFIED:20250205T192515Z
UID:4300001147-1741478400-1741823999@nbhap.org
SUMMARY:PDC Summit 2025
DESCRIPTION:
URL:https://nbhap.org/event/pdc-summit-2025/
LOCATION:Atlanta\, GA\, Atlanta\, Georga
CATEGORIES:conference or summit
END:VEVENT
BEGIN:VEVENT
DTSTART;VALUE=DATE:20250314
DTEND;VALUE=DATE:20250316
DTSTAMP:20260420T224329
CREATED:20250124T232009Z
LAST-MODIFIED:20250124T232009Z
UID:4300001119-1741910400-1742083199@nbhap.org
SUMMARY:Elevate Your Impact 2025
DESCRIPTION:
URL:https://nbhap.org/event/elevate-your-impact-2025/
LOCATION:online
CATEGORIES:conference or summit
END:VEVENT
BEGIN:VEVENT
DTSTART;VALUE=DATE:20250314
DTEND;VALUE=DATE:20250317
DTSTAMP:20260420T224329
CREATED:20241205T002123Z
LAST-MODIFIED:20250205T161040Z
UID:4300001087-1741910400-1742169599@nbhap.org
SUMMARY:2025 Child & Adolescent Psychopharmacology
DESCRIPTION:
URL:https://nbhap.org/event/2025-child-adolescent-psychopharmacology/
LOCATION:Ko Olina\, HI\, Ko Olina\, HI\, United States
CATEGORIES:conference or summit
END:VEVENT
BEGIN:VEVENT
DTSTART;VALUE=DATE:20250317
DTEND;VALUE=DATE:20250322
DTSTAMP:20260420T224329
CREATED:20240517T210308Z
LAST-MODIFIED:20240517T210308Z
UID:4300000963-1742169600-1742601599@nbhap.org
SUMMARY:2025 Alabama School of Alcohol and Other Drug Studies
DESCRIPTION:
URL:https://nbhap.org/event/2025-alabama-school-of-alcohol-and-other-drug-studies/
LOCATION:Tuscaloosa\, AL\, Tuscaloosa\, AL\, United States
CATEGORIES:conference or summit
END:VEVENT
BEGIN:VEVENT
DTSTART;VALUE=DATE:20250319
DTEND;VALUE=DATE:20250321
DTSTAMP:20260420T224329
CREATED:20250205T200122Z
LAST-MODIFIED:20250220T231652Z
UID:4300001158-1742342400-1742515199@nbhap.org
SUMMARY:VALUE Conference 2025
DESCRIPTION:
URL:https://nbhap.org/event/value-conference-2025/
LOCATION:New Orleans\, LA\, New Orleans\, LA\, United States
CATEGORIES:conference or summit
END:VEVENT
BEGIN:VEVENT
DTSTART;VALUE=DATE:20250326
DTEND;VALUE=DATE:20250330
DTSTAMP:20260420T224329
CREATED:20250325T164955Z
LAST-MODIFIED:20250325T164955Z
UID:4300001322-1742947200-1743292799@nbhap.org
SUMMARY:DVW Behavioral Health Symposium 2025
DESCRIPTION:
URL:https://nbhap.org/event/dvw-behavioral-health-symposium-2025/
LOCATION:Irving\, TX\, Irving\, TX\, United States
CATEGORIES:conference or summit
END:VEVENT
BEGIN:VEVENT
DTSTART;VALUE=DATE:20250327
DTEND;VALUE=DATE:20250328
DTSTAMP:20260420T224329
CREATED:20250124T225948Z
LAST-MODIFIED:20250124T225948Z
UID:4300001112-1743033600-1743119999@nbhap.org
SUMMARY:2025 California Rural Health Conference
DESCRIPTION:
URL:https://nbhap.org/event/2025-california-rural-health-conference/
LOCATION:Folsom\, CA\, Folsom\, CA\, United States
CATEGORIES:conference or summit
END:VEVENT
BEGIN:VEVENT
DTSTART;VALUE=DATE:20250327
DTEND;VALUE=DATE:20250330
DTSTAMP:20260420T224329
CREATED:20240327T170830Z
LAST-MODIFIED:20240327T170830Z
UID:4300000947-1743033600-1743292799@nbhap.org
SUMMARY:2025 ACA Conference & Expo
DESCRIPTION:
URL:https://nbhap.org/event/2025-aca-conference-expo/
LOCATION:Orlando\, FL\, Orlando\, Florida
CATEGORIES:conference or summit
END:VEVENT
BEGIN:VEVENT
DTSTART;VALUE=DATE:20250328
DTEND;VALUE=DATE:20250330
DTSTAMP:20260420T224329
CREATED:20250221T000116Z
LAST-MODIFIED:20250221T000116Z
UID:4300001242-1743120000-1743292799@nbhap.org
SUMMARY:Spring 2025 Institute
DESCRIPTION:
URL:https://nbhap.org/event/spring-2025-institute/
LOCATION:New Orleans\, LA\, New Orleans\, LA\, United States
CATEGORIES:conference or summit
END:VEVENT
BEGIN:VEVENT
DTSTART;VALUE=DATE:20250331
DTEND;VALUE=DATE:20250403
DTSTAMP:20260420T224329
CREATED:20241001T205215Z
LAST-MODIFIED:20241001T210439Z
UID:4300001037-1743379200-1743638399@nbhap.org
SUMMARY:2025 Treatment Center Investment and Valuation Retreat (TCIV) - East
DESCRIPTION:Now in its 10th year\, TCIV West is the event for treatment center owners and senior executives aiming to accelerate business growth. Whether your focus is on organic growth strategies or navigating mergers and acquisitions\, TCIV West provides valuable insights and actionable strategies tailored specifically for senior executives and financial professionals. \nBuild and maintain relationships with industry leaders\, including financiers and investors\, and gain firsthand knowledge of what’s working in their organizations. Experience immersive learning\, dynamic networking\, and transformative growth opportunities at the longest-running event of its kind. If you’re looking to elevate your business\, TCIV West is the event you can’t afford to miss. From the golf tournament to daily networking opportunities and educational sessions\, every moment spent at TCIV West is an investment in your business’s future.
URL:https://nbhap.org/event/2025-treatment-center-investment-and-valuation-retreat-tciv-east/
LOCATION:Palm Beach Gardens\, FL\, Palm Beach Gardens\, FL\, United States
CATEGORIES:conference or summit,partner event
END:VEVENT
END:VCALENDAR