BEGIN:VCALENDAR
VERSION:2.0
PRODID:-//National Behavioral Health Association of Providers (NBHAP) - ECPv6.15.20//NONSGML v1.0//EN
CALSCALE:GREGORIAN
METHOD:PUBLISH
X-WR-CALNAME:National Behavioral Health Association of Providers (NBHAP)
X-ORIGINAL-URL:https://nbhap.org
X-WR-CALDESC:Events for National Behavioral Health Association of Providers (NBHAP)
REFRESH-INTERVAL;VALUE=DURATION:PT1H
X-Robots-Tag:noindex
X-PUBLISHED-TTL:PT1H
BEGIN:VTIMEZONE
TZID:America/Los_Angeles
BEGIN:DAYLIGHT
TZOFFSETFROM:-0800
TZOFFSETTO:-0700
TZNAME:PDT
DTSTART:20240310T100000
END:DAYLIGHT
BEGIN:STANDARD
TZOFFSETFROM:-0700
TZOFFSETTO:-0800
TZNAME:PST
DTSTART:20241103T090000
END:STANDARD
BEGIN:DAYLIGHT
TZOFFSETFROM:-0800
TZOFFSETTO:-0700
TZNAME:PDT
DTSTART:20250309T100000
END:DAYLIGHT
BEGIN:STANDARD
TZOFFSETFROM:-0700
TZOFFSETTO:-0800
TZNAME:PST
DTSTART:20251102T090000
END:STANDARD
BEGIN:DAYLIGHT
TZOFFSETFROM:-0800
TZOFFSETTO:-0700
TZNAME:PDT
DTSTART:20260308T100000
END:DAYLIGHT
BEGIN:STANDARD
TZOFFSETFROM:-0700
TZOFFSETTO:-0800
TZNAME:PST
DTSTART:20261101T090000
END:STANDARD
END:VTIMEZONE
BEGIN:VEVENT
DTSTART;VALUE=DATE:20250331
DTEND;VALUE=DATE:20250403
DTSTAMP:20260420T211159
CREATED:20241001T205215Z
LAST-MODIFIED:20241001T210439Z
UID:4300001037-1743379200-1743638399@nbhap.org
SUMMARY:2025 Treatment Center Investment and Valuation Retreat (TCIV) - East
DESCRIPTION:Now in its 10th year\, TCIV West is the event for treatment center owners and senior executives aiming to accelerate business growth. Whether your focus is on organic growth strategies or navigating mergers and acquisitions\, TCIV West provides valuable insights and actionable strategies tailored specifically for senior executives and financial professionals. \nBuild and maintain relationships with industry leaders\, including financiers and investors\, and gain firsthand knowledge of what’s working in their organizations. Experience immersive learning\, dynamic networking\, and transformative growth opportunities at the longest-running event of its kind. If you’re looking to elevate your business\, TCIV West is the event you can’t afford to miss. From the golf tournament to daily networking opportunities and educational sessions\, every moment spent at TCIV West is an investment in your business’s future.
URL:https://nbhap.org/event/2025-treatment-center-investment-and-valuation-retreat-tciv-east/
LOCATION:Palm Beach Gardens\, FL\, Palm Beach Gardens\, FL\, United States
CATEGORIES:conference or summit,partner event
END:VEVENT
BEGIN:VEVENT
DTSTART;VALUE=DATE:20250401
DTEND;VALUE=DATE:20250403
DTSTAMP:20260420T211159
CREATED:20250305T223812Z
LAST-MODIFIED:20250305T223812Z
UID:4300001274-1743465600-1743638399@nbhap.org
SUMMARY:11th Annual Addiction Leadership Conference
DESCRIPTION:Get prepared by CCAPP Vice President of Governmental Affairs\, Sherry Daley\, on innovative ways to speak with your representative in person. \nCEOs\, executives\, and directors will gain a comprehensive understanding about admissions and marketing. \nAddiction and behavioral health professionals will earn up to 18 hours of continuing education\, which includes six hours in ethics.
URL:https://nbhap.org/event/11th-annual-addiction-leadership-conference/
LOCATION:Sacramento\, CA\, Sacramento\, California
CATEGORIES:conference or summit,partner event
END:VEVENT
BEGIN:VEVENT
DTSTART;VALUE=DATE:20250401
DTEND;VALUE=DATE:20250403
DTSTAMP:20260420T211159
CREATED:20250311T232649Z
LAST-MODIFIED:20250311T232649Z
UID:4300001275-1743465600-1743638399@nbhap.org
SUMMARY:2025 Addiction Leadership Conference (ALC)
DESCRIPTION:Earn up to 18 CEs\, including 6 hours of ethics; get prepared on innovative ways to speak to your representative on advocacy issues; and more!
URL:https://nbhap.org/event/2025-addiction-leadership-conference-alc/
LOCATION:Sacramento\, CA\, Sacramento\, California
CATEGORIES:conference or summit,partner event
END:VEVENT
BEGIN:VEVENT
DTSTART;VALUE=DATE:20250407
DTEND;VALUE=DATE:20250410
DTSTAMP:20260420T211159
CREATED:20240805T181907Z
LAST-MODIFIED:20240805T181907Z
UID:4300000984-1743984000-1744243199@nbhap.org
SUMMARY:2025 Autism Investor Summit
DESCRIPTION:Speaker proposals due 11/01/24.
URL:https://nbhap.org/event/2025-autism-investor-summit/
LOCATION:Los Angeles\, CA\, Los Angeles\, California
CATEGORIES:conference or summit
END:VEVENT
BEGIN:VEVENT
DTSTART;VALUE=DATE:20250408
DTEND;VALUE=DATE:20250409
DTSTAMP:20260420T211159
CREATED:20250205T212523Z
LAST-MODIFIED:20250205T212523Z
UID:4300001195-1744070400-1744156799@nbhap.org
SUMMARY:KADEC (Kansas Alliance for Drug Endangered Children) Conference
DESCRIPTION:
URL:https://nbhap.org/event/kadec-kansas-alliance-for-drug-endangered-children-conference/
LOCATION:Manhattan\, KS\, Manhattan\, KS\, United States
CATEGORIES:conference or summit
END:VEVENT
BEGIN:VEVENT
DTSTART;VALUE=DATE:20250409
DTEND;VALUE=DATE:20250413
DTSTAMP:20260420T211159
CREATED:20250312T201428Z
LAST-MODIFIED:20250312T201428Z
UID:4300001276-1744156800-1744502399@nbhap.org
SUMMARY:2025 TPAS Spring Collaborative
DESCRIPTION:
URL:https://nbhap.org/event/2025-tpas-spring-collaborative/
LOCATION:Jacksonville\, FL\, Jacksonville\, FL\, United States
CATEGORIES:conference or summit
END:VEVENT
BEGIN:VEVENT
DTSTART;VALUE=DATE:20250411
DTEND;VALUE=DATE:20250413
DTSTAMP:20260420T211159
CREATED:20250124T232640Z
LAST-MODIFIED:20250124T232640Z
UID:4300001121-1744329600-1744502399@nbhap.org
SUMMARY:2025 Addiction Medicine Conference
DESCRIPTION:
URL:https://nbhap.org/event/2025-addiction-medicine-conference/
LOCATION:Asheville\, NC\, Asheville\, North Carolina
CATEGORIES:conference or summit
END:VEVENT
BEGIN:VEVENT
DTSTART;VALUE=DATE:20250421
DTEND;VALUE=DATE:20250425
DTSTAMP:20260420T211159
CREATED:20240703T221001Z
LAST-MODIFIED:20250106T213916Z
UID:4300000972-1745193600-1745539199@nbhap.org
SUMMARY:2025 Rx Drug Abuse & Heroin Summit
DESCRIPTION:Rx and Illicit Drug Summit is the largest\, most influential event addressing this crisis\, where strategies are shared and put into action. Their global community includes multidisciplinary stakeholders “from federal to family.” As they enter our 14th year\, their mission has become increasingly important — we can’t afford to lose more lives. It’s time to turn the numbers around.
URL:https://nbhap.org/event/2025-rx-drug-abuse-heroin-summit/
LOCATION:Nashville\, TN\, Nashville\, Tennessee
CATEGORIES:conference or summit,partner event
END:VEVENT
BEGIN:VEVENT
DTSTART;VALUE=DATE:20250421
DTEND;VALUE=DATE:20250425
DTSTAMP:20260420T211159
CREATED:20241022T221717Z
LAST-MODIFIED:20241022T221717Z
UID:4300001055-1745193600-1745539199@nbhap.org
SUMMARY:On Aging 2025
DESCRIPTION:
URL:https://nbhap.org/event/on-aging-2025/
LOCATION:Orlando\, FL\, Orlando\, Florida
CATEGORIES:conference or summit
END:VEVENT
BEGIN:VEVENT
DTSTART;VALUE=DATE:20250422
DTEND;VALUE=DATE:20250424
DTSTAMP:20260420T211159
CREATED:20250205T213102Z
LAST-MODIFIED:20250205T213102Z
UID:4300001196-1745280000-1745452799@nbhap.org
SUMMARY:Emergency Management Conference
DESCRIPTION:
URL:https://nbhap.org/event/emergency-management-conference/
LOCATION:Orlando\, FL\, Orlando\, Florida
CATEGORIES:conference or summit
END:VEVENT
BEGIN:VEVENT
DTSTART;VALUE=DATE:20250424
DTEND;VALUE=DATE:20250426
DTSTAMP:20260420T211159
CREATED:20250124T223512Z
LAST-MODIFIED:20250124T224235Z
UID:4300001109-1745452800-1745625599@nbhap.org
SUMMARY:2025 Spring Conference
DESCRIPTION:This is an excellent opportunity to engage with industry leaders\, attend insightful sessions\, and network with peers. Don’t miss out on the chance to enhance your knowledge and expand your professional connections. Earn up to 12 CEU hours and 3 ethics hours.
URL:https://nbhap.org/event/2025-spring-conference/
LOCATION:Oklahoma City\, OK\, Oklahoma City\, OK\, United States
CATEGORIES:conference or summit,partner event
END:VEVENT
BEGIN:VEVENT
DTSTART;VALUE=DATE:20250424
DTEND;VALUE=DATE:20250428
DTSTAMP:20260420T211159
CREATED:20241022T223511Z
LAST-MODIFIED:20241022T223511Z
UID:4300001061-1745452800-1745798399@nbhap.org
SUMMARY:ASAM Annual Conference 2025
DESCRIPTION:
URL:https://nbhap.org/event/asam-annual-conference-2025/
LOCATION:Denver\, CO\, Denver\, Colorado
CATEGORIES:conference or summit
END:VEVENT
BEGIN:VEVENT
DTSTART;VALUE=DATE:20250424
DTEND;VALUE=DATE:20250429
DTSTAMP:20260420T211159
CREATED:20250124T225646Z
LAST-MODIFIED:20250205T205225Z
UID:4300001111-1745452800-1745884799@nbhap.org
SUMMARY:GACA's Spring Conference 2025
DESCRIPTION:
URL:https://nbhap.org/event/gacas-spring-conference-2025/
LOCATION:online
CATEGORIES:conference or summit
END:VEVENT
BEGIN:VEVENT
DTSTART;VALUE=DATE:20250430
DTEND;VALUE=DATE:20250503
DTSTAMP:20260420T211159
CREATED:20241207T001604Z
LAST-MODIFIED:20241207T001604Z
UID:4300001090-1745971200-1746230399@nbhap.org
SUMMARY:2025 Emerging Themes in Behavioral Health
DESCRIPTION:
URL:https://nbhap.org/event/2025-emerging-themes-in-behavioral-health/
LOCATION:Los Angeles\, CA\, Los Angeles\, California
CATEGORIES:conference or summit,partner event
END:VEVENT
END:VCALENDAR