BEGIN:VCALENDAR
VERSION:2.0
PRODID:-//National Behavioral Health Association of Providers (NBHAP) - ECPv6.15.20//NONSGML v1.0//EN
CALSCALE:GREGORIAN
METHOD:PUBLISH
X-ORIGINAL-URL:https://nbhap.org
X-WR-CALDESC:Events for National Behavioral Health Association of Providers (NBHAP)
REFRESH-INTERVAL;VALUE=DURATION:PT1H
X-Robots-Tag:noindex
X-PUBLISHED-TTL:PT1H
BEGIN:VTIMEZONE
TZID:America/Los_Angeles
BEGIN:DAYLIGHT
TZOFFSETFROM:-0800
TZOFFSETTO:-0700
TZNAME:PDT
DTSTART:20240310T100000
END:DAYLIGHT
BEGIN:STANDARD
TZOFFSETFROM:-0700
TZOFFSETTO:-0800
TZNAME:PST
DTSTART:20241103T090000
END:STANDARD
BEGIN:DAYLIGHT
TZOFFSETFROM:-0800
TZOFFSETTO:-0700
TZNAME:PDT
DTSTART:20250309T100000
END:DAYLIGHT
BEGIN:STANDARD
TZOFFSETFROM:-0700
TZOFFSETTO:-0800
TZNAME:PST
DTSTART:20251102T090000
END:STANDARD
BEGIN:DAYLIGHT
TZOFFSETFROM:-0800
TZOFFSETTO:-0700
TZNAME:PDT
DTSTART:20260308T100000
END:DAYLIGHT
BEGIN:STANDARD
TZOFFSETFROM:-0700
TZOFFSETTO:-0800
TZNAME:PST
DTSTART:20261101T090000
END:STANDARD
END:VTIMEZONE
BEGIN:VEVENT
DTSTART;VALUE=DATE:20251103
DTEND;VALUE=DATE:20251105
DTSTAMP:20260420T071449
CREATED:20250721T212232Z
LAST-MODIFIED:20250721T212232Z
UID:4300001639-1762128000-1762300799@nbhap.org
SUMMARY:2025 Northeast Regional Conference
DESCRIPTION:Titled: Influence to Impact: Changing the Narrative. Tools\, trends and strategies for the future of admissions and marketing in today’s world.  \nSet in beautiful Vermont\, participants will network\, learn\, share\, and tour some of the strongest therapeutic schools and programs in the area. Join colleagues\, peers\, vendors\, professionals\, clinicians\, and most importantly\, friends in this exceptional venue. Full details on sessions\, CEUs\, venue\, and opportunities to follow soon.
URL:https://nbhap.org/event/2025-northeast-regional-conference/
LOCATION:Burlington\, VT\, Burlington\, VT\, United States
CATEGORIES:conference or summit,partner event
END:VEVENT
BEGIN:VEVENT
DTSTART;VALUE=DATE:20251103
DTEND;VALUE=DATE:20251106
DTSTAMP:20260420T071449
CREATED:20250627T204312Z
LAST-MODIFIED:20250627T204312Z
UID:4300001617-1762128000-1762387199@nbhap.org
SUMMARY:eCap25 Healthcare Summit
DESCRIPTION:
URL:https://nbhap.org/event/ecap25-healthcare-summit/
LOCATION:Phoenix\, AZ\, Phoenix\, AZ\, United States
CATEGORIES:conference or summit
END:VEVENT
BEGIN:VEVENT
DTSTART;VALUE=DATE:20251105
DTEND;VALUE=DATE:20251108
DTSTAMP:20260420T071449
CREATED:20251017T215949Z
LAST-MODIFIED:20251017T215959Z
UID:4300001932-1762300800-1762559999@nbhap.org
SUMMARY:Celebrating Families! National Online Group Leader Training
DESCRIPTION:
URL:https://nbhap.org/event/celebrating-families-national-online-group-leader-training-2/
LOCATION:online
CATEGORIES:conference or summit
END:VEVENT
BEGIN:VEVENT
DTSTART;VALUE=DATE:20251106
DTEND;VALUE=DATE:20251109
DTSTAMP:20260420T071449
CREATED:20250612T013522Z
LAST-MODIFIED:20250612T013522Z
UID:4300001603-1762387200-1762646399@nbhap.org
SUMMARY:Lee FitzGerald's 15th Annual London Workshop
DESCRIPTION:
URL:https://nbhap.org/event/lee-fitzgeralds-15th-annual-london-workshop/
LOCATION:London\, England\, London\, England\, United Kingdom
CATEGORIES:conference or summit
END:VEVENT
BEGIN:VEVENT
DTSTART;VALUE=DATE:20251106
DTEND;VALUE=DATE:20251110
DTSTAMP:20260420T071449
CREATED:20250907T044844Z
LAST-MODIFIED:20250907T044844Z
UID:4300001851-1762387200-1762732799@nbhap.org
SUMMARY:NEPG 2025
DESCRIPTION:
URL:https://nbhap.org/event/nepg-2025/
LOCATION:Kennebunkport\, ME\, Kennebunkport\, ME\, United States
CATEGORIES:conference or summit
END:VEVENT
BEGIN:VEVENT
DTSTART;VALUE=DATE:20251107
DTEND;VALUE=DATE:20251109
DTSTAMP:20260420T071449
CREATED:20251017T214925Z
LAST-MODIFIED:20251017T214925Z
UID:4300001919-1762473600-1762646399@nbhap.org
SUMMARY:2025 GACA Family Support Training Summit
DESCRIPTION:
URL:https://nbhap.org/event/2025-gaca-family-support-training-summit/
LOCATION:Atlanta\, GA\, Atlanta\, Georga
CATEGORIES:conference or summit
END:VEVENT
BEGIN:VEVENT
DTSTART;VALUE=DATE:20251107
DTEND;VALUE=DATE:20251112
DTSTAMP:20260420T071449
CREATED:20250529T224344Z
LAST-MODIFIED:20250529T224344Z
UID:4300001585-1762473600-1762905599@nbhap.org
SUMMARY:2025 The Liver Meeting
DESCRIPTION:
URL:https://nbhap.org/event/2025-the-liver-meeting/
LOCATION:Washington\, DC\, Washington\, DC
CATEGORIES:conference or summit
END:VEVENT
BEGIN:VEVENT
DTSTART;TZID=America/Los_Angeles:20251109T080000
DTEND;TZID=America/Los_Angeles:20251109T153000
DTSTAMP:20260420T071449
CREATED:20251017T214625Z
LAST-MODIFIED:20251017T214625Z
UID:4300001915-1762675200-1762702200@nbhap.org
SUMMARY:2025 OTPG Conference
DESCRIPTION:
URL:https://nbhap.org/event/2025-otpg-conference/
LOCATION:Atlanta\, GA\, Atlanta\, Georga
CATEGORIES:conference or summit
END:VEVENT
BEGIN:VEVENT
DTSTART;VALUE=DATE:20251110
DTEND;VALUE=DATE:20251112
DTSTAMP:20260420T071449
CREATED:20250906T025613Z
LAST-MODIFIED:20250906T025613Z
UID:4300001746-1762732800-1762905599@nbhap.org
SUMMARY:Kentucky Recovery Summit
DESCRIPTION:
URL:https://nbhap.org/event/kentucky-recovery-summit/
LOCATION:Richmond\, KY\, Richmond\, KY\, United States
CATEGORIES:conference or summit
END:VEVENT
BEGIN:VEVENT
DTSTART;VALUE=DATE:20251111
DTEND;VALUE=DATE:20251112
DTSTAMP:20260420T071449
CREATED:20250303T204421Z
LAST-MODIFIED:20250617T161919Z
UID:4300001266-1762819200-1762905599@nbhap.org
SUMMARY:Behavioral Health Tech Conference 2025
DESCRIPTION:BHT2025 brings together passionate individuals who are committed to making behavioral health more accessible and impactful. Whether you’re a provider\, innovator\, or advocate\, this conference is designed for those who believe in the power of technology and collaboration to drive real change. \nYou never know which conversation will be the ripple point that sparks a wave of transformation\, so join us to connect with like-minded leaders\, gain practical insights\, and be part of a community dedicated to shaping the future of behavioral health.
URL:https://nbhap.org/event/behavioral-health-tech-conference-2025/
LOCATION:San Diego\, CA\, San Diego\, California
CATEGORIES:conference or summit,partner event
END:VEVENT
BEGIN:VEVENT
DTSTART;VALUE=DATE:20251112
DTEND;VALUE=DATE:20251116
DTSTAMP:20260420T071449
CREATED:20250124T231414Z
LAST-MODIFIED:20250124T231414Z
UID:4300001117-1762905600-1763251199@nbhap.org
SUMMARY:2025 International Drug Policy Reform Conference
DESCRIPTION:
URL:https://nbhap.org/event/2025-international-drug-policy-reform-conference/
LOCATION:Detroit\, MI\, Detroit\, MI\, United States
CATEGORIES:conference or summit
END:VEVENT
BEGIN:VEVENT
DTSTART;VALUE=DATE:20251113
DTEND;VALUE=DATE:20251116
DTSTAMP:20260420T071449
CREATED:20250327T183846Z
LAST-MODIFIED:20250327T183846Z
UID:4300001358-1762992000-1763251199@nbhap.org
SUMMARY:2025 AMERSA Annual National Conference
DESCRIPTION:
URL:https://nbhap.org/event/2025-amersa-annual-national-conference/
LOCATION:Portland\, OR\, Portland\, Oregon
CATEGORIES:conference or summit
END:VEVENT
BEGIN:VEVENT
DTSTART;VALUE=DATE:20251114
DTEND;VALUE=DATE:20251116
DTSTAMP:20260420T071449
CREATED:20250124T231015Z
LAST-MODIFIED:20250124T231015Z
UID:4300001116-1763078400-1763251199@nbhap.org
SUMMARY:2025 Psychedelics and Psychedelic Medicine
DESCRIPTION:
URL:https://nbhap.org/event/2025-psychedelics-and-psychedelic-medicine/
LOCATION:online
CATEGORIES:conference or summit
END:VEVENT
BEGIN:VEVENT
DTSTART;TZID=America/Los_Angeles:20251119T081500
DTEND;TZID=America/Los_Angeles:20251119T154500
DTSTAMP:20260420T071449
CREATED:20250905T225120Z
LAST-MODIFIED:20250906T015003Z
UID:4300001703-1763540100-1763567100@nbhap.org
SUMMARY:2025 Autism Investor Summit East
DESCRIPTION:
URL:https://nbhap.org/event/2025-autism-investor-summit-east/
LOCATION:Arlington\, VA\, Arlington\, VA\, United States
CATEGORIES:conference or summit
END:VEVENT
BEGIN:VEVENT
DTSTART;VALUE=DATE:20251121
DTEND;VALUE=DATE:20251124
DTSTAMP:20260420T071449
CREATED:20250907T045536Z
LAST-MODIFIED:20250907T045536Z
UID:4300001852-1763683200-1763942399@nbhap.org
SUMMARY:Recovery with Yoga: Healing and Transformation
DESCRIPTION:
URL:https://nbhap.org/event/recovery-with-yoga-healing-and-transformation/
LOCATION:Scotts Valley\, CA\, Scotts Valley\, CA\, United States
CATEGORIES:conference or summit
END:VEVENT
BEGIN:VEVENT
DTSTART;TZID=America/Los_Angeles:20251124T090000
DTEND;TZID=America/Los_Angeles:20251124T140000
DTSTAMP:20260420T071449
CREATED:20250906T052359Z
LAST-MODIFIED:20250906T052359Z
UID:4300001787-1763974800-1763992800@nbhap.org
SUMMARY:Business Addiction Conference
DESCRIPTION:
URL:https://nbhap.org/event/business-addiction-conference/
LOCATION:Riviera Beach\, FL\, Riviera Beach\, Florida
CATEGORIES:conference or summit
END:VEVENT
END:VCALENDAR