BEGIN:VCALENDAR
VERSION:2.0
PRODID:-//National Behavioral Health Association of Providers (NBHAP) - ECPv6.15.20//NONSGML v1.0//EN
CALSCALE:GREGORIAN
METHOD:PUBLISH
X-ORIGINAL-URL:https://nbhap.org
X-WR-CALDESC:Events for National Behavioral Health Association of Providers (NBHAP)
REFRESH-INTERVAL;VALUE=DURATION:PT1H
X-Robots-Tag:noindex
X-PUBLISHED-TTL:PT1H
BEGIN:VTIMEZONE
TZID:America/Los_Angeles
BEGIN:DAYLIGHT
TZOFFSETFROM:-0800
TZOFFSETTO:-0700
TZNAME:PDT
DTSTART:20250309T100000
END:DAYLIGHT
BEGIN:STANDARD
TZOFFSETFROM:-0700
TZOFFSETTO:-0800
TZNAME:PST
DTSTART:20251102T090000
END:STANDARD
BEGIN:DAYLIGHT
TZOFFSETFROM:-0800
TZOFFSETTO:-0700
TZNAME:PDT
DTSTART:20260308T100000
END:DAYLIGHT
BEGIN:STANDARD
TZOFFSETFROM:-0700
TZOFFSETTO:-0800
TZNAME:PST
DTSTART:20261101T090000
END:STANDARD
BEGIN:DAYLIGHT
TZOFFSETFROM:-0800
TZOFFSETTO:-0700
TZNAME:PDT
DTSTART:20270314T100000
END:DAYLIGHT
BEGIN:STANDARD
TZOFFSETFROM:-0700
TZOFFSETTO:-0800
TZNAME:PST
DTSTART:20271107T090000
END:STANDARD
END:VTIMEZONE
BEGIN:VEVENT
DTSTART;VALUE=DATE:20260105
DTEND;VALUE=DATE:20260217
DTSTAMP:20260420T040312
CREATED:20251214T193021Z
LAST-MODIFIED:20251214T193021Z
UID:4300002047-1767571200-1771286399@nbhap.org
SUMMARY:Stress and the Relaxation Response: The Fundamentals of Mind Body Medicine
DESCRIPTION:
URL:https://nbhap.org/event/stress-and-the-relaxation-response-the-fundamentals-of-mind-body-medicine-2/
LOCATION:online
CATEGORIES:conference or summit
END:VEVENT
BEGIN:VEVENT
DTSTART;VALUE=DATE:20260107
DTEND;VALUE=DATE:20260108
DTSTAMP:20260420T040312
CREATED:20250303T201619Z
LAST-MODIFIED:20251216T193622Z
UID:4300001256-1767744000-1767830399@nbhap.org
SUMMARY:Evive Summit 2026
DESCRIPTION:The Evive Summit is the premier event for ownership-level leaders in the drug rehab and addiction treatment industry. This high-impact gathering offers exhibitors the chance to connect directly with decision-makers\, showcase innovative solutions\, and engage with key influencers shaping the future of addiction recovery. Don’t miss the opportunity to be part of this dynamic experience and expand your reach in a rapidly evolving market.
URL:https://nbhap.org/event/evive-summit-2026/
LOCATION:East Rutherford\, NJ\, East Rutherford\, NJ\, United States
CATEGORIES:conference or summit,partner event
END:VEVENT
BEGIN:VEVENT
DTSTART;TZID=America/Los_Angeles:20260116T090000
DTEND;TZID=America/Los_Angeles:20260116T130000
DTSTAMP:20260420T040312
CREATED:20251214T193759Z
LAST-MODIFIED:20251214T193759Z
UID:4300002049-1768554000-1768568400@nbhap.org
SUMMARY:2026 Lydia Norie Oral Exam Workshops
DESCRIPTION:
URL:https://nbhap.org/event/2026-lydia-norie-oral-exam-workshops/
LOCATION:Oklahoma City\, OK\, Oklahoma City\, OK\, United States
CATEGORIES:conference or summit
END:VEVENT
BEGIN:VEVENT
DTSTART;TZID=America/Los_Angeles:20260117T131500
DTEND;TZID=America/Los_Angeles:20260117T141500
DTSTAMP:20260420T040312
CREATED:20251217T232050Z
LAST-MODIFIED:20251217T232050Z
UID:4300002062-1768655700-1768659300@nbhap.org
SUMMARY:APSARD 2026 Symposium
DESCRIPTION:
URL:https://nbhap.org/event/apsard-2026-symposium/
LOCATION:San Diego\, CA\, San Diego\, California
CATEGORIES:conference or summit
END:VEVENT
BEGIN:VEVENT
DTSTART;VALUE=DATE:20260122
DTEND;VALUE=DATE:20260124
DTSTAMP:20260420T040312
CREATED:20250906T043135Z
LAST-MODIFIED:20250906T043135Z
UID:4300001771-1769040000-1769212799@nbhap.org
SUMMARY:2026 Suicide Prevention Education Summit
DESCRIPTION:
URL:https://nbhap.org/event/2026-suicide-prevention-education-summit/
LOCATION:Plymouth\, MI\, Plymouth\, MI\, United States
CATEGORIES:conference or summit
END:VEVENT
BEGIN:VEVENT
DTSTART;VALUE=DATE:20260126
DTEND;VALUE=DATE:20260131
DTSTAMP:20260420T040312
CREATED:20251017T214848Z
LAST-MODIFIED:20251017T214848Z
UID:4300001918-1769385600-1769817599@nbhap.org
SUMMARY:Montana Winter Institute
DESCRIPTION:
URL:https://nbhap.org/event/montana-winter-institute/
LOCATION:online
CATEGORIES:conference or summit
END:VEVENT
BEGIN:VEVENT
DTSTART;VALUE=DATE:20260129
DTEND;VALUE=DATE:20260131
DTSTAMP:20260420T040312
CREATED:20250321T224157Z
LAST-MODIFIED:20250321T224157Z
UID:4300001308-1769644800-1769817599@nbhap.org
SUMMARY:2026 Annual Gulf Coast Social Work Conference
DESCRIPTION:
URL:https://nbhap.org/event/2026-annual-gulf-coast-social-work-conference/
LOCATION:Biloxi\, MS\, Biloxi\, MS\, United States
CATEGORIES:conference or summit
END:VEVENT
END:VCALENDAR