BEGIN:VCALENDAR
VERSION:2.0
PRODID:-//National Behavioral Health Association of Providers (NBHAP) - ECPv6.15.20//NONSGML v1.0//EN
CALSCALE:GREGORIAN
METHOD:PUBLISH
X-WR-CALNAME:National Behavioral Health Association of Providers (NBHAP)
X-ORIGINAL-URL:https://nbhap.org
X-WR-CALDESC:Events for National Behavioral Health Association of Providers (NBHAP)
REFRESH-INTERVAL;VALUE=DURATION:PT1H
X-Robots-Tag:noindex
X-PUBLISHED-TTL:PT1H
BEGIN:VTIMEZONE
TZID:America/Los_Angeles
BEGIN:DAYLIGHT
TZOFFSETFROM:-0800
TZOFFSETTO:-0700
TZNAME:PDT
DTSTART:20250309T100000
END:DAYLIGHT
BEGIN:STANDARD
TZOFFSETFROM:-0700
TZOFFSETTO:-0800
TZNAME:PST
DTSTART:20251102T090000
END:STANDARD
BEGIN:DAYLIGHT
TZOFFSETFROM:-0800
TZOFFSETTO:-0700
TZNAME:PDT
DTSTART:20260308T100000
END:DAYLIGHT
BEGIN:STANDARD
TZOFFSETFROM:-0700
TZOFFSETTO:-0800
TZNAME:PST
DTSTART:20261101T090000
END:STANDARD
BEGIN:DAYLIGHT
TZOFFSETFROM:-0800
TZOFFSETTO:-0700
TZNAME:PDT
DTSTART:20270314T100000
END:DAYLIGHT
BEGIN:STANDARD
TZOFFSETFROM:-0700
TZOFFSETTO:-0800
TZNAME:PST
DTSTART:20271107T090000
END:STANDARD
END:VTIMEZONE
BEGIN:VEVENT
DTSTART;VALUE=DATE:20260226
DTEND;VALUE=DATE:20260302
DTSTAMP:20260419T224808
CREATED:20260202T000554Z
LAST-MODIFIED:20260202T000554Z
UID:4300002210-1772064000-1772409599@nbhap.org
SUMMARY:2026 Western Doctors in Recovery Meeting
DESCRIPTION:
URL:https://nbhap.org/event/2026-western-doctors-in-recovery-meeting/
LOCATION:Palm Springs\, CA\, Palm Springs\, CA\, United States
CATEGORIES:conference or summit
END:VEVENT
BEGIN:VEVENT
DTSTART;VALUE=DATE:20260302
DTEND;VALUE=DATE:20260308
DTSTAMP:20260419T224808
CREATED:20251017T213936Z
LAST-MODIFIED:20251017T213936Z
UID:4300001909-1772409600-1772927999@nbhap.org
SUMMARY:2026 AGPA Connect
DESCRIPTION:
URL:https://nbhap.org/event/2026-agpa-connect/
LOCATION:New York\, NY\, New York\, NY\, United States
CATEGORIES:conference or summit
END:VEVENT
BEGIN:VEVENT
DTSTART;VALUE=DATE:20260304
DTEND;VALUE=DATE:20260307
DTSTAMP:20260419T224808
CREATED:20251120T032618Z
LAST-MODIFIED:20251120T032618Z
UID:4300001969-1772582400-1772841599@nbhap.org
SUMMARY:VALUE Conference 2026
DESCRIPTION:
URL:https://nbhap.org/event/value-conference-2026/
LOCATION:Orlando\, FL\, Orlando\, Florida
CATEGORIES:conference or summit
END:VEVENT
BEGIN:VEVENT
DTSTART;VALUE=DATE:20260305
DTEND;VALUE=DATE:20260309
DTSTAMP:20260419T224808
CREATED:20250520T231105Z
LAST-MODIFIED:20250520T231105Z
UID:4300001539-1772668800-1773014399@nbhap.org
SUMMARY:2026 PainConnect
DESCRIPTION:
URL:https://nbhap.org/event/2026-painconnect/
LOCATION:Salt Lake City\, UT\, Salt Lake City\, Utah
CATEGORIES:conference or summit
END:VEVENT
BEGIN:VEVENT
DTSTART;VALUE=DATE:20260306
DTEND;VALUE=DATE:20260328
DTSTAMP:20260419T224808
CREATED:20260201T044822Z
LAST-MODIFIED:20260201T044822Z
UID:4300002195-1772755200-1774655999@nbhap.org
SUMMARY:Virtual Student Summit
DESCRIPTION:
URL:https://nbhap.org/event/virtual-student-summit/
LOCATION:online
CATEGORIES:conference or summit
END:VEVENT
BEGIN:VEVENT
DTSTART;VALUE=DATE:20260309
DTEND;VALUE=DATE:20260312
DTSTAMP:20260419T224808
CREATED:20251120T031320Z
LAST-MODIFIED:20251120T031357Z
UID:4300001965-1773014400-1773273599@nbhap.org
SUMMARY:National Brain Injury Conference and Awareness Day 2026
DESCRIPTION:
URL:https://nbhap.org/event/national-brain-injury-conference-and-awareness-day-2026/
LOCATION:Arlington\, VA\, Arlington\, VA\, United States
CATEGORIES:conference or summit
END:VEVENT
BEGIN:VEVENT
DTSTART;VALUE=DATE:20260312
DTEND;VALUE=DATE:20260314
DTSTAMP:20260419T224808
CREATED:20260214T003514Z
LAST-MODIFIED:20260214T003514Z
UID:4300002228-1773273600-1773446399@nbhap.org
SUMMARY:2026 Southern Illinois Drug Awareness Conference
DESCRIPTION:
URL:https://nbhap.org/event/2026-southern-illinois-drug-awareness-conference/
LOCATION:Carbondale\, IL\, Carbondale\, IL\, United States
CATEGORIES:conference or summit
END:VEVENT
BEGIN:VEVENT
DTSTART;VALUE=DATE:20260312
DTEND;VALUE=DATE:20260317
DTSTAMP:20260419T224808
CREATED:20250528T222643Z
LAST-MODIFIED:20250528T222643Z
UID:4300001574-1773273600-1773705599@nbhap.org
SUMMARY:2025 CANP Annual Educational Conference
DESCRIPTION:
URL:https://nbhap.org/event/2025-canp-annual-educational-conference/
LOCATION:San Diego\, CA\, San Diego\, California
CATEGORIES:conference or summit
END:VEVENT
BEGIN:VEVENT
DTSTART;VALUE=DATE:20260323
DTEND;VALUE=DATE:20260328
DTSTAMP:20260419T224808
CREATED:20250907T050153Z
LAST-MODIFIED:20250907T050153Z
UID:4300001853-1774224000-1774655999@nbhap.org
SUMMARY:2026 Alabama School of Alcohol and Other Drug Studies
DESCRIPTION:
URL:https://nbhap.org/event/2026-alabama-school-of-alcohol-and-other-drug-studies/
LOCATION:Tuscaloosa\, AL\, Tuscaloosa\, AL\, United States
CATEGORIES:conference or summit
END:VEVENT
BEGIN:VEVENT
DTSTART;VALUE=DATE:20260325
DTEND;VALUE=DATE:20260329
DTSTAMP:20260419T224808
CREATED:20250907T050632Z
LAST-MODIFIED:20250907T050632Z
UID:4300001854-1774396800-1774742399@nbhap.org
SUMMARY:2026 DVW Behavioral Health Symposium
DESCRIPTION:
URL:https://nbhap.org/event/2026-dvw-behavioral-health-symposium/
LOCATION:Irving\, TX\, Irving\, TX\, United States
CATEGORIES:conference or summit
END:VEVENT
BEGIN:VEVENT
DTSTART;VALUE=DATE:20260326
DTEND;VALUE=DATE:20260327
DTSTAMP:20260419T224808
CREATED:20260201T020708Z
LAST-MODIFIED:20260201T020708Z
UID:4300002160-1774483200-1774569599@nbhap.org
SUMMARY:2026 California Rural Health Conference
DESCRIPTION:
URL:https://nbhap.org/event/2026-california-rural-health-conference/
LOCATION:Folsom\, CA\, Folsom\, CA\, United States
CATEGORIES:conference or summit
END:VEVENT
BEGIN:VEVENT
DTSTART;VALUE=DATE:20260327
DTEND;VALUE=DATE:20260330
DTSTAMP:20260419T224808
CREATED:20250520T225726Z
LAST-MODIFIED:20250520T225726Z
UID:4300001533-1774569600-1774828799@nbhap.org
SUMMARY:2026 Child & Adolescent Psychopharmacology
DESCRIPTION:
URL:https://nbhap.org/event/2026-child-adolescent-psychopharmacology/
LOCATION:Boston\, MA\, Boston\, MA\, United States
CATEGORIES:conference or summit
END:VEVENT
BEGIN:VEVENT
DTSTART;VALUE=DATE:20260328
DTEND;VALUE=DATE:20260330
DTSTAMP:20260419T224808
CREATED:20260214T003836Z
LAST-MODIFIED:20260214T003836Z
UID:4300002229-1774656000-1774828799@nbhap.org
SUMMARY:2026 Working with Addictions Summit
DESCRIPTION:
URL:https://nbhap.org/event/2026-working-with-addictions-summit/
LOCATION:online
CATEGORIES:conference or summit
END:VEVENT
END:VCALENDAR