BEGIN:VCALENDAR
VERSION:2.0
PRODID:-//National Behavioral Health Association of Providers (NBHAP) - ECPv6.15.20//NONSGML v1.0//EN
CALSCALE:GREGORIAN
METHOD:PUBLISH
X-WR-CALNAME:National Behavioral Health Association of Providers (NBHAP)
X-ORIGINAL-URL:https://nbhap.org
X-WR-CALDESC:Events for National Behavioral Health Association of Providers (NBHAP)
REFRESH-INTERVAL;VALUE=DURATION:PT1H
X-Robots-Tag:noindex
X-PUBLISHED-TTL:PT1H
BEGIN:VTIMEZONE
TZID:America/Los_Angeles
BEGIN:DAYLIGHT
TZOFFSETFROM:-0800
TZOFFSETTO:-0700
TZNAME:PDT
DTSTART:20240310T100000
END:DAYLIGHT
BEGIN:STANDARD
TZOFFSETFROM:-0700
TZOFFSETTO:-0800
TZNAME:PST
DTSTART:20241103T090000
END:STANDARD
BEGIN:DAYLIGHT
TZOFFSETFROM:-0800
TZOFFSETTO:-0700
TZNAME:PDT
DTSTART:20250309T100000
END:DAYLIGHT
BEGIN:STANDARD
TZOFFSETFROM:-0700
TZOFFSETTO:-0800
TZNAME:PST
DTSTART:20251102T090000
END:STANDARD
BEGIN:DAYLIGHT
TZOFFSETFROM:-0800
TZOFFSETTO:-0700
TZNAME:PDT
DTSTART:20260308T100000
END:DAYLIGHT
BEGIN:STANDARD
TZOFFSETFROM:-0700
TZOFFSETTO:-0800
TZNAME:PST
DTSTART:20261101T090000
END:STANDARD
END:VTIMEZONE
BEGIN:VEVENT
DTSTART;VALUE=DATE:20250326
DTEND;VALUE=DATE:20250330
DTSTAMP:20260421T001550
CREATED:20250325T164955Z
LAST-MODIFIED:20250325T164955Z
UID:4300001322-1742947200-1743292799@nbhap.org
SUMMARY:DVW Behavioral Health Symposium 2025
DESCRIPTION:
URL:https://nbhap.org/event/dvw-behavioral-health-symposium-2025/
LOCATION:Irving\, TX\, Irving\, TX\, United States
CATEGORIES:conference or summit
END:VEVENT
BEGIN:VEVENT
DTSTART;VALUE=DATE:20250327
DTEND;VALUE=DATE:20250328
DTSTAMP:20260421T001550
CREATED:20250124T225948Z
LAST-MODIFIED:20250124T225948Z
UID:4300001112-1743033600-1743119999@nbhap.org
SUMMARY:2025 California Rural Health Conference
DESCRIPTION:
URL:https://nbhap.org/event/2025-california-rural-health-conference/
LOCATION:Folsom\, CA\, Folsom\, CA\, United States
CATEGORIES:conference or summit
END:VEVENT
BEGIN:VEVENT
DTSTART;VALUE=DATE:20250327
DTEND;VALUE=DATE:20250330
DTSTAMP:20260421T001550
CREATED:20240327T170830Z
LAST-MODIFIED:20240327T170830Z
UID:4300000947-1743033600-1743292799@nbhap.org
SUMMARY:2025 ACA Conference & Expo
DESCRIPTION:
URL:https://nbhap.org/event/2025-aca-conference-expo/
LOCATION:Orlando\, FL\, Orlando\, Florida
CATEGORIES:conference or summit
END:VEVENT
END:VCALENDAR