BEGIN:VCALENDAR
VERSION:2.0
PRODID:-//National Behavioral Health Association of Providers (NBHAP) - ECPv6.15.20//NONSGML v1.0//EN
CALSCALE:GREGORIAN
METHOD:PUBLISH
X-WR-CALNAME:National Behavioral Health Association of Providers (NBHAP)
X-ORIGINAL-URL:https://nbhap.org
X-WR-CALDESC:Events for National Behavioral Health Association of Providers (NBHAP)
REFRESH-INTERVAL;VALUE=DURATION:PT1H
X-Robots-Tag:noindex
X-PUBLISHED-TTL:PT1H
BEGIN:VTIMEZONE
TZID:America/Los_Angeles
BEGIN:DAYLIGHT
TZOFFSETFROM:-0800
TZOFFSETTO:-0700
TZNAME:PDT
DTSTART:20240310T100000
END:DAYLIGHT
BEGIN:STANDARD
TZOFFSETFROM:-0700
TZOFFSETTO:-0800
TZNAME:PST
DTSTART:20241103T090000
END:STANDARD
BEGIN:DAYLIGHT
TZOFFSETFROM:-0800
TZOFFSETTO:-0700
TZNAME:PDT
DTSTART:20250309T100000
END:DAYLIGHT
BEGIN:STANDARD
TZOFFSETFROM:-0700
TZOFFSETTO:-0800
TZNAME:PST
DTSTART:20251102T090000
END:STANDARD
BEGIN:DAYLIGHT
TZOFFSETFROM:-0800
TZOFFSETTO:-0700
TZNAME:PDT
DTSTART:20260308T100000
END:DAYLIGHT
BEGIN:STANDARD
TZOFFSETFROM:-0700
TZOFFSETTO:-0800
TZNAME:PST
DTSTART:20261101T090000
END:STANDARD
END:VTIMEZONE
BEGIN:VEVENT
DTSTART;VALUE=DATE:20250430
DTEND;VALUE=DATE:20250503
DTSTAMP:20260420T194154
CREATED:20241207T001604Z
LAST-MODIFIED:20241207T001604Z
UID:4300001090-1745971200-1746230399@nbhap.org
SUMMARY:2025 Emerging Themes in Behavioral Health
DESCRIPTION:
URL:https://nbhap.org/event/2025-emerging-themes-in-behavioral-health/
LOCATION:Los Angeles\, CA\, Los Angeles\, California
CATEGORIES:conference or summit,partner event
END:VEVENT
BEGIN:VEVENT
DTSTART;VALUE=DATE:20250501
DTEND;VALUE=DATE:20250504
DTSTAMP:20260420T194154
CREATED:20241207T002020Z
LAST-MODIFIED:20241207T002020Z
UID:4300001091-1746057600-1746316799@nbhap.org
SUMMARY:2025 Lone Star Collective Conference
DESCRIPTION:
URL:https://nbhap.org/event/2025-lone-star-collective-conference/
LOCATION:Austin\, TX\, Austin\, TX\, United States
CATEGORIES:conference or summit
END:VEVENT
BEGIN:VEVENT
DTSTART;VALUE=DATE:20250502
DTEND;VALUE=DATE:20250504
DTSTAMP:20260420T194154
CREATED:20250501T165402Z
LAST-MODIFIED:20250501T165402Z
UID:4300001450-1746144000-1746316799@nbhap.org
SUMMARY:CAMFT's Annual Conference 2025
DESCRIPTION:
URL:https://nbhap.org/event/camfts-annual-conference-2025/
LOCATION:San Francisco\, CA\, San Francisco\, CA\, United States
CATEGORIES:conference or summit
END:VEVENT
END:VCALENDAR