BEGIN:VCALENDAR
VERSION:2.0
PRODID:-//National Behavioral Health Association of Providers (NBHAP) - ECPv6.15.20//NONSGML v1.0//EN
CALSCALE:GREGORIAN
METHOD:PUBLISH
X-WR-CALNAME:National Behavioral Health Association of Providers (NBHAP)
X-ORIGINAL-URL:https://nbhap.org
X-WR-CALDESC:Events for National Behavioral Health Association of Providers (NBHAP)
REFRESH-INTERVAL;VALUE=DURATION:PT1H
X-Robots-Tag:noindex
X-PUBLISHED-TTL:PT1H
BEGIN:VTIMEZONE
TZID:America/Los_Angeles
BEGIN:DAYLIGHT
TZOFFSETFROM:-0800
TZOFFSETTO:-0700
TZNAME:PDT
DTSTART:20240310T100000
END:DAYLIGHT
BEGIN:STANDARD
TZOFFSETFROM:-0700
TZOFFSETTO:-0800
TZNAME:PST
DTSTART:20241103T090000
END:STANDARD
BEGIN:DAYLIGHT
TZOFFSETFROM:-0800
TZOFFSETTO:-0700
TZNAME:PDT
DTSTART:20250309T100000
END:DAYLIGHT
BEGIN:STANDARD
TZOFFSETFROM:-0700
TZOFFSETTO:-0800
TZNAME:PST
DTSTART:20251102T090000
END:STANDARD
BEGIN:DAYLIGHT
TZOFFSETFROM:-0800
TZOFFSETTO:-0700
TZNAME:PDT
DTSTART:20260308T100000
END:DAYLIGHT
BEGIN:STANDARD
TZOFFSETFROM:-0700
TZOFFSETTO:-0800
TZNAME:PST
DTSTART:20261101T090000
END:STANDARD
END:VTIMEZONE
BEGIN:VEVENT
DTSTART;VALUE=DATE:20250608
DTEND;VALUE=DATE:20250612
DTSTAMP:20260420T164309
CREATED:20250220T232647Z
LAST-MODIFIED:20250220T232647Z
UID:4300001226-1749340800-1749686399@nbhap.org
SUMMARY:2025 Recovery Leadership Summit
DESCRIPTION:
URL:https://nbhap.org/event/2025-recovery-leadership-summit/
LOCATION:Washington\, DC\, Washington\, DC
CATEGORIES:conference or summit
END:VEVENT
BEGIN:VEVENT
DTSTART;VALUE=DATE:20250609
DTEND;VALUE=DATE:20250611
DTSTAMP:20260420T164309
CREATED:20250502T020921Z
LAST-MODIFIED:20250906T015004Z
UID:4300001457-1749427200-1749599999@nbhap.org
SUMMARY:2025 Artificial Intelligence in Healthcare Summit
DESCRIPTION:
URL:https://nbhap.org/event/2025-artificial-intelligence-in-healthcare-summit/
LOCATION:Las Vegas\, NV\, Las Vegas\, Nevada
CATEGORIES:conference or summit
END:VEVENT
BEGIN:VEVENT
DTSTART;VALUE=DATE:20250609
DTEND;VALUE=DATE:20250611
DTSTAMP:20260420T164309
CREATED:20250502T021004Z
LAST-MODIFIED:20250906T015004Z
UID:4300001458-1749427200-1749599999@nbhap.org
SUMMARY:2025 Lifestyle Medicine Innovation and Growth Summit
DESCRIPTION:
URL:https://nbhap.org/event/2025-lifestyle-medicine-innovation-and-growth-summit/
LOCATION:Las Vegas\, NV\, Las Vegas\, Nevada
CATEGORIES:conference or summit
END:VEVENT
BEGIN:VEVENT
DTSTART;VALUE=DATE:20250609
DTEND;VALUE=DATE:20250611
DTSTAMP:20260420T164309
CREATED:20250502T021044Z
LAST-MODIFIED:20250906T015004Z
UID:4300001459-1749427200-1749599999@nbhap.org
SUMMARY:2025 Rural Healthcare Innovation Summit
DESCRIPTION:
URL:https://nbhap.org/event/2025-rural-healthcare-innovation-summit/
LOCATION:Las Vegas\, NV\, Las Vegas\, Nevada
CATEGORIES:conference or summit
END:VEVENT
BEGIN:VEVENT
DTSTART;VALUE=DATE:20250609
DTEND;VALUE=DATE:20250611
DTSTAMP:20260420T164309
CREATED:20250502T021123Z
LAST-MODIFIED:20250906T015004Z
UID:4300001460-1749427200-1749599999@nbhap.org
SUMMARY:2025 Patient Experience Summit
DESCRIPTION:
URL:https://nbhap.org/event/2025-patient-experience-summit/
LOCATION:Las Vegas\, NV\, Las Vegas\, Nevada
CATEGORIES:conference or summit
END:VEVENT
END:VCALENDAR