BEGIN:VCALENDAR
VERSION:2.0
PRODID:-//National Behavioral Health Association of Providers (NBHAP) - ECPv6.15.20//NONSGML v1.0//EN
CALSCALE:GREGORIAN
METHOD:PUBLISH
X-ORIGINAL-URL:https://nbhap.org
X-WR-CALDESC:Events for National Behavioral Health Association of Providers (NBHAP)
REFRESH-INTERVAL;VALUE=DURATION:PT1H
X-Robots-Tag:noindex
X-PUBLISHED-TTL:PT1H
BEGIN:VTIMEZONE
TZID:America/Los_Angeles
BEGIN:DAYLIGHT
TZOFFSETFROM:-0800
TZOFFSETTO:-0700
TZNAME:PDT
DTSTART:20240310T100000
END:DAYLIGHT
BEGIN:STANDARD
TZOFFSETFROM:-0700
TZOFFSETTO:-0800
TZNAME:PST
DTSTART:20241103T090000
END:STANDARD
BEGIN:DAYLIGHT
TZOFFSETFROM:-0800
TZOFFSETTO:-0700
TZNAME:PDT
DTSTART:20250309T100000
END:DAYLIGHT
BEGIN:STANDARD
TZOFFSETFROM:-0700
TZOFFSETTO:-0800
TZNAME:PST
DTSTART:20251102T090000
END:STANDARD
BEGIN:DAYLIGHT
TZOFFSETFROM:-0800
TZOFFSETTO:-0700
TZNAME:PDT
DTSTART:20260308T100000
END:DAYLIGHT
BEGIN:STANDARD
TZOFFSETFROM:-0700
TZOFFSETTO:-0800
TZNAME:PST
DTSTART:20261101T090000
END:STANDARD
END:VTIMEZONE
BEGIN:VEVENT
DTSTART;VALUE=DATE:20250617
DTEND;VALUE=DATE:20250621
DTSTAMP:20260420T164647
CREATED:20250205T192748Z
LAST-MODIFIED:20250205T205935Z
UID:4300001148-1750118400-1750463999@nbhap.org
SUMMARY:Montana Summer Institute 2025
DESCRIPTION:Join us at the 2025 Montana Summer Institute for three and a half transformative days dedicated to advancing community well-being. Through thought-provoking keynotes\, interactive workshops\, and engaging discussions\, you’ll explore innovative strategies that leverage positive norms and amplify protective factors. \nLearn to uncover hidden community strengths\, identify untapped opportunities\, and craft impactful communications that drive meaningful change. With insights from leading experts and experienced practitioners\, you’ll gain practical tools to reimagine your approach to data\, messaging\, and the people you serve—all through a positive\, effective frame. \nDon’t miss this opportunity to expand your expertise\, deepen your impact\, and shape healthier\, more resilient communities.
URL:https://nbhap.org/event/montana-summer-institute-2025/
LOCATION:Big Sky\, MT\, Big Sky\, MT\, United States
CATEGORIES:conference or summit
END:VEVENT
END:VCALENDAR