BEGIN:VCALENDAR
VERSION:2.0
PRODID:-//National Behavioral Health Association of Providers (NBHAP) - ECPv6.15.20//NONSGML v1.0//EN
CALSCALE:GREGORIAN
METHOD:PUBLISH
X-WR-CALNAME:National Behavioral Health Association of Providers (NBHAP)
X-ORIGINAL-URL:https://nbhap.org
X-WR-CALDESC:Events for National Behavioral Health Association of Providers (NBHAP)
REFRESH-INTERVAL;VALUE=DURATION:PT1H
X-Robots-Tag:noindex
X-PUBLISHED-TTL:PT1H
BEGIN:VTIMEZONE
TZID:America/Los_Angeles
BEGIN:DAYLIGHT
TZOFFSETFROM:-0800
TZOFFSETTO:-0700
TZNAME:PDT
DTSTART:20240310T100000
END:DAYLIGHT
BEGIN:STANDARD
TZOFFSETFROM:-0700
TZOFFSETTO:-0800
TZNAME:PST
DTSTART:20241103T090000
END:STANDARD
BEGIN:DAYLIGHT
TZOFFSETFROM:-0800
TZOFFSETTO:-0700
TZNAME:PDT
DTSTART:20250309T100000
END:DAYLIGHT
BEGIN:STANDARD
TZOFFSETFROM:-0700
TZOFFSETTO:-0800
TZNAME:PST
DTSTART:20251102T090000
END:STANDARD
BEGIN:DAYLIGHT
TZOFFSETFROM:-0800
TZOFFSETTO:-0700
TZNAME:PDT
DTSTART:20260308T100000
END:DAYLIGHT
BEGIN:STANDARD
TZOFFSETFROM:-0700
TZOFFSETTO:-0800
TZNAME:PST
DTSTART:20261101T090000
END:STANDARD
END:VTIMEZONE
BEGIN:VEVENT
DTSTART;VALUE=DATE:20250624
DTEND;VALUE=DATE:20250628
DTSTAMP:20260420T164231
CREATED:20241118T182854Z
LAST-MODIFIED:20241118T182854Z
UID:4300001067-1750723200-1751068799@nbhap.org
SUMMARY:2025 AMHCA Annual Conference
DESCRIPTION:
URL:https://nbhap.org/event/2025-amhca-annual-conference/
LOCATION:Las Vegas\, NV\, Las Vegas\, Nevada
CATEGORIES:conference or summit
END:VEVENT
BEGIN:VEVENT
DTSTART;VALUE=DATE:20250625
DTEND;VALUE=DATE:20250629
DTSTAMP:20260420T164231
CREATED:20240718T181017Z
LAST-MODIFIED:20240718T181017Z
UID:4300000976-1750809600-1751155199@nbhap.org
SUMMARY:2025 Autism Society National Conference
DESCRIPTION:
URL:https://nbhap.org/event/2025-autism-society-national-conference/
LOCATION:Chicago\, IL\, Chicago\, Illinois
CATEGORIES:conference or summit
END:VEVENT
BEGIN:VEVENT
DTSTART;VALUE=DATE:20250625
DTEND;VALUE=DATE:20250630
DTSTAMP:20260420T164231
CREATED:20250521T203242Z
LAST-MODIFIED:20250521T203242Z
UID:4300001564-1750809600-1751241599@nbhap.org
SUMMARY:ARHE/ARS/AAPG Annual Conference 2025
DESCRIPTION:
URL:https://nbhap.org/event/arhe-ars-aapg-annual-conference-2025/
LOCATION:New Orleans\, LA\, New Orleans\, LA\, United States
CATEGORIES:conference or summit
END:VEVENT
BEGIN:VEVENT
DTSTART;TZID=America/Los_Angeles:20250626T120000
DTEND;TZID=America/Los_Angeles:20250626T160000
DTSTAMP:20260420T164231
CREATED:20250520T223633Z
LAST-MODIFIED:20250906T015004Z
UID:4300001525-1750939200-1750953600@nbhap.org
SUMMARY:Annual Virtual Summit - Session 2: Support Opportunities for Incarcerated Veterans
DESCRIPTION:
URL:https://nbhap.org/event/annual-virtual-summit-session-2-support-opportunities-for-incarcerated-veterans/
LOCATION:online
CATEGORIES:conference or summit
END:VEVENT
END:VCALENDAR