BEGIN:VCALENDAR
VERSION:2.0
PRODID:-//National Behavioral Health Association of Providers (NBHAP) - ECPv6.15.20//NONSGML v1.0//EN
CALSCALE:GREGORIAN
METHOD:PUBLISH
X-WR-CALNAME:National Behavioral Health Association of Providers (NBHAP)
X-ORIGINAL-URL:https://nbhap.org
X-WR-CALDESC:Events for National Behavioral Health Association of Providers (NBHAP)
REFRESH-INTERVAL;VALUE=DURATION:PT1H
X-Robots-Tag:noindex
X-PUBLISHED-TTL:PT1H
BEGIN:VTIMEZONE
TZID:America/Los_Angeles
BEGIN:DAYLIGHT
TZOFFSETFROM:-0800
TZOFFSETTO:-0700
TZNAME:PDT
DTSTART:20240310T100000
END:DAYLIGHT
BEGIN:STANDARD
TZOFFSETFROM:-0700
TZOFFSETTO:-0800
TZNAME:PST
DTSTART:20241103T090000
END:STANDARD
BEGIN:DAYLIGHT
TZOFFSETFROM:-0800
TZOFFSETTO:-0700
TZNAME:PDT
DTSTART:20250309T100000
END:DAYLIGHT
BEGIN:STANDARD
TZOFFSETFROM:-0700
TZOFFSETTO:-0800
TZNAME:PST
DTSTART:20251102T090000
END:STANDARD
BEGIN:DAYLIGHT
TZOFFSETFROM:-0800
TZOFFSETTO:-0700
TZNAME:PDT
DTSTART:20260308T100000
END:DAYLIGHT
BEGIN:STANDARD
TZOFFSETFROM:-0700
TZOFFSETTO:-0800
TZNAME:PST
DTSTART:20261101T090000
END:STANDARD
END:VTIMEZONE
BEGIN:VEVENT
DTSTART;VALUE=DATE:20250813
DTEND;VALUE=DATE:20250816
DTSTAMP:20260420T134214
CREATED:20250321T170930Z
LAST-MODIFIED:20250321T170930Z
UID:4300001286-1755043200-1755302399@nbhap.org
SUMMARY:Annual National Prevention Network Conference 2025
DESCRIPTION:
URL:https://nbhap.org/event/annual-national-prevention-network-conference-2025/
LOCATION:Washington\, DC\, Washington\, DC
CATEGORIES:conference or summit
END:VEVENT
BEGIN:VEVENT
DTSTART;VALUE=DATE:20250813
DTEND;VALUE=DATE:20250817
DTSTAMP:20260420T134214
CREATED:20250501T154011Z
LAST-MODIFIED:20250501T154011Z
UID:4300001421-1755043200-1755388799@nbhap.org
SUMMARY:2025 CSAM Annual Conference
DESCRIPTION:
URL:https://nbhap.org/event/2025-csam-annual-conference/
LOCATION:Garden Grove\, CA\, Garden Grove\, CA\, United States
CATEGORIES:conference or summit
END:VEVENT
BEGIN:VEVENT
DTSTART;VALUE=DATE:20250814
DTEND;VALUE=DATE:20250816
DTSTAMP:20260420T134214
CREATED:20250321T223857Z
LAST-MODIFIED:20250321T224037Z
UID:4300001306-1755129600-1755302399@nbhap.org
SUMMARY:2025 Chicago Social Work Conference
DESCRIPTION:
URL:https://nbhap.org/event/2025-chicago-social-work-conference/
LOCATION:Naperville\, IL\, Naperville\, IL\, United States
CATEGORIES:conference or summit
END:VEVENT
END:VCALENDAR