BEGIN:VCALENDAR
VERSION:2.0
PRODID:-//National Behavioral Health Association of Providers (NBHAP) - ECPv6.15.20//NONSGML v1.0//EN
CALSCALE:GREGORIAN
METHOD:PUBLISH
X-WR-CALNAME:National Behavioral Health Association of Providers (NBHAP)
X-ORIGINAL-URL:https://nbhap.org
X-WR-CALDESC:Events for National Behavioral Health Association of Providers (NBHAP)
REFRESH-INTERVAL;VALUE=DURATION:PT1H
X-Robots-Tag:noindex
X-PUBLISHED-TTL:PT1H
BEGIN:VTIMEZONE
TZID:America/Los_Angeles
BEGIN:DAYLIGHT
TZOFFSETFROM:-0800
TZOFFSETTO:-0700
TZNAME:PDT
DTSTART:20240310T100000
END:DAYLIGHT
BEGIN:STANDARD
TZOFFSETFROM:-0700
TZOFFSETTO:-0800
TZNAME:PST
DTSTART:20241103T090000
END:STANDARD
BEGIN:DAYLIGHT
TZOFFSETFROM:-0800
TZOFFSETTO:-0700
TZNAME:PDT
DTSTART:20250309T100000
END:DAYLIGHT
BEGIN:STANDARD
TZOFFSETFROM:-0700
TZOFFSETTO:-0800
TZNAME:PST
DTSTART:20251102T090000
END:STANDARD
BEGIN:DAYLIGHT
TZOFFSETFROM:-0800
TZOFFSETTO:-0700
TZNAME:PDT
DTSTART:20260308T100000
END:DAYLIGHT
BEGIN:STANDARD
TZOFFSETFROM:-0700
TZOFFSETTO:-0800
TZNAME:PST
DTSTART:20261101T090000
END:STANDARD
END:VTIMEZONE
BEGIN:VEVENT
DTSTART;VALUE=DATE:20251022
DTEND;VALUE=DATE:20251027
DTSTAMP:20260420T134208
CREATED:20250116T173411Z
LAST-MODIFIED:20250423T224300Z
UID:4300001106-1761091200-1761523199@nbhap.org
SUMMARY:12th Annual California Addiction Conference (CAC)
DESCRIPTION:Join our partner CCAPP in Newport Beack for their annual California Addiction Conference. \nEncounter sensational speakers\, breakout workshops\, social networking\, our famous Halloween party and costume contest\, and more!
URL:https://nbhap.org/event/12th-annual-california-addiction-conference-cac/
LOCATION:Newport Beach\, CA\, Newport Beach\, CA\, United States
CATEGORIES:conference or summit,partner event
END:VEVENT
BEGIN:VEVENT
DTSTART;VALUE=DATE:20251023
DTEND;VALUE=DATE:20251027
DTSTAMP:20260420T134208
CREATED:20250906T043652Z
LAST-MODIFIED:20250906T043652Z
UID:4300001772-1761177600-1761523199@nbhap.org
SUMMARY:2025 CSWE Annual Conference
DESCRIPTION:
URL:https://nbhap.org/event/2025-cswe-annual-conference/
LOCATION:Denver\, CO\, Denver\, Colorado
CATEGORIES:conference or summit
END:VEVENT
BEGIN:VEVENT
DTSTART;VALUE=DATE:20251024
DTEND;VALUE=DATE:20251028
DTSTAMP:20260420T134208
CREATED:20250906T021853Z
LAST-MODIFIED:20250906T021853Z
UID:4300001731-1761264000-1761609599@nbhap.org
SUMMARY:GACA's 2025 Fall Conference
DESCRIPTION:
URL:https://nbhap.org/event/gacas-2025-fall-conference/
LOCATION:St. Simons Island\, GA\, St. Simons Island\, GA\, United States
CATEGORIES:conference or summit
END:VEVENT
END:VCALENDAR