BEGIN:VCALENDAR
VERSION:2.0
PRODID:-//National Behavioral Health Association of Providers (NBHAP) - ECPv6.15.20//NONSGML v1.0//EN
CALSCALE:GREGORIAN
METHOD:PUBLISH
X-WR-CALNAME:National Behavioral Health Association of Providers (NBHAP)
X-ORIGINAL-URL:https://nbhap.org
X-WR-CALDESC:Events for National Behavioral Health Association of Providers (NBHAP)
REFRESH-INTERVAL;VALUE=DURATION:PT1H
X-Robots-Tag:noindex
X-PUBLISHED-TTL:PT1H
BEGIN:VTIMEZONE
TZID:America/Los_Angeles
BEGIN:DAYLIGHT
TZOFFSETFROM:-0800
TZOFFSETTO:-0700
TZNAME:PDT
DTSTART:20250309T100000
END:DAYLIGHT
BEGIN:STANDARD
TZOFFSETFROM:-0700
TZOFFSETTO:-0800
TZNAME:PST
DTSTART:20251102T090000
END:STANDARD
BEGIN:DAYLIGHT
TZOFFSETFROM:-0800
TZOFFSETTO:-0700
TZNAME:PDT
DTSTART:20260308T100000
END:DAYLIGHT
BEGIN:STANDARD
TZOFFSETFROM:-0700
TZOFFSETTO:-0800
TZNAME:PST
DTSTART:20261101T090000
END:STANDARD
BEGIN:DAYLIGHT
TZOFFSETFROM:-0800
TZOFFSETTO:-0700
TZNAME:PDT
DTSTART:20270314T100000
END:DAYLIGHT
BEGIN:STANDARD
TZOFFSETFROM:-0700
TZOFFSETTO:-0800
TZNAME:PST
DTSTART:20271107T090000
END:STANDARD
END:VTIMEZONE
BEGIN:VEVENT
DTSTART;VALUE=DATE:20260222
DTEND;VALUE=DATE:20260228
DTSTAMP:20260420T003218
CREATED:20260201T032617Z
LAST-MODIFIED:20260201T032617Z
UID:4300002171-1771718400-1772236799@nbhap.org
SUMMARY:2026 Alcohol and the Nervous System GRC
DESCRIPTION:
URL:https://nbhap.org/event/2026-alcohol-and-the-nervous-system-grc/
LOCATION:Ventura\, CA\, Ventura\, CA\, United States
CATEGORIES:conference or summit
END:VEVENT
BEGIN:VEVENT
DTSTART;VALUE=DATE:20260226
DTEND;VALUE=DATE:20260228
DTSTAMP:20260420T003218
CREATED:20250823T152824Z
LAST-MODIFIED:20250823T152824Z
UID:4300001664-1772064000-1772236799@nbhap.org
SUMMARY:23rd Annual POWER Conference
DESCRIPTION:
URL:https://nbhap.org/event/23rd-annual-power-conference/
LOCATION:Wichita\, KS\, Wichita\, Kansas
CATEGORIES:conference or summit
END:VEVENT
BEGIN:VEVENT
DTSTART;VALUE=DATE:20260226
DTEND;VALUE=DATE:20260228
DTSTAMP:20260420T003218
CREATED:20251214T183325Z
LAST-MODIFIED:20251214T183325Z
UID:4300002037-1772064000-1772236799@nbhap.org
SUMMARY:ASAM Criteria & Treatment Decision-Making: What’s In\, What’s Out\, What’s Different\, What’s Not
DESCRIPTION:
URL:https://nbhap.org/event/asam-criteria-treatment-decision-making-whats-in-whats-out-whats-different-whats-not/
LOCATION:online
CATEGORIES:conference or summit
END:VEVENT
BEGIN:VEVENT
DTSTART;VALUE=DATE:20260226
DTEND;VALUE=DATE:20260302
DTSTAMP:20260420T003218
CREATED:20260202T000554Z
LAST-MODIFIED:20260202T000554Z
UID:4300002210-1772064000-1772409599@nbhap.org
SUMMARY:2026 Western Doctors in Recovery Meeting
DESCRIPTION:
URL:https://nbhap.org/event/2026-western-doctors-in-recovery-meeting/
LOCATION:Palm Springs\, CA\, Palm Springs\, CA\, United States
CATEGORIES:conference or summit
END:VEVENT
END:VCALENDAR