BEGIN:VCALENDAR
VERSION:2.0
PRODID:-//National Behavioral Health Association of Providers (NBHAP) - ECPv6.15.20//NONSGML v1.0//EN
CALSCALE:GREGORIAN
METHOD:PUBLISH
X-ORIGINAL-URL:https://nbhap.org
X-WR-CALDESC:Events for National Behavioral Health Association of Providers (NBHAP)
REFRESH-INTERVAL;VALUE=DURATION:PT1H
X-Robots-Tag:noindex
X-PUBLISHED-TTL:PT1H
BEGIN:VTIMEZONE
TZID:America/Los_Angeles
BEGIN:DAYLIGHT
TZOFFSETFROM:-0800
TZOFFSETTO:-0700
TZNAME:PDT
DTSTART:20250309T100000
END:DAYLIGHT
BEGIN:STANDARD
TZOFFSETFROM:-0700
TZOFFSETTO:-0800
TZNAME:PST
DTSTART:20251102T090000
END:STANDARD
BEGIN:DAYLIGHT
TZOFFSETFROM:-0800
TZOFFSETTO:-0700
TZNAME:PDT
DTSTART:20260308T100000
END:DAYLIGHT
BEGIN:STANDARD
TZOFFSETFROM:-0700
TZOFFSETTO:-0800
TZNAME:PST
DTSTART:20261101T090000
END:STANDARD
BEGIN:DAYLIGHT
TZOFFSETFROM:-0800
TZOFFSETTO:-0700
TZNAME:PDT
DTSTART:20270314T100000
END:DAYLIGHT
BEGIN:STANDARD
TZOFFSETFROM:-0700
TZOFFSETTO:-0800
TZNAME:PST
DTSTART:20271107T090000
END:STANDARD
END:VTIMEZONE
BEGIN:VEVENT
DTSTART;VALUE=DATE:20260413
DTEND;VALUE=DATE:20260427
DTSTAMP:20260423T035107
CREATED:20260413T145111Z
LAST-MODIFIED:20260413T145111Z
UID:4300002373-1776038400-1777247999@nbhap.org
SUMMARY:Silent Retreat: Palos Verdes
DESCRIPTION:
URL:https://nbhap.org/event/silent-retreat-palos-verdes/
LOCATION:Palos Verdes\, CA\, Palos Verdes\, CA\, United States
CATEGORIES:conference or summit
END:VEVENT
BEGIN:VEVENT
DTSTART;VALUE=DATE:20260420
DTEND;VALUE=DATE:20260424
DTSTAMP:20260423T035107
CREATED:20251120T020945Z
LAST-MODIFIED:20251120T020945Z
UID:4300001949-1776643200-1776988799@nbhap.org
SUMMARY:On Aging 2026
DESCRIPTION:
URL:https://nbhap.org/event/on-aging-2026/
LOCATION:Atlanta\, GA\, Atlanta\, Georga
CATEGORIES:conference or summit
END:VEVENT
BEGIN:VEVENT
DTSTART;VALUE=DATE:20260422
DTEND;VALUE=DATE:20260425
DTSTAMP:20260423T035107
CREATED:20260401T013844Z
LAST-MODIFIED:20260401T013844Z
UID:4300002279-1776816000-1777075199@nbhap.org
SUMMARY:Elevate 2026
DESCRIPTION:
URL:https://nbhap.org/event/elevate-2026/
LOCATION:Carlsbad\, CA\, Carlsbad\, CA\, United States
CATEGORIES:conference or summit
END:VEVENT
BEGIN:VEVENT
DTSTART;VALUE=DATE:20260423
DTEND;VALUE=DATE:20260427
DTSTAMP:20260423T035107
CREATED:20250905T215218Z
LAST-MODIFIED:20250905T215218Z
UID:4300001673-1776902400-1777247999@nbhap.org
SUMMARY:2026 ASAM Annual Conference
DESCRIPTION:
URL:https://nbhap.org/event/2026-asam-annual-conference/
LOCATION:San Diego\, CA\, San Diego\, California
CATEGORIES:conference or summit
END:VEVENT
BEGIN:VEVENT
DTSTART;TZID=America/Los_Angeles:20260423T081500
DTEND;TZID=America/Los_Angeles:20260423T160000
DTSTAMP:20260423T035107
CREATED:20260418T014757Z
LAST-MODIFIED:20260418T014757Z
UID:4300002404-1776932100-1776960000@nbhap.org
SUMMARY:2026 Community Health Promotion Summit
DESCRIPTION:
URL:https://nbhap.org/event/2026-community-health-promotion-summit/
LOCATION:Olathe\, KS\, Olathe\, KS\, United States
CATEGORIES:conference or summit
END:VEVENT
BEGIN:VEVENT
DTSTART;VALUE=DATE:20260424
DTEND;VALUE=DATE:20260428
DTSTAMP:20260423T035107
CREATED:20260325T172004Z
LAST-MODIFIED:20260325T172004Z
UID:4300002237-1776988800-1777334399@nbhap.org
SUMMARY:GACA's 2026 Spring Virtual Conference
DESCRIPTION:
URL:https://nbhap.org/event/gacas-2026-spring-virtual-conference/
LOCATION:online
CATEGORIES:conference or summit
END:VEVENT
BEGIN:VEVENT
DTSTART;VALUE=DATE:20260427
DTEND;VALUE=DATE:20260429
DTSTAMP:20260423T035107
CREATED:20260422T130159Z
LAST-MODIFIED:20260422T130159Z
UID:4300002417-1777248000-1777420799@nbhap.org
SUMMARY:2026 National Urgent Care Centers Summit
DESCRIPTION:
URL:https://nbhap.org/event/2026-national-urgent-care-centers-summit/
LOCATION:New Orleans\, LA\, New Orleans\, LA\, United States
CATEGORIES:conference or summit
END:VEVENT
BEGIN:VEVENT
DTSTART;VALUE=DATE:20260427
DTEND;VALUE=DATE:20260430
DTSTAMP:20260423T035107
CREATED:20260401T015042Z
LAST-MODIFIED:20260401T015042Z
UID:4300002281-1777248000-1777507199@nbhap.org
SUMMARY:NatCon26
DESCRIPTION:
URL:https://nbhap.org/event/natcon26/
LOCATION:Denver\, CO\, Denver\, Colorado
CATEGORIES:conference or summit
END:VEVENT
BEGIN:VEVENT
DTSTART;VALUE=DATE:20260428
DTEND;VALUE=DATE:20260430
DTSTAMP:20260423T035107
CREATED:20260401T015501Z
LAST-MODIFIED:20260401T015501Z
UID:4300002282-1777334400-1777507199@nbhap.org
SUMMARY:2026 Pacific Southwest PTTC Youth Prevention Institute
DESCRIPTION:
URL:https://nbhap.org/event/2026-pacific-southwest-pttc-youth-prevention-institute/
LOCATION:San Diego\, CA\, San Diego\, California
CATEGORIES:conference or summit
END:VEVENT
BEGIN:VEVENT
DTSTART;VALUE=DATE:20260428
DTEND;VALUE=DATE:20260501
DTSTAMP:20260423T035107
CREATED:20260120T032401Z
LAST-MODIFIED:20260120T032401Z
UID:4300002129-1777334400-1777593599@nbhap.org
SUMMARY:2026 Positive Culture Framework Training: A Foundation for Cultural Transformation
DESCRIPTION:
URL:https://nbhap.org/event/2026-positive-culture-framework-training-a-foundation-for-cultural-transformation/
LOCATION:online
CATEGORIES:conference or summit
END:VEVENT
BEGIN:VEVENT
DTSTART;TZID=America/Los_Angeles:20260428T080000
DTEND;TZID=America/Los_Angeles:20260428T170000
DTSTAMP:20260423T035107
CREATED:20260401T015854Z
LAST-MODIFIED:20260401T015854Z
UID:4300002283-1777363200-1777395600@nbhap.org
SUMMARY:2026 Kansas Alliance for Drug Endangered Children Conference
DESCRIPTION:
URL:https://nbhap.org/event/2026-kansas-alliance-for-drug-endangered-children-conference/
LOCATION:Wichita\, KS\, Wichita\, Kansas
CATEGORIES:conference or summit
END:VEVENT
BEGIN:VEVENT
DTSTART;VALUE=DATE:20260501
DTEND;VALUE=DATE:20260503
DTSTAMP:20260423T035107
CREATED:20251120T173032Z
LAST-MODIFIED:20251121T231028Z
UID:4300001981-1777593600-1777766399@nbhap.org
SUMMARY:CAMFT's Annual Conference 2026
DESCRIPTION:
URL:https://nbhap.org/event/camfts-annual-conference-2026/
LOCATION:San Diego\, CA\, San Diego\, California
CATEGORIES:conference or summit
END:VEVENT
BEGIN:VEVENT
DTSTART;VALUE=DATE:20260504
DTEND;VALUE=DATE:20260507
DTSTAMP:20260423T035107
CREATED:20250906T051905Z
LAST-MODIFIED:20250906T051905Z
UID:4300001786-1777852800-1778111999@nbhap.org
SUMMARY:2026 NAATP National
DESCRIPTION:
URL:https://nbhap.org/event/2026-naatp-national/
LOCATION:Amelia Island\, FL\, Amelia Island\, FL\, United States
CATEGORIES:conference or summit
END:VEVENT
BEGIN:VEVENT
DTSTART;VALUE=DATE:20260506
DTEND;VALUE=DATE:20260508
DTSTAMP:20260423T035107
CREATED:20260401T021108Z
LAST-MODIFIED:20260401T021108Z
UID:4300002287-1778025600-1778198399@nbhap.org
SUMMARY:CADTP Spring Conference 2026
DESCRIPTION:
URL:https://nbhap.org/event/cadtp-spring-conference-2026/
LOCATION:La Quinta\, CA\, La Quinta\, CA\, United States
CATEGORIES:conference or summit
END:VEVENT
BEGIN:VEVENT
DTSTART;VALUE=DATE:20260508
DTEND;VALUE=DATE:20260510
DTSTAMP:20260423T035107
CREATED:20260201T233857Z
LAST-MODIFIED:20260201T233857Z
UID:4300002206-1778198400-1778371199@nbhap.org
SUMMARY:2026 Nura Eating Disorder Conference
DESCRIPTION:
URL:https://nbhap.org/event/2026-nura-eating-disorder-conference/
LOCATION:Millcreek\, UT\, Millcreek\, UT\, United States
CATEGORIES:conference or summit
END:VEVENT
BEGIN:VEVENT
DTSTART;VALUE=DATE:20260512
DTEND;VALUE=DATE:20260514
DTSTAMP:20260423T035107
CREATED:20251118T003058Z
LAST-MODIFIED:20251119T171023Z
UID:4300001947-1778544000-1778716799@nbhap.org
SUMMARY:EmPATH Summit 2026
DESCRIPTION:Transform psychiatric emergency care at the 2nd Annual EmPATH Summit—a national gathering bringing together hospital leaders\, clinicians\, policymakers\, designers\, and innovators committed to advancing the EmPATH (Emergency Psychiatric Assessment\, Treatment\, and Healing) model. \nConnect with industry leaders\, gain insights into best practices\, and explore how the EmPATH model is helping hospitals solve psychiatric Emergency Department boarding and improve emergency department throughput across the country.
URL:https://nbhap.org/event/empath-summit-2026/
LOCATION:Salt Lake City\, UT\, Salt Lake City\, Utah
CATEGORIES:conference or summit,partner event
END:VEVENT
BEGIN:VEVENT
DTSTART;VALUE=DATE:20260512
DTEND;VALUE=DATE:20260516
DTSTAMP:20260423T035107
CREATED:20260420T144354Z
LAST-MODIFIED:20260420T144354Z
UID:4300002410-1778544000-1778889599@nbhap.org
SUMMARY:2026 Lone Star Collective Conference
DESCRIPTION:
URL:https://nbhap.org/event/2026-lone-star-collective-conference/
LOCATION:Austin\, TX\, Austin\, TX\, United States
CATEGORIES:conference or summit
END:VEVENT
BEGIN:VEVENT
DTSTART;VALUE=DATE:20260513
DTEND;VALUE=DATE:20260516
DTSTAMP:20260423T035107
CREATED:20260201T022650Z
LAST-MODIFIED:20260201T022650Z
UID:4300002163-1778630400-1778889599@nbhap.org
SUMMARY:2026 Autism Investor Summit
DESCRIPTION:
URL:https://nbhap.org/event/2026-autism-investor-summit/
LOCATION:Scottsdale\, AZ\, Scottsdale\, AZ\, United States
CATEGORIES:conference or summit
END:VEVENT
BEGIN:VEVENT
DTSTART;VALUE=DATE:20260520
DTEND;VALUE=DATE:20260522
DTSTAMP:20260423T035107
CREATED:20251217T233128Z
LAST-MODIFIED:20251217T233128Z
UID:4300002067-1779235200-1779407999@nbhap.org
SUMMARY:2026 Research to Recovery Conference
DESCRIPTION:
URL:https://nbhap.org/event/2026-research-to-recovery-conference/
LOCATION:Richmond\, VA\, Richmond\, Virginia
CATEGORIES:conference or summit
END:VEVENT
BEGIN:VEVENT
DTSTART;VALUE=DATE:20260520
DTEND;VALUE=DATE:20260522
DTSTAMP:20260423T035107
CREATED:20260414T202803Z
LAST-MODIFIED:20260414T202803Z
UID:4300002380-1779235200-1779407999@nbhap.org
SUMMARY:McDermott HealthEx 2026
DESCRIPTION:Get a clear read on the pulse of emerging trends and build relationships that move your strategy forward. \nTop senior executives\, investors\, bankers\, and advisers in the healthcare services industry will gather for two focused days of networking and discussion on the issues shaping growth\, care delivery\, and deal activity.
URL:https://nbhap.org/event/mcdermott-healthex-2026/
LOCATION:Nashville\, TN\, Nashville\, Tennessee
CATEGORIES:conference or summit,partner event
END:VEVENT
BEGIN:VEVENT
DTSTART;TZID=America/Los_Angeles:20260522T110000
DTEND;TZID=America/Los_Angeles:20260522T153000
DTSTAMP:20260423T035107
CREATED:20260201T031544Z
LAST-MODIFIED:20260201T031544Z
UID:4300002170-1779447600-1779463800@nbhap.org
SUMMARY:2026 Resilience Collective Conference
DESCRIPTION:
URL:https://nbhap.org/event/2026-resilience-collective-conference/
LOCATION:New Brunswick\, NJ\, New Brunswick\, NJ\, United States
CATEGORIES:conference or summit
END:VEVENT
BEGIN:VEVENT
DTSTART;VALUE=DATE:20260528
DTEND;VALUE=DATE:20260531
DTSTAMP:20260423T035107
CREATED:20251214T180920Z
LAST-MODIFIED:20251214T180920Z
UID:4300002032-1779926400-1780185599@nbhap.org
SUMMARY:West Coast Symposium 2026
DESCRIPTION:
URL:https://nbhap.org/event/west-coast-symposium-2026/
LOCATION:Palm Springs\, CA\, Palm Springs\, CA\, United States
CATEGORIES:conference or summit
END:VEVENT
BEGIN:VEVENT
DTSTART;VALUE=DATE:20260603
DTEND;VALUE=DATE:20260606
DTSTAMP:20260423T035107
CREATED:20250907T202022Z
LAST-MODIFIED:20250907T202022Z
UID:4300001879-1780444800-1780703999@nbhap.org
SUMMARY:International Conference on Eating Disorders (ICED) 2026
DESCRIPTION:
URL:https://nbhap.org/event/international-conference-on-eating-disorders-iced-2026/
LOCATION:The Hague\, Netherlands\, The Hague\, Netherlands
CATEGORIES:conference or summit
END:VEVENT
BEGIN:VEVENT
DTSTART;TZID=America/Los_Angeles:20260603T083000
DTEND;TZID=America/Los_Angeles:20260603T170000
DTSTAMP:20260423T035107
CREATED:20260416T202512Z
LAST-MODIFIED:20260416T202512Z
UID:4300002387-1780475400-1780506000@nbhap.org
SUMMARY:3rd Annual North Carolina Adolescent SUD Conference
DESCRIPTION:
URL:https://nbhap.org/event/3rd-annual-north-carolina-adolescent-sud-conference/
LOCATION:online
CATEGORIES:conference or summit
END:VEVENT
BEGIN:VEVENT
DTSTART;VALUE=DATE:20260604
DTEND;VALUE=DATE:20260606
DTSTAMP:20260423T035107
CREATED:20260408T041125Z
LAST-MODIFIED:20260408T041125Z
UID:4300002329-1780531200-1780703999@nbhap.org
SUMMARY:2026 Chicago Supervisory Skills Certification Program
DESCRIPTION:
URL:https://nbhap.org/event/2026-chicago-supervisory-skills-certification-program/
LOCATION:Naperville\, IL\, Naperville\, IL\, United States
CATEGORIES:conference or summit
END:VEVENT
BEGIN:VEVENT
DTSTART;VALUE=DATE:20260609
DTEND;VALUE=DATE:20260612
DTSTAMP:20260423T035107
CREATED:20260224T201934Z
LAST-MODIFIED:20260224T201934Z
UID:4300002231-1780963200-1781222399@nbhap.org
SUMMARY:2026 AI For Strategic Communications Conference West
DESCRIPTION:
URL:https://nbhap.org/event/2026-ai-for-strategic-communications-conference-west/
LOCATION:San Francisco\, CA\, San Francisco\, CA\, United States
CATEGORIES:conference or summit
END:VEVENT
BEGIN:VEVENT
DTSTART;VALUE=DATE:20260616
DTEND;VALUE=DATE:20260620
DTSTAMP:20260423T035107
CREATED:20260120T020556Z
LAST-MODIFIED:20260319T212923Z
UID:4300002093-1781568000-1781913599@nbhap.org
SUMMARY:2026 Montana Summer Institute
DESCRIPTION:Over three and a half energizing days\, you’ll explore how to grow the good in people\, organizations\, and communities and discover new ways to cultivate connection\, foster resilience\, and strengthen the protective factors that help communities flourish. \nThrough case studies\, hands-on learning\, and practical tools\, you’ll leave equipped to nurture positive change and create the conditions where hope\, health\, and possibility can take root and thrive.
URL:https://nbhap.org/event/2026-montana-summer-institute/
LOCATION:Big Sky\, MT\, Big Sky\, MT\, United States
CATEGORIES:conference or summit,partner event
END:VEVENT
BEGIN:VEVENT
DTSTART;VALUE=DATE:20260617
DTEND;VALUE=DATE:20260620
DTSTAMP:20260423T035107
CREATED:20251214T175151Z
LAST-MODIFIED:20251214T175151Z
UID:4300002023-1781654400-1781913599@nbhap.org
SUMMARY:Midwest Conference on Problem Gambling and Substance Abuse 2026
DESCRIPTION:
URL:https://nbhap.org/event/midwest-conference-on-problem-gambling-and-substance-abuse-2026/
LOCATION:Blue Springs\, MO\, Blue Springs\, MO\, United States
CATEGORIES:conference or summit
END:VEVENT
BEGIN:VEVENT
DTSTART;VALUE=DATE:20260620
DTEND;VALUE=DATE:20260625
DTSTAMP:20260423T035107
CREATED:20251120T022543Z
LAST-MODIFIED:20251120T022543Z
UID:4300001955-1781913600-1782345599@nbhap.org
SUMMARY:RSA Scientific Meeting 2026
DESCRIPTION:
URL:https://nbhap.org/event/rsa-scientific-meeting-2026/
LOCATION:San Antonio\, TX\, San Antonio\, Texas
CATEGORIES:conference or summit
END:VEVENT
BEGIN:VEVENT
DTSTART;VALUE=DATE:20260623
DTEND;VALUE=DATE:20260627
DTSTAMP:20260423T035107
CREATED:20251017T220803Z
LAST-MODIFIED:20251017T220803Z
UID:4300001944-1782172800-1782518399@nbhap.org
SUMMARY:2026 AMHCA Annual Conference
DESCRIPTION:
URL:https://nbhap.org/event/2026-amhca-annual-conference/
LOCATION:Portland\, OR\, Portland\, Oregon
CATEGORIES:conference or summit
END:VEVENT
END:VCALENDAR