BEGIN:VCALENDAR
VERSION:2.0
PRODID:-//National Behavioral Health Association of Providers (NBHAP) - ECPv6.15.20//NONSGML v1.0//EN
CALSCALE:GREGORIAN
METHOD:PUBLISH
X-WR-CALNAME:National Behavioral Health Association of Providers (NBHAP)
X-ORIGINAL-URL:https://nbhap.org
X-WR-CALDESC:Events for National Behavioral Health Association of Providers (NBHAP)
REFRESH-INTERVAL;VALUE=DURATION:PT1H
X-Robots-Tag:noindex
X-PUBLISHED-TTL:PT1H
BEGIN:VTIMEZONE
TZID:America/Los_Angeles
BEGIN:DAYLIGHT
TZOFFSETFROM:-0800
TZOFFSETTO:-0700
TZNAME:PDT
DTSTART:20240310T100000
END:DAYLIGHT
BEGIN:STANDARD
TZOFFSETFROM:-0700
TZOFFSETTO:-0800
TZNAME:PST
DTSTART:20241103T090000
END:STANDARD
BEGIN:DAYLIGHT
TZOFFSETFROM:-0800
TZOFFSETTO:-0700
TZNAME:PDT
DTSTART:20250309T100000
END:DAYLIGHT
BEGIN:STANDARD
TZOFFSETFROM:-0700
TZOFFSETTO:-0800
TZNAME:PST
DTSTART:20251102T090000
END:STANDARD
BEGIN:DAYLIGHT
TZOFFSETFROM:-0800
TZOFFSETTO:-0700
TZNAME:PDT
DTSTART:20260308T100000
END:DAYLIGHT
BEGIN:STANDARD
TZOFFSETFROM:-0700
TZOFFSETTO:-0800
TZNAME:PST
DTSTART:20261101T090000
END:STANDARD
END:VTIMEZONE
BEGIN:VEVENT
DTSTART;TZID=America/Los_Angeles:20251015T080000
DTEND;TZID=America/Los_Angeles:20251015T170000
DTSTAMP:20260423T211548
CREATED:20250822T232806Z
LAST-MODIFIED:20250822T232806Z
UID:4300001662-1760515200-1760547600@nbhap.org
SUMMARY:2025 Latinx Mental Health Conference-Collective Care: Strength in Community
DESCRIPTION:
URL:https://nbhap.org/event/2025-latinx-mental-health-conference-collective-care-strength-in-community/
LOCATION:Los Angeles\, CA\, Los Angeles\, California
CATEGORIES:conference or summit
END:VEVENT
BEGIN:VEVENT
DTSTART;VALUE=DATE:20251011
DTEND;VALUE=DATE:20251014
DTSTAMP:20260423T211548
CREATED:20250205T185547Z
LAST-MODIFIED:20250205T185547Z
UID:4300001144-1760140800-1760399999@nbhap.org
SUMMARY:NAADAC Annual Conference
DESCRIPTION:
URL:https://nbhap.org/event/naadac-annual-conference/
LOCATION:Seattle\, WA\, Seattle\, Washington
CATEGORIES:conference or summit
END:VEVENT
BEGIN:VEVENT
DTSTART;VALUE=DATE:20251009
DTEND;VALUE=DATE:20251013
DTSTAMP:20260423T211548
CREATED:20250520T203002Z
LAST-MODIFIED:20250625T175231Z
UID:4300001517-1759968000-1760313599@nbhap.org
SUMMARY:2025 EAPA Institute & Expo
DESCRIPTION:Join Employee Assistance Professionals from around the globe for four days of learning\, networking\, and advancing the EAP field. The 2025 Institute & EXPO will feature expert-led sessions\, CE credit opportunities\, an engaging expo hall\, and plenty of chances to connect with colleagues who are passionate about employee wellbeing.
URL:https://nbhap.org/event/2025-eapa-institute-expo/
LOCATION:San Francisco\, CA\, San Francisco\, CA\, United States
CATEGORIES:conference or summit,partner event
END:VEVENT
BEGIN:VEVENT
DTSTART;VALUE=DATE:20251007
DTEND;VALUE=DATE:20251010
DTSTAMP:20260423T211548
CREATED:20241022T222247Z
LAST-MODIFIED:20241022T222247Z
UID:4300001057-1759795200-1760054399@nbhap.org
SUMMARY:Mental Health Marketing Conference
DESCRIPTION:
URL:https://nbhap.org/event/mental-health-marketing-conference/
LOCATION:Franklin\, TN\, Franklin\, TN\, United States
CATEGORIES:conference or summit
END:VEVENT
BEGIN:VEVENT
DTSTART;VALUE=DATE:20251006
DTEND;VALUE=DATE:20251011
DTSTAMP:20260423T211548
CREATED:20250326T205214Z
LAST-MODIFIED:20250326T205214Z
UID:4300001329-1759708800-1760140799@nbhap.org
SUMMARY:2025 AAADAC Fall Workshop
DESCRIPTION:
URL:https://nbhap.org/event/2025-aaadac-fall-workshop/
LOCATION:Mountain View\, AR\, Mountain View\, AR\, United States
CATEGORIES:conference or summit
END:VEVENT
BEGIN:VEVENT
DTSTART;VALUE=DATE:20251005
DTEND;VALUE=DATE:20251009
DTSTAMP:20260423T211548
CREATED:20250907T025926Z
LAST-MODIFIED:20250907T025926Z
UID:4300001844-1759622400-1759967999@nbhap.org
SUMMARY:2025 TPAS Fall Collaborative
DESCRIPTION:
URL:https://nbhap.org/event/2025-tpas-fall-collaborative/
LOCATION:Malibu\, CA\, Malibu\, CA\, United States
CATEGORIES:conference or summit
END:VEVENT
BEGIN:VEVENT
DTSTART;TZID=America/Los_Angeles:20251004T080000
DTEND;TZID=America/Los_Angeles:20251004T173000
DTSTAMP:20260423T211548
CREATED:20250907T025009Z
LAST-MODIFIED:20250907T025009Z
UID:4300001842-1759564800-1759599000@nbhap.org
SUMMARY:2025 Fall Institute
DESCRIPTION:
URL:https://nbhap.org/event/2025-fall-institute/
LOCATION:Baton Rouge\, LA\, Baton Rouge\, LA\, United States
CATEGORIES:conference or summit
END:VEVENT
BEGIN:VEVENT
DTSTART;VALUE=DATE:20251004
DTEND;VALUE=DATE:20251009
DTSTAMP:20260423T211548
CREATED:20250321T231545Z
LAST-MODIFIED:20250321T231545Z
UID:4300001320-1759536000-1759967999@nbhap.org
SUMMARY:2025 AATOD Conference
DESCRIPTION:
URL:https://nbhap.org/event/2025-aatod-conference/
LOCATION:Philadelphia\, PA\, Philadelphia\, PA\, United States
CATEGORIES:conference or summit
END:VEVENT
BEGIN:VEVENT
DTSTART;VALUE=DATE:20251003
DTEND;VALUE=DATE:20251006
DTSTAMP:20260423T211548
CREATED:20241218T201344Z
LAST-MODIFIED:20241218T231949Z
UID:4300001098-1759449600-1759708799@nbhap.org
SUMMARY:East Coast Symposium 2025
DESCRIPTION:The field of addiction treatment is ever-changing\, and HMP Global is dedicated to bringing you the best possible education\, led by national experts. At the East Coast Symposium\, you’ll find yourself among like-minded peers\, learning the latest\, most effective strategies for addiction treatment and behavioral health\, and addressing the significant challenges we must overcome. \nJoin them for an unparalleled educational and networking experience! When it comes to treating addiction\, we’re stronger together. 
URL:https://nbhap.org/event/east-coast-symposium-2025/
LOCATION:West Palm Beach\, FL\, West Palm Beach\, FL\, United States
CATEGORIES:conference or summit,partner event
END:VEVENT
BEGIN:VEVENT
DTSTART;TZID=America/Los_Angeles:20250927T090000
DTEND;TZID=America/Los_Angeles:20250927T180000
DTSTAMP:20260423T211548
CREATED:20250918T193516Z
LAST-MODIFIED:20250918T193516Z
UID:4300001901-1758963600-1758996000@nbhap.org
SUMMARY:Real Talk
DESCRIPTION:ABA Centers is hosting “Real Talk\,” a one-day conference designed for BCBAs who want more than just continuing education units – it is a chance to engage in evidence-based training\, meet peers\, and stay up on best practices.
URL:https://nbhap.org/event/real-talk/
LOCATION:Philadelphia\, PA\, Philadelphia\, PA\, United States
CATEGORIES:conference or summit
END:VEVENT
BEGIN:VEVENT
DTSTART;VALUE=DATE:20250925
DTEND;VALUE=DATE:20250928
DTSTAMP:20260423T211549
CREATED:20250823T152630Z
LAST-MODIFIED:20250906T015003Z
UID:4300001663-1758758400-1759017599@nbhap.org
SUMMARY:Aging Summit: Knowledge for Care
DESCRIPTION:
URL:https://nbhap.org/event/aging-summit-knowledge-for-care/
LOCATION:online
CATEGORIES:conference or summit
END:VEVENT
BEGIN:VEVENT
DTSTART;VALUE=DATE:20250925
DTEND;VALUE=DATE:20250927
DTSTAMP:20260423T211549
CREATED:20250528T225710Z
LAST-MODIFIED:20250528T225710Z
UID:4300001582-1758758400-1758931199@nbhap.org
SUMMARY:2025 CIBHS Conference on Evidence-Based Practices (EBP) and Community-Defined Evidence Practices (CDEP)
DESCRIPTION:
URL:https://nbhap.org/event/2025-cibhs-conference-on-evidence-based-practices-ebp-and-community-defined-evidence-practices-cdep/
LOCATION:Burbank\, CA\, Burbank\, CA\, United States
CATEGORIES:conference or summit
END:VEVENT
BEGIN:VEVENT
DTSTART;VALUE=DATE:20250925
DTEND;VALUE=DATE:20250927
DTSTAMP:20260423T211549
CREATED:20250124T230437Z
LAST-MODIFIED:20250124T230437Z
UID:4300001113-1758758400-1758931199@nbhap.org
SUMMARY:2025 Conference on Precision Psychiatry: Innovation to Implementation
DESCRIPTION:
URL:https://nbhap.org/event/2025-conference-on-precision-psychiatry-innovation-to-implementation/
LOCATION:online
CATEGORIES:conference or summit
END:VEVENT
BEGIN:VEVENT
DTSTART;VALUE=DATE:20250923
DTEND;VALUE=DATE:20250926
DTSTAMP:20260423T211549
CREATED:20250627T212047Z
LAST-MODIFIED:20250627T212047Z
UID:4300001635-1758585600-1758844799@nbhap.org
SUMMARY:46th Annual Conference for Behavioral Health
DESCRIPTION:
URL:https://nbhap.org/event/46th-annual-conference-for-behavioral-health/
LOCATION:Wichita\, KS\, Wichita\, Kansas
CATEGORIES:conference or summit
END:VEVENT
BEGIN:VEVENT
DTSTART;TZID=America/Los_Angeles:20250920T103000
DTEND;TZID=America/Los_Angeles:20250920T143000
DTSTAMP:20260423T211549
CREATED:20250906T024308Z
LAST-MODIFIED:20250906T024308Z
UID:4300001736-1758364200-1758378600@nbhap.org
SUMMARY:Campus Surge 2025 - Lubbock
DESCRIPTION:
URL:https://nbhap.org/event/campus-surge-2025-lubbock/
LOCATION:Lubbock\, TX\, Lubbock\, TX\, United States
CATEGORIES:conference or summit
END:VEVENT
BEGIN:VEVENT
DTSTART;TZID=America/Los_Angeles:20250919T073000
DTEND;TZID=America/Los_Angeles:20250919T160000
DTSTAMP:20260423T211549
CREATED:20250907T015517Z
LAST-MODIFIED:20250907T015517Z
UID:4300001815-1758267000-1758297600@nbhap.org
SUMMARY:The Miami Symposium 2025: Interdisciplinary Solutions to Mental Health Challenges: From Precision Medicine to Transcranial Magnetic Stimulation
DESCRIPTION:
URL:https://nbhap.org/event/the-miami-symposium-2025-interdisciplinary-solutions-to-mental-health-challenges-from-precision-medicine-to-transcranial-magnetic-stimulation/
LOCATION:Coral Gables\, FL\, Coral Gables\, FL\, United States
CATEGORIES:conference or summit
END:VEVENT
BEGIN:VEVENT
DTSTART;VALUE=DATE:20250919
DTEND;VALUE=DATE:20250921
DTSTAMP:20260423T211549
CREATED:20250124T224346Z
LAST-MODIFIED:20250124T224346Z
UID:4300001110-1758240000-1758412799@nbhap.org
SUMMARY:2025 International Conference on Addiction Recovery for Youth & Family
DESCRIPTION:
URL:https://nbhap.org/event/2025-international-conference-on-addiction-recovery-for-youth-family/
LOCATION:North York\, ON\, North York\, Ontario\, Canada
CATEGORIES:conference or summit
END:VEVENT
BEGIN:VEVENT
DTSTART;VALUE=DATE:20250919
DTEND;VALUE=DATE:20250920
DTSTAMP:20260423T211549
CREATED:20250321T224120Z
LAST-MODIFIED:20250502T015408Z
UID:4300001307-1758240000-1758326399@nbhap.org
SUMMARY:2025 Fall Social Work Institute
DESCRIPTION:
URL:https://nbhap.org/event/2025-fall-social-work-institute/
LOCATION:online
CATEGORIES:conference or summit
END:VEVENT
BEGIN:VEVENT
DTSTART;TZID=America/Los_Angeles:20250918T090000
DTEND;TZID=America/Los_Angeles:20250918T160000
DTSTAMP:20260423T211549
CREATED:20250906T042027Z
LAST-MODIFIED:20250906T042027Z
UID:4300001769-1758186000-1758211200@nbhap.org
SUMMARY:Prescription For Prevention: Opioid Misuse in Rural Georgia
DESCRIPTION:
URL:https://nbhap.org/event/prescription-for-prevention-opioid-misuse-in-rural-georgia/
LOCATION:Macon\, GA\, Macon\, GA\, United States
CATEGORIES:conference or summit
END:VEVENT
BEGIN:VEVENT
DTSTART;VALUE=DATE:20250918
DTEND;VALUE=DATE:20250922
DTSTAMP:20260423T211549
CREATED:20250521T200741Z
LAST-MODIFIED:20250521T200741Z
UID:4300001561-1758153600-1758499199@nbhap.org
SUMMARY:Medical Psychiatry: Comprehensive Update 2025
DESCRIPTION:
URL:https://nbhap.org/event/medical-psychiatry-comprehensive-update-2025/
LOCATION:online
CATEGORIES:conference or summit
END:VEVENT
BEGIN:VEVENT
DTSTART;VALUE=DATE:20250918
DTEND;VALUE=DATE:20250920
DTSTAMP:20260423T211549
CREATED:20250907T015025Z
LAST-MODIFIED:20250907T015025Z
UID:4300001813-1758153600-1758326399@nbhap.org
SUMMARY:Excellence in Mental Health Virtual Conference
DESCRIPTION:
URL:https://nbhap.org/event/excellence-in-mental-health-virtual-conference/
LOCATION:online
CATEGORIES:conference or summit
END:VEVENT
BEGIN:VEVENT
DTSTART;VALUE=DATE:20250917
DTEND;VALUE=DATE:20250922
DTSTAMP:20260423T211549
CREATED:20250905T225847Z
LAST-MODIFIED:20250905T225847Z
UID:4300001705-1758067200-1758499199@nbhap.org
SUMMARY:2025 Psych Congress
DESCRIPTION:
URL:https://nbhap.org/event/2025-psych-congress/
LOCATION:San Diego\, CA\, San Diego\, California
CATEGORIES:conference or summit
END:VEVENT
BEGIN:VEVENT
DTSTART;VALUE=DATE:20250917
DTEND;VALUE=DATE:20250919
DTSTAMP:20260423T211549
CREATED:20250326T204825Z
LAST-MODIFIED:20250326T204825Z
UID:4300001328-1758067200-1758239999@nbhap.org
SUMMARY:2025 Emergence
DESCRIPTION:
URL:https://nbhap.org/event/2025-emergence/
LOCATION:Marina Del Rey\, CA\, Marina Del Rey\, CA\, United States
CATEGORIES:conference or summit
END:VEVENT
BEGIN:VEVENT
DTSTART;VALUE=DATE:20250916
DTEND;VALUE=DATE:20250918
DTSTAMP:20260423T211549
CREATED:20250612T011428Z
LAST-MODIFIED:20250612T011428Z
UID:4300001596-1757980800-1758153599@nbhap.org
SUMMARY:2025 Unify
DESCRIPTION:
URL:https://nbhap.org/event/2025-unify/
LOCATION:Washington\, DC\, Washington\, DC
CATEGORIES:conference or summit
END:VEVENT
BEGIN:VEVENT
DTSTART;VALUE=DATE:20250915
DTEND;VALUE=DATE:20250918
DTSTAMP:20260423T211549
CREATED:20250516T165602Z
LAST-MODIFIED:20250906T015003Z
UID:4300001515-1757894400-1758153599@nbhap.org
SUMMARY:2025 Best Practices Summit
DESCRIPTION:Now in its second decade\, the NARR Summit has become the premier national gathering for anyone invested in the quality\, accessibility\, and effectiveness of recovery housing. The 2024 conference featured dynamic keynotes\, breakout sessions led by national leaders\, and powerful peer learning moments that inspired attendees to strengthen recovery communities back home. \nThis unique event brings together recovery residence operators\, affiliate leaders\, policymakers\, researchers\, behavioral health professionals\, and advocates—all committed to improving the recovery housing landscape. Whether you’re shaping systems\, managing homes\, or advancing policy\, the NARR Summit offers the tools\, connections\, and insights to deepen your impact.
URL:https://nbhap.org/event/2025-best-practices-summit-2/
LOCATION:Sandusky\, OH\, Sandusky\, OH\, United States
CATEGORIES:conference or summit,partner event
END:VEVENT
BEGIN:VEVENT
DTSTART;VALUE=DATE:20250915
DTEND;VALUE=DATE:20250917
DTSTAMP:20260423T211549
CREATED:20250905T215132Z
LAST-MODIFIED:20250905T215132Z
UID:4300001672-1757894400-1758067199@nbhap.org
SUMMARY:2025 Addiction Medicine Advocacy Conference
DESCRIPTION:
URL:https://nbhap.org/event/2025-addiction-medicine-advocacy-conference/
LOCATION:Washington\, DC\, Washington\, DC
CATEGORIES:conference or summit
END:VEVENT
BEGIN:VEVENT
DTSTART;VALUE=DATE:20250915
DTEND;VALUE=DATE:20250917
DTSTAMP:20260423T211549
CREATED:20250502T021649Z
LAST-MODIFIED:20250906T015003Z
UID:4300001467-1757894400-1758067199@nbhap.org
SUMMARY:2025 SDoH and Health Equity Summit
DESCRIPTION:
URL:https://nbhap.org/event/2025-sdoh-and-health-equity-summit/
LOCATION:Las Vegas\, NV\, Las Vegas\, Nevada
CATEGORIES:conference or summit
END:VEVENT
BEGIN:VEVENT
DTSTART;VALUE=DATE:20250915
DTEND;VALUE=DATE:20250917
DTSTAMP:20260423T211549
CREATED:20250502T021542Z
LAST-MODIFIED:20250906T015003Z
UID:4300001466-1757894400-1758067199@nbhap.org
SUMMARY:2025 Aging at Home Management Summit
DESCRIPTION:
URL:https://nbhap.org/event/2025-aging-at-home-management-summit/
LOCATION:Las Vegas\, NV\, Las Vegas\, Nevada
CATEGORIES:conference or summit
END:VEVENT
BEGIN:VEVENT
DTSTART;VALUE=DATE:20250915
DTEND;VALUE=DATE:20250917
DTSTAMP:20260423T211549
CREATED:20250502T021446Z
LAST-MODIFIED:20250906T015004Z
UID:4300001465-1757894400-1758067199@nbhap.org
SUMMARY:2025 Hospital at Home Healthcare Leadership Summit
DESCRIPTION:
URL:https://nbhap.org/event/2025-hospital-at-home-healthcare-leadership-summit/
LOCATION:Las Vegas\, NV\, Las Vegas\, Nevada
CATEGORIES:conference or summit
END:VEVENT
BEGIN:VEVENT
DTSTART;VALUE=DATE:20250915
DTEND;VALUE=DATE:20250917
DTSTAMP:20260423T211549
CREATED:20250502T021406Z
LAST-MODIFIED:20250906T015004Z
UID:4300001464-1757894400-1758067199@nbhap.org
SUMMARY:2025 Remote Patient Monitoring Summit
DESCRIPTION:
URL:https://nbhap.org/event/2025-remote-patient-monitoring-summit/
LOCATION:Las Vegas\, NV\, Las Vegas\, Nevada
CATEGORIES:conference or summit
END:VEVENT
END:VCALENDAR