BEGIN:VCALENDAR
VERSION:2.0
PRODID:-//National Behavioral Health Association of Providers (NBHAP) - ECPv6.15.20//NONSGML v1.0//EN
CALSCALE:GREGORIAN
METHOD:PUBLISH
X-WR-CALNAME:National Behavioral Health Association of Providers (NBHAP)
X-ORIGINAL-URL:https://nbhap.org
X-WR-CALDESC:Events for National Behavioral Health Association of Providers (NBHAP)
REFRESH-INTERVAL;VALUE=DURATION:PT1H
X-Robots-Tag:noindex
X-PUBLISHED-TTL:PT1H
BEGIN:VTIMEZONE
TZID:America/Los_Angeles
BEGIN:DAYLIGHT
TZOFFSETFROM:-0800
TZOFFSETTO:-0700
TZNAME:PDT
DTSTART:20190310T100000
END:DAYLIGHT
BEGIN:STANDARD
TZOFFSETFROM:-0700
TZOFFSETTO:-0800
TZNAME:PST
DTSTART:20191103T090000
END:STANDARD
BEGIN:DAYLIGHT
TZOFFSETFROM:-0800
TZOFFSETTO:-0700
TZNAME:PDT
DTSTART:20200308T100000
END:DAYLIGHT
BEGIN:STANDARD
TZOFFSETFROM:-0700
TZOFFSETTO:-0800
TZNAME:PST
DTSTART:20201101T090000
END:STANDARD
BEGIN:DAYLIGHT
TZOFFSETFROM:-0800
TZOFFSETTO:-0700
TZNAME:PDT
DTSTART:20210314T100000
END:DAYLIGHT
BEGIN:STANDARD
TZOFFSETFROM:-0700
TZOFFSETTO:-0800
TZNAME:PST
DTSTART:20211107T090000
END:STANDARD
BEGIN:DAYLIGHT
TZOFFSETFROM:-0800
TZOFFSETTO:-0700
TZNAME:PDT
DTSTART:20220313T100000
END:DAYLIGHT
BEGIN:STANDARD
TZOFFSETFROM:-0700
TZOFFSETTO:-0800
TZNAME:PST
DTSTART:20221106T090000
END:STANDARD
BEGIN:DAYLIGHT
TZOFFSETFROM:-0800
TZOFFSETTO:-0700
TZNAME:PDT
DTSTART:20230312T100000
END:DAYLIGHT
BEGIN:STANDARD
TZOFFSETFROM:-0700
TZOFFSETTO:-0800
TZNAME:PST
DTSTART:20231105T090000
END:STANDARD
BEGIN:DAYLIGHT
TZOFFSETFROM:-0800
TZOFFSETTO:-0700
TZNAME:PDT
DTSTART:20240310T100000
END:DAYLIGHT
BEGIN:STANDARD
TZOFFSETFROM:-0700
TZOFFSETTO:-0800
TZNAME:PST
DTSTART:20241103T090000
END:STANDARD
BEGIN:DAYLIGHT
TZOFFSETFROM:-0800
TZOFFSETTO:-0700
TZNAME:PDT
DTSTART:20250309T100000
END:DAYLIGHT
BEGIN:STANDARD
TZOFFSETFROM:-0700
TZOFFSETTO:-0800
TZNAME:PST
DTSTART:20251102T090000
END:STANDARD
END:VTIMEZONE
BEGIN:VTIMEZONE
TZID:America/New_York
BEGIN:DAYLIGHT
TZOFFSETFROM:-0500
TZOFFSETTO:-0400
TZNAME:EDT
DTSTART:20200308T070000
END:DAYLIGHT
BEGIN:STANDARD
TZOFFSETFROM:-0400
TZOFFSETTO:-0500
TZNAME:EST
DTSTART:20201101T060000
END:STANDARD
BEGIN:DAYLIGHT
TZOFFSETFROM:-0500
TZOFFSETTO:-0400
TZNAME:EDT
DTSTART:20210314T070000
END:DAYLIGHT
BEGIN:STANDARD
TZOFFSETFROM:-0400
TZOFFSETTO:-0500
TZNAME:EST
DTSTART:20211107T060000
END:STANDARD
BEGIN:DAYLIGHT
TZOFFSETFROM:-0500
TZOFFSETTO:-0400
TZNAME:EDT
DTSTART:20220313T070000
END:DAYLIGHT
BEGIN:STANDARD
TZOFFSETFROM:-0400
TZOFFSETTO:-0500
TZNAME:EST
DTSTART:20221106T060000
END:STANDARD
END:VTIMEZONE
BEGIN:VEVENT
DTSTART;VALUE=DATE:20241010
DTEND;VALUE=DATE:20241011
DTSTAMP:20260423T121026
CREATED:20240809T182941Z
LAST-MODIFIED:20240809T182941Z
UID:4300001013-1728518400-1728604799@nbhap.org
SUMMARY:Mobilize Recovery Across America 2024
DESCRIPTION:
URL:https://nbhap.org/event/mobilize-recovery-across-america-2024-15/
LOCATION:Rockville \, MD\, Rockville\, MD\, United States
CATEGORIES:forum or advocacy
END:VEVENT
BEGIN:VEVENT
DTSTART;VALUE=DATE:20241009
DTEND;VALUE=DATE:20241010
DTSTAMP:20260423T121026
CREATED:20240809T182841Z
LAST-MODIFIED:20240809T182841Z
UID:4300001012-1728432000-1728518399@nbhap.org
SUMMARY:Mobilize Recovery Across America 2024
DESCRIPTION:
URL:https://nbhap.org/event/mobilize-recovery-across-america-2024-14/
LOCATION:Washington\, DC\, Washington\, DC
CATEGORIES:forum or advocacy
END:VEVENT
BEGIN:VEVENT
DTSTART;VALUE=DATE:20241008
DTEND;VALUE=DATE:20241009
DTSTAMP:20260423T121026
CREATED:20240809T182749Z
LAST-MODIFIED:20240809T182749Z
UID:4300001011-1728345600-1728431999@nbhap.org
SUMMARY:Mobilize Recovery Across America 2024
DESCRIPTION:
URL:https://nbhap.org/event/mobilize-recovery-across-america-2024-13/
LOCATION:Richmond\, VA\, Richmond\, Virginia
CATEGORIES:forum or advocacy
END:VEVENT
BEGIN:VEVENT
DTSTART;VALUE=DATE:20241007
DTEND;VALUE=DATE:20241008
DTSTAMP:20260423T121026
CREATED:20240809T182703Z
LAST-MODIFIED:20240809T182703Z
UID:4300001010-1728259200-1728345599@nbhap.org
SUMMARY:Mobilize Recovery Across America 2024
DESCRIPTION:
URL:https://nbhap.org/event/mobilize-recovery-across-america-2024-12/
LOCATION:Myrtle Beach\, SC\, Myrtle Beach\, SC\, United States
CATEGORIES:forum or advocacy
END:VEVENT
BEGIN:VEVENT
DTSTART;VALUE=DATE:20241005
DTEND;VALUE=DATE:20241006
DTSTAMP:20260423T121026
CREATED:20240809T182632Z
LAST-MODIFIED:20240809T182632Z
UID:4300001009-1728086400-1728172799@nbhap.org
SUMMARY:Mobilize Recovery Across America 2024
DESCRIPTION:
URL:https://nbhap.org/event/mobilize-recovery-across-america-2024-11/
LOCATION:Oak Ridge\, TN\, Oak Ridge\, TN\, United States
CATEGORIES:forum or advocacy
END:VEVENT
BEGIN:VEVENT
DTSTART;VALUE=DATE:20241005
DTEND;VALUE=DATE:20241006
DTSTAMP:20260423T121026
CREATED:20240809T182543Z
LAST-MODIFIED:20240809T182543Z
UID:4300001008-1728086400-1728172799@nbhap.org
SUMMARY:Mobilize Recovery Across America 2024
DESCRIPTION:
URL:https://nbhap.org/event/mobilize-recovery-across-america-2024-10/
LOCATION:Dayton\, OH\, Dayton\, United States
CATEGORIES:forum or advocacy
END:VEVENT
BEGIN:VEVENT
DTSTART;VALUE=DATE:20241004
DTEND;VALUE=DATE:20241005
DTSTAMP:20260423T121026
CREATED:20240809T182502Z
LAST-MODIFIED:20240809T182502Z
UID:4300001007-1728000000-1728086399@nbhap.org
SUMMARY:Mobilize Recovery Across America 2024
DESCRIPTION:
URL:https://nbhap.org/event/mobilize-recovery-across-america-2024-9/
LOCATION:Xenia\, OH\, Xenia\, OH\, United States
CATEGORIES:forum or advocacy
END:VEVENT
BEGIN:VEVENT
DTSTART;VALUE=DATE:20241004
DTEND;VALUE=DATE:20241005
DTSTAMP:20260423T121026
CREATED:20240809T182410Z
LAST-MODIFIED:20240809T182410Z
UID:4300001006-1728000000-1728086399@nbhap.org
SUMMARY:Mobilize Recovery Across America 2024
DESCRIPTION:
URL:https://nbhap.org/event/mobilize-recovery-across-america-2024-8/
LOCATION:Indianapolis\, IN\, Indianapolis\, IN\, United States
CATEGORIES:forum or advocacy
END:VEVENT
BEGIN:VEVENT
DTSTART;VALUE=DATE:20241002
DTEND;VALUE=DATE:20241003
DTSTAMP:20260423T121026
CREATED:20240809T182321Z
LAST-MODIFIED:20240809T182321Z
UID:4300001005-1727827200-1727913599@nbhap.org
SUMMARY:Mobilize Recovery Across America 2024
DESCRIPTION:
URL:https://nbhap.org/event/mobilize-recovery-across-america-2024-7/
LOCATION:Cedar Rapids\, IA\, Cedar Rapids\, IA\, United States
CATEGORIES:forum or advocacy
END:VEVENT
BEGIN:VEVENT
DTSTART;VALUE=DATE:20240930
DTEND;VALUE=DATE:20241001
DTSTAMP:20260423T121026
CREATED:20240809T182228Z
LAST-MODIFIED:20240809T182228Z
UID:4300001004-1727654400-1727740799@nbhap.org
SUMMARY:Mobilize Recovery Across America 2024
DESCRIPTION:
URL:https://nbhap.org/event/mobilize-recovery-across-america-2024-6/
LOCATION:Denver\, CO\, Denver\, Colorado
CATEGORIES:forum or advocacy
END:VEVENT
BEGIN:VEVENT
DTSTART;VALUE=DATE:20240930
DTEND;VALUE=DATE:20241001
DTSTAMP:20260423T121026
CREATED:20240809T182100Z
LAST-MODIFIED:20240809T182159Z
UID:4300001003-1727654400-1727740799@nbhap.org
SUMMARY:Mobilize Recovery Across America 2024
DESCRIPTION:
URL:https://nbhap.org/event/mobilize-recovery-across-america-2024-5/
LOCATION:Castle Rock\, CO\, Castle Rock\, CO\, United States
CATEGORIES:forum or advocacy
END:VEVENT
BEGIN:VEVENT
DTSTART;VALUE=DATE:20240928
DTEND;VALUE=DATE:20240929
DTSTAMP:20260423T121026
CREATED:20240809T183411Z
LAST-MODIFIED:20240809T183411Z
UID:4300001017-1727481600-1727567999@nbhap.org
SUMMARY:Mobilize Recovery Across America 2024
DESCRIPTION:
URL:https://nbhap.org/event/mobilize-recovery-across-america-2024-19/
LOCATION:Salt Lake City\, UT\, Salt Lake City\, Utah
CATEGORIES:forum or advocacy
END:VEVENT
BEGIN:VEVENT
DTSTART;VALUE=DATE:20240924
DTEND;VALUE=DATE:20240925
DTSTAMP:20260423T121026
CREATED:20240809T182022Z
LAST-MODIFIED:20240809T182022Z
UID:4300001002-1727136000-1727222399@nbhap.org
SUMMARY:Mobilize Recovery Across America 2024
DESCRIPTION:
URL:https://nbhap.org/event/mobilize-recovery-across-america-2024-4/
LOCATION:Las Vegas\, NV\, Las Vegas\, Nevada
CATEGORIES:forum or advocacy
END:VEVENT
BEGIN:VEVENT
DTSTART;VALUE=DATE:20240922
DTEND;VALUE=DATE:20240923
DTSTAMP:20260423T121026
CREATED:20240809T181951Z
LAST-MODIFIED:20240809T181951Z
UID:4300001001-1726963200-1727049599@nbhap.org
SUMMARY:Mobilize Recovery Across America 2024
DESCRIPTION:
URL:https://nbhap.org/event/mobilize-recovery-across-america-2024-3/
LOCATION:Phoenix\, AZ\, Phoenix\, AZ\, United States
CATEGORIES:forum or advocacy
END:VEVENT
BEGIN:VEVENT
DTSTART;VALUE=DATE:20240921
DTEND;VALUE=DATE:20240922
DTSTAMP:20260423T121026
CREATED:20240809T181915Z
LAST-MODIFIED:20240809T181915Z
UID:4300001000-1726876800-1726963199@nbhap.org
SUMMARY:Mobilize Recovery Across America 2024
DESCRIPTION:
URL:https://nbhap.org/event/mobilize-recovery-across-america-2024-2/
LOCATION:Rancho Mirage\, CA\, Rancho Mirage\, CA\, United States
CATEGORIES:forum or advocacy
END:VEVENT
BEGIN:VEVENT
DTSTART;VALUE=DATE:20240920
DTEND;VALUE=DATE:20240921
DTSTAMP:20260423T121026
CREATED:20240809T181801Z
LAST-MODIFIED:20240809T181801Z
UID:4300000999-1726790400-1726876799@nbhap.org
SUMMARY:Mobilize Recovery Across America 2024
DESCRIPTION:
URL:https://nbhap.org/event/mobilize-recovery-across-america-2024/
LOCATION:Los Angeles\, CA\, Los Angeles\, California
CATEGORIES:forum or advocacy
END:VEVENT
BEGIN:VEVENT
DTSTART;VALUE=DATE:20240904
DTEND;VALUE=DATE:20240905
DTSTAMP:20260423T121026
CREATED:20240701T201936Z
LAST-MODIFIED:20240701T201936Z
UID:4300000971-1725408000-1725494399@nbhap.org
SUMMARY:2024 Recovery Happens
DESCRIPTION:Every September since 1992\, CCAPP sponsors National Recovery Month at the California State Capitol where thousands gather to increase awareness and understanding of mental health and substance use disorders and celebrate the people who recover.
URL:https://nbhap.org/event/2024-recovery-happens/
LOCATION:Sacramento\, CA\, Sacramento\, California
CATEGORIES:forum or advocacy,partner event
END:VEVENT
BEGIN:VEVENT
DTSTART;TZID=America/Los_Angeles:20240401T170000
DTEND;TZID=America/Los_Angeles:20240401T200000
DTSTAMP:20260423T121026
CREATED:20240322T152842Z
LAST-MODIFIED:20240322T152842Z
UID:4300000944-1711990800-1712001600@nbhap.org
SUMMARY:Boston Public Policy Forum
DESCRIPTION:
URL:https://nbhap.org/event/boston-public-policy-forum/
LOCATION:Dorchester\, MA\, Dorchester\, MA\, United States
CATEGORIES:forum or advocacy
END:VEVENT
BEGIN:VEVENT
DTSTART;VALUE=DATE:20230130
DTEND;VALUE=DATE:20230203
DTSTAMP:20260423T121026
CREATED:20220923T170032Z
LAST-MODIFIED:20220923T170032Z
UID:4300000782-1675036800-1675382399@nbhap.org
SUMMARY:National Leadership Forum & SAMHSA's Prevention Day
DESCRIPTION:
URL:https://nbhap.org/event/national-leadership-forum-samhsas-prevention-day/
LOCATION:National Harbor\, MD\, National Harbor\, MD\, United States
CATEGORIES:forum or advocacy
END:VEVENT
BEGIN:VEVENT
DTSTART;VALUE=DATE:20221021
DTEND;VALUE=DATE:20221028
DTSTAMP:20260423T121026
CREATED:20220916T192330Z
LAST-MODIFIED:20220916T192330Z
UID:4300000660-1666310400-1666915199@nbhap.org
SUMMARY:Reel Recovery Film Festival 2022
DESCRIPTION:
URL:https://nbhap.org/event/reel-recovery-film-festival-2022/
LOCATION:MD
CATEGORIES:forum or advocacy
END:VEVENT
BEGIN:VEVENT
DTSTART;VALUE=DATE:20220224
DTEND;VALUE=DATE:20220226
DTSTAMP:20260423T121026
CREATED:20210916T182400Z
LAST-MODIFIED:20210916T182407Z
UID:4300000508-1645660800-1645833599@nbhap.org
SUMMARY:Opioid Abuse Management Forum
DESCRIPTION:This is a high-level forum featuring knowledgeable leaders and executives from hospitals\, health systems\, and health plans who will share their perspectives\, valuable insights\, and expertise on how to be best equipped for the rapidly evolving landscape of Opioid Management.
URL:https://nbhap.org/event/opioid-abuse-management-forum-2022/
LOCATION:Nashville\, TN\, Nashville\, Tennessee
CATEGORIES:forum or advocacy
END:VEVENT
BEGIN:VEVENT
DTSTART;VALUE=DATE:20220131
DTEND;VALUE=DATE:20220204
DTSTAMP:20260423T121026
CREATED:20210818T011610Z
LAST-MODIFIED:20210818T011629Z
UID:4300000581-1643587200-1643932799@nbhap.org
SUMMARY:National Leadership Forum & SAMHSA's Prevention Day
DESCRIPTION:Presentations due 10/18/21.
URL:https://nbhap.org/event/national-leadership-forum-samhsas-prevention-day-2022/
LOCATION:National Harbor\, MD\, National Harbor\, MD\, United States
CATEGORIES:forum or advocacy
END:VEVENT
BEGIN:VEVENT
DTSTART;TZID=America/New_York:20210909T120000
DTEND;TZID=America/New_York:20210909T160000
DTSTAMP:20260423T121026
CREATED:20210723T191936Z
LAST-MODIFIED:20210723T191936Z
UID:4300000511-1631188800-1631203200@nbhap.org
SUMMARY:Resiliency 2021
DESCRIPTION:Focused on personal empowerment and promoting strategies to enhance resiliency\, the Resiliency Forum brings together inspirational speakers\, empowering clinicians\, talented artists\, life-changing authors\, and noted professionals\, all dedicated to enhancing our ability to bounce-back and thrive.
URL:https://nbhap.org/event/resiliency-2021/
LOCATION:online
CATEGORIES:forum or advocacy,webinar or workshop
END:VEVENT
BEGIN:VEVENT
DTSTART;VALUE=DATE:20210901
DTEND;VALUE=DATE:20210902
DTSTAMP:20260423T121026
CREATED:20210708T183536Z
LAST-MODIFIED:20210708T183545Z
UID:4300000436-1630454400-1630540799@nbhap.org
SUMMARY:Recovery Happens
DESCRIPTION:California: \nJoin our partner CCAPP for the 28th Recovery Happens Rally in person at the State Capitol. \nJoin thousands to increase awareness and understanding of mental health and substance use disorders and celebrate the people who recover.
URL:https://nbhap.org/event/recovery-happens-2021/
LOCATION:Sacramento\, CA\, Sacramento\, California
CATEGORIES:forum or advocacy
END:VEVENT
BEGIN:VEVENT
DTSTART;VALUE=DATE:20210225
DTEND;VALUE=DATE:20210226
DTSTAMP:20260423T121026
CREATED:20210702T182334Z
LAST-MODIFIED:20210707T194957Z
UID:4300000457-1614211200-1614297599@nbhap.org
SUMMARY:Diversity\, Equity & Inclusion: Community Public Forum
DESCRIPTION:
URL:https://nbhap.org/event/diversity-equity-inclusion-community-public-forum-2021/
LOCATION:online
CATEGORIES:forum or advocacy,partner event
END:VEVENT
BEGIN:VEVENT
DTSTART;VALUE=DATE:20201029
DTEND;VALUE=DATE:20201030
DTSTAMP:20260423T121026
CREATED:20210702T182942Z
LAST-MODIFIED:20210707T195133Z
UID:4300000461-1603929600-1604015999@nbhap.org
SUMMARY:Diversity\, Equity & Inclusion: Public Community Forum\, Round 3
DESCRIPTION:
URL:https://nbhap.org/event/diversity-equity-inclusion-public-community-forum-round-3-2020/
LOCATION:online
CATEGORIES:forum or advocacy,partner event
END:VEVENT
BEGIN:VEVENT
DTSTART;VALUE=DATE:20201006
DTEND;VALUE=DATE:20201008
DTSTAMP:20260423T121026
CREATED:20210707T200557Z
LAST-MODIFIED:20210707T200748Z
UID:4300000424-1601942400-1602115199@nbhap.org
SUMMARY:Hill Day
DESCRIPTION:
URL:https://nbhap.org/event/hill-day-2020/
LOCATION:online
CATEGORIES:forum or advocacy
END:VEVENT
END:VCALENDAR