BEGIN:VCALENDAR
VERSION:2.0
PRODID:-//National Behavioral Health Association of Providers (NBHAP) - ECPv6.15.20//NONSGML v1.0//EN
CALSCALE:GREGORIAN
METHOD:PUBLISH
X-ORIGINAL-URL:https://nbhap.org
X-WR-CALDESC:Events for National Behavioral Health Association of Providers (NBHAP)
REFRESH-INTERVAL;VALUE=DURATION:PT1H
X-Robots-Tag:noindex
X-PUBLISHED-TTL:PT1H
BEGIN:VTIMEZONE
TZID:America/Los_Angeles
BEGIN:DAYLIGHT
TZOFFSETFROM:-0800
TZOFFSETTO:-0700
TZNAME:PDT
DTSTART:20240310T100000
END:DAYLIGHT
BEGIN:STANDARD
TZOFFSETFROM:-0700
TZOFFSETTO:-0800
TZNAME:PST
DTSTART:20241103T090000
END:STANDARD
BEGIN:DAYLIGHT
TZOFFSETFROM:-0800
TZOFFSETTO:-0700
TZNAME:PDT
DTSTART:20250309T100000
END:DAYLIGHT
BEGIN:STANDARD
TZOFFSETFROM:-0700
TZOFFSETTO:-0800
TZNAME:PST
DTSTART:20251102T090000
END:STANDARD
BEGIN:DAYLIGHT
TZOFFSETFROM:-0800
TZOFFSETTO:-0700
TZNAME:PDT
DTSTART:20260308T100000
END:DAYLIGHT
BEGIN:STANDARD
TZOFFSETFROM:-0700
TZOFFSETTO:-0800
TZNAME:PST
DTSTART:20261101T090000
END:STANDARD
END:VTIMEZONE
BEGIN:VEVENT
DTSTART;TZID=America/Los_Angeles:20251106T173000
DTEND;TZID=America/Los_Angeles:20251106T210000
DTSTAMP:20260423T170849
CREATED:20250721T213012Z
LAST-MODIFIED:20250721T213012Z
UID:4300001640-1762450200-1762462800@nbhap.org
SUMMARY:CBHA 40th Anniversary Celebration
DESCRIPTION:CBHA is celebrating 40 years of behavioral health advocacy! Join us for an evening of inspiration\, reflection\, and looking towards the future. In honor of our 40 years of advocacy\, we are honoring 40 Behavioral Health Stars: Individuals and organizations who have demonstrated exemplary advocacy for the people of California. Help us celebrate them\, hear from speakers\, enjoy light food and beverages\, and share stories with friends and colleagues.
URL:https://nbhap.org/event/cbha-40th-anniversary-celebration/
LOCATION:Sacramento\, CA\, Sacramento\, California
CATEGORIES:gala or fundraiser,partner event
END:VEVENT
BEGIN:VEVENT
DTSTART;TZID=America/Los_Angeles:20251108T180000
DTEND;TZID=America/Los_Angeles:20251108T213000
DTSTAMP:20260423T170849
CREATED:20251017T215906Z
LAST-MODIFIED:20251017T215906Z
UID:4300001931-1762624800-1762637400@nbhap.org
SUMMARY:12th Annual Salute to the Military Supporting CarePossible
DESCRIPTION:
URL:https://nbhap.org/event/12th-annual-salute-to-the-military-supporting-carepossible/
LOCATION:Tustin\, CA\, Tustin\, CA\, United States
CATEGORIES:gala or fundraiser
END:VEVENT
BEGIN:VEVENT
DTSTART;TZID=America/Los_Angeles:20251118T180000
DTEND;TZID=America/Los_Angeles:20251118T220000
DTSTAMP:20260423T170849
CREATED:20251017T215747Z
LAST-MODIFIED:20251017T215747Z
UID:4300001930-1763488800-1763503200@nbhap.org
SUMMARY:2025 Child Advocacy Award Dinner
DESCRIPTION:
URL:https://nbhap.org/event/2025-child-advocacy-award-dinner/
LOCATION:New York\, NY\, New York\, NY\, United States
CATEGORIES:gala or fundraiser
END:VEVENT
END:VCALENDAR