BEGIN:VCALENDAR
VERSION:2.0
PRODID:-//National Behavioral Health Association of Providers (NBHAP) - ECPv6.15.20//NONSGML v1.0//EN
CALSCALE:GREGORIAN
METHOD:PUBLISH
X-WR-CALNAME:National Behavioral Health Association of Providers (NBHAP)
X-ORIGINAL-URL:https://nbhap.org
X-WR-CALDESC:Events for National Behavioral Health Association of Providers (NBHAP)
REFRESH-INTERVAL;VALUE=DURATION:PT1H
X-Robots-Tag:noindex
X-PUBLISHED-TTL:PT1H
BEGIN:VTIMEZONE
TZID:America/Los_Angeles
BEGIN:DAYLIGHT
TZOFFSETFROM:-0800
TZOFFSETTO:-0700
TZNAME:PDT
DTSTART:20250309T100000
END:DAYLIGHT
BEGIN:STANDARD
TZOFFSETFROM:-0700
TZOFFSETTO:-0800
TZNAME:PST
DTSTART:20251102T090000
END:STANDARD
BEGIN:DAYLIGHT
TZOFFSETFROM:-0800
TZOFFSETTO:-0700
TZNAME:PDT
DTSTART:20260308T100000
END:DAYLIGHT
BEGIN:STANDARD
TZOFFSETFROM:-0700
TZOFFSETTO:-0800
TZNAME:PST
DTSTART:20261101T090000
END:STANDARD
BEGIN:DAYLIGHT
TZOFFSETFROM:-0800
TZOFFSETTO:-0700
TZNAME:PDT
DTSTART:20270314T100000
END:DAYLIGHT
BEGIN:STANDARD
TZOFFSETFROM:-0700
TZOFFSETTO:-0800
TZNAME:PST
DTSTART:20271107T090000
END:STANDARD
END:VTIMEZONE
BEGIN:VEVENT
DTSTART;TZID=America/Los_Angeles:20260508T173000
DTEND;TZID=America/Los_Angeles:20260508T210000
DTSTAMP:20260423T084707
CREATED:20260319T211753Z
LAST-MODIFIED:20260319T211753Z
UID:4300002235-1778261400-1778274000@nbhap.org
SUMMARY:2026 Project Blackbird Benefit Gala
DESCRIPTION:This gala brings together philanthropic leaders\, athletes\, advocates\, and community members to celebrate Joy — and to ensure that young people can find joy again when it may feel out of reach. \nExpect inspiring stories\, powerful lived-experience conversations\, meaningful connection\, and an opportunity to make a tangible difference in the lives of students across the country.
URL:https://nbhap.org/event/2026-project-blackbird-benefit-gala/
LOCATION:Washington\, DC\, Washington\, DC
CATEGORIES:gala or fundraiser,partner event
END:VEVENT
BEGIN:VEVENT
DTSTART;TZID=America/Los_Angeles:20260511T180000
DTEND;TZID=America/Los_Angeles:20260511T220000
DTSTAMP:20260423T084707
CREATED:20260401T011030Z
LAST-MODIFIED:20260401T011030Z
UID:4300002274-1778522400-1778536800@nbhap.org
SUMMARY:2026 NEDA Annual Gala
DESCRIPTION:
URL:https://nbhap.org/event/2026-neda-annual-gala/
LOCATION:New York\, NY\, New York\, NY\, United States
CATEGORIES:gala or fundraiser
END:VEVENT
BEGIN:VEVENT
DTSTART;TZID=America/Los_Angeles:20260518T170000
DTEND;TZID=America/Los_Angeles:20260518T190000
DTSTAMP:20260423T084707
CREATED:20260401T022333Z
LAST-MODIFIED:20260401T022428Z
UID:4300002288-1779123600-1779130800@nbhap.org
SUMMARY:Second Annual Durango Cocktail Reception
DESCRIPTION:
URL:https://nbhap.org/event/second-annual-durango-cocktail-reception/
LOCATION:Durango\, CO\, Durango\, CO\, United States
CATEGORIES:gala or fundraiser
END:VEVENT
END:VCALENDAR