BEGIN:VCALENDAR
VERSION:2.0
PRODID:-//National Behavioral Health Association of Providers (NBHAP) - ECPv6.15.20//NONSGML v1.0//EN
CALSCALE:GREGORIAN
METHOD:PUBLISH
X-ORIGINAL-URL:https://nbhap.org
X-WR-CALDESC:Events for National Behavioral Health Association of Providers (NBHAP)
REFRESH-INTERVAL;VALUE=DURATION:PT1H
X-Robots-Tag:noindex
X-PUBLISHED-TTL:PT1H
BEGIN:VTIMEZONE
TZID:America/Los_Angeles
BEGIN:DAYLIGHT
TZOFFSETFROM:-0800
TZOFFSETTO:-0700
TZNAME:PDT
DTSTART:20240310T100000
END:DAYLIGHT
BEGIN:STANDARD
TZOFFSETFROM:-0700
TZOFFSETTO:-0800
TZNAME:PST
DTSTART:20241103T090000
END:STANDARD
BEGIN:DAYLIGHT
TZOFFSETFROM:-0800
TZOFFSETTO:-0700
TZNAME:PDT
DTSTART:20250309T100000
END:DAYLIGHT
BEGIN:STANDARD
TZOFFSETFROM:-0700
TZOFFSETTO:-0800
TZNAME:PST
DTSTART:20251102T090000
END:STANDARD
BEGIN:DAYLIGHT
TZOFFSETFROM:-0800
TZOFFSETTO:-0700
TZNAME:PDT
DTSTART:20260308T100000
END:DAYLIGHT
BEGIN:STANDARD
TZOFFSETFROM:-0700
TZOFFSETTO:-0800
TZNAME:PST
DTSTART:20261101T090000
END:STANDARD
END:VTIMEZONE
BEGIN:VEVENT
DTSTART;TZID=America/Los_Angeles:20251112T100000
DTEND;TZID=America/Los_Angeles:20251112T113000
DTSTAMP:20260420T072356
CREATED:20250905T165905Z
LAST-MODIFIED:20250905T165905Z
UID:4300001670-1762941600-1762947000@nbhap.org
SUMMARY:No No No… Don’t: From Legal and Ethical Confidentiality to Therapist and Client Issues that Tempt Errors
DESCRIPTION:Confidentiality in a therapeutic relationship can be fraught with pitfalls. Legal and ethical boundaries and violations are difficult to parse. In this CE-based webinar brought to you by Verifyle\, Ronald Mah will cover confidentiality requirements\, identifies underlying principles\, AND therapist vulnerabilities\, client seductions\, and other dynamics that can cause errors that risk legal or ethical sanctions and client harm.
URL:https://nbhap.org/event/no-no-no-dont-from-legal-and-ethical-confidentiality-to-therapist-and-client-issues-that-tempt-errors/
LOCATION:online
CATEGORIES:NBHAP event,webinar or workshop
ATTACH;FMTTYPE=image/png:https://nbhap.org/wp-content/uploads/webinar-No-No-No-Dont-event.png
ORGANIZER;CN="NBHAP (National Behavioral Health Association of Providers)":MAILTO:info@nbhap.org
END:VEVENT
BEGIN:VEVENT
DTSTART;TZID=America/Los_Angeles:20251118T100000
DTEND;TZID=America/Los_Angeles:20251118T110000
DTSTAMP:20260420T072356
CREATED:20250806T192819Z
LAST-MODIFIED:20250918T222951Z
UID:4300001644-1763460000-1763463600@nbhap.org
SUMMARY:Project Blackbird: How to Support and Recognize Eating Disorder Behaviors
DESCRIPTION:In this presentation by PROJECT BLACKBIRD Inc.\, attendees will gain direct insight into our innovative program through a guided experience and facilitated discussion.
URL:https://nbhap.org/event/project-blackbird-how-to-support-and-recognize-eating-disorder-behaviors/
LOCATION:online
CATEGORIES:NBHAP event,webinar or workshop
ATTACH;FMTTYPE=image/png:https://nbhap.org/wp-content/uploads/2025-1118-Project-Blackbird-WordPress.png
ORGANIZER;CN="NBHAP (National Behavioral Health Association of Providers)":MAILTO:info@nbhap.org
END:VEVENT
END:VCALENDAR