BEGIN:VCALENDAR
VERSION:2.0
PRODID:-//National Behavioral Health Association of Providers (NBHAP) - ECPv6.15.20//NONSGML v1.0//EN
CALSCALE:GREGORIAN
METHOD:PUBLISH
X-ORIGINAL-URL:https://nbhap.org
X-WR-CALDESC:Events for National Behavioral Health Association of Providers (NBHAP)
REFRESH-INTERVAL;VALUE=DURATION:PT1H
X-Robots-Tag:noindex
X-PUBLISHED-TTL:PT1H
BEGIN:VTIMEZONE
TZID:America/Los_Angeles
BEGIN:DAYLIGHT
TZOFFSETFROM:-0800
TZOFFSETTO:-0700
TZNAME:PDT
DTSTART:20250309T100000
END:DAYLIGHT
BEGIN:STANDARD
TZOFFSETFROM:-0700
TZOFFSETTO:-0800
TZNAME:PST
DTSTART:20251102T090000
END:STANDARD
BEGIN:DAYLIGHT
TZOFFSETFROM:-0800
TZOFFSETTO:-0700
TZNAME:PDT
DTSTART:20260308T100000
END:DAYLIGHT
BEGIN:STANDARD
TZOFFSETFROM:-0700
TZOFFSETTO:-0800
TZNAME:PST
DTSTART:20261101T090000
END:STANDARD
BEGIN:DAYLIGHT
TZOFFSETFROM:-0800
TZOFFSETTO:-0700
TZNAME:PDT
DTSTART:20270314T100000
END:DAYLIGHT
BEGIN:STANDARD
TZOFFSETFROM:-0700
TZOFFSETTO:-0800
TZNAME:PST
DTSTART:20271107T090000
END:STANDARD
END:VTIMEZONE
BEGIN:VEVENT
DTSTART;TZID=America/Los_Angeles:20260121T100000
DTEND;TZID=America/Los_Angeles:20260121T110000
DTSTAMP:20260420T040406
CREATED:20250702T221315Z
LAST-MODIFIED:20250923T170913Z
UID:4300001638-1768989600-1768993200@nbhap.org
SUMMARY:Getting What You Pay For: Legal Pitfalls in Paying for Referrals
DESCRIPTION:Marketing in the healthcare industry is fraught with risk\, and many have gone to prison for undertaking illegal and unethical marketing practices. This free CE-based webinar will go over what constitutes legal and illegal marketing practices in healthcare\, with an emphasis on federal and state laws targeting the addiction recovery industry. We’ll also provide best practices to avoid liability for kickbacks and false advertising. Rescheduled
URL:https://nbhap.org/event/getting-what-you-pay-for-legal-pitfalls-in-paying-for-referrals/
LOCATION:online
CATEGORIES:NBHAP event,webinar or workshop
ATTACH;FMTTYPE=image/png:https://nbhap.org/wp-content/uploads/2025_0820-webinar-Getting-What-You-Pay-For.png
ORGANIZER;CN="NBHAP (National Behavioral Health Association of Providers)":MAILTO:info@nbhap.org
END:VEVENT
BEGIN:VEVENT
DTSTART;TZID=America/Los_Angeles:20260128T100000
DTEND;TZID=America/Los_Angeles:20260128T110000
DTSTAMP:20260420T040406
CREATED:20251217T190335Z
LAST-MODIFIED:20251217T190335Z
UID:4300002060-1769594400-1769598000@nbhap.org
SUMMARY:Understanding Eating Disorders
DESCRIPTION:For behavioral health providers\, understanding eating disorders is crucial for early identification\, effective intervention\, and compassionate care. In this CE webinar\, co-presented by NEDA\, you will get an essential overview of eating disorders\, including who they affect\, types and symptoms\, and evidence-based treatments.
URL:https://nbhap.org/event/understanding-eating-disorders/
LOCATION:online
CATEGORIES:NBHAP event
ATTACH;FMTTYPE=image/png:https://nbhap.org/wp-content/uploads/webinar-Understanding-Eating-Disorders.png
ORGANIZER;CN="NBHAP (National Behavioral Health Association of Providers)":MAILTO:info@nbhap.org
END:VEVENT
END:VCALENDAR