BEGIN:VCALENDAR
VERSION:2.0
PRODID:-//National Behavioral Health Association of Providers (NBHAP) - ECPv6.15.20//NONSGML v1.0//EN
CALSCALE:GREGORIAN
METHOD:PUBLISH
X-ORIGINAL-URL:https://nbhap.org
X-WR-CALDESC:Events for National Behavioral Health Association of Providers (NBHAP)
REFRESH-INTERVAL;VALUE=DURATION:PT1H
X-Robots-Tag:noindex
X-PUBLISHED-TTL:PT1H
BEGIN:VTIMEZONE
TZID:America/Los_Angeles
BEGIN:DAYLIGHT
TZOFFSETFROM:-0800
TZOFFSETTO:-0700
TZNAME:PDT
DTSTART:20200308T100000
END:DAYLIGHT
BEGIN:STANDARD
TZOFFSETFROM:-0700
TZOFFSETTO:-0800
TZNAME:PST
DTSTART:20201101T090000
END:STANDARD
BEGIN:DAYLIGHT
TZOFFSETFROM:-0800
TZOFFSETTO:-0700
TZNAME:PDT
DTSTART:20210314T100000
END:DAYLIGHT
BEGIN:STANDARD
TZOFFSETFROM:-0700
TZOFFSETTO:-0800
TZNAME:PST
DTSTART:20211107T090000
END:STANDARD
BEGIN:DAYLIGHT
TZOFFSETFROM:-0800
TZOFFSETTO:-0700
TZNAME:PDT
DTSTART:20220313T100000
END:DAYLIGHT
BEGIN:STANDARD
TZOFFSETFROM:-0700
TZOFFSETTO:-0800
TZNAME:PST
DTSTART:20221106T090000
END:STANDARD
BEGIN:DAYLIGHT
TZOFFSETFROM:-0800
TZOFFSETTO:-0700
TZNAME:PDT
DTSTART:20230312T100000
END:DAYLIGHT
BEGIN:STANDARD
TZOFFSETFROM:-0700
TZOFFSETTO:-0800
TZNAME:PST
DTSTART:20231105T090000
END:STANDARD
BEGIN:DAYLIGHT
TZOFFSETFROM:-0800
TZOFFSETTO:-0700
TZNAME:PDT
DTSTART:20240310T100000
END:DAYLIGHT
BEGIN:STANDARD
TZOFFSETFROM:-0700
TZOFFSETTO:-0800
TZNAME:PST
DTSTART:20241103T090000
END:STANDARD
END:VTIMEZONE
BEGIN:VEVENT
DTSTART;TZID=America/Los_Angeles:20231115T100000
DTEND;TZID=America/Los_Angeles:20231115T110000
DTSTAMP:20260420T085601
CREATED:20230823T194115Z
LAST-MODIFIED:20230823T194115Z
UID:4300000880-1700042400-1700046000@nbhap.org
SUMMARY:Webinar: Fall 2023 Advocacy Update
DESCRIPTION:Andrew Kessler gives an update as to what NBHAP has been up to as well as general advocacy information for the behavioral health and addiction treatment industry. Free CE if you attend live!
URL:https://nbhap.org/event/webinar-fall-2023-advocacy-update/
LOCATION:online
CATEGORIES:NBHAP event,webinar or workshop
ATTACH;FMTTYPE=image/png:https://nbhap.org/wp-content/uploads/2023_1115-Fall-2023-Advocacy-Update.png
ORGANIZER;CN="NBHAP (National Behavioral Health Association of Providers)":MAILTO:info@nbhap.org
END:VEVENT
BEGIN:VEVENT
DTSTART;TZID=America/Los_Angeles:20231101T100000
DTEND;TZID=America/Los_Angeles:20231101T110000
DTSTAMP:20260420T085601
CREATED:20230823T192244Z
LAST-MODIFIED:20230823T192253Z
UID:4300000879-1698832800-1698836400@nbhap.org
SUMMARY:Webinar: The Devastating Impact of ACEs
DESCRIPTION:Developing a trauma-informed mindset is critical to help others deal with a world filled with stress. In this webinar\, you will get an in-depth look at toxic stress and Adverse Childhood Experiences (ACEs) and the research that has been done. The research will show the impact of toxic stress on the development of the brain in children and how to build resilience in children to help overcome that trauma. Free CE if you attend live!
URL:https://nbhap.org/event/webinar-the-devastating-impact-of-aces/
LOCATION:online
CATEGORIES:NBHAP event,webinar or workshop
ATTACH;FMTTYPE=image/png:https://nbhap.org/wp-content/uploads/2023_1101-webinar-The-Devastating-Impact-of-ACEs.png
ORGANIZER;CN="NBHAP (National Behavioral Health Association of Providers)":MAILTO:info@nbhap.org
END:VEVENT
BEGIN:VEVENT
DTSTART;TZID=America/Los_Angeles:20230920T100000
DTEND;TZID=America/Los_Angeles:20230920T110000
DTSTAMP:20260420T085601
CREATED:20230807T182023Z
LAST-MODIFIED:20230807T182052Z
UID:4300000875-1695204000-1695207600@nbhap.org
SUMMARY:Webinar: Children of Parental Addiction
DESCRIPTION:Children of parental addiction live with trauma and chronic stress. In this webinar\, Wendy Wade will show how to understand needs and nurture relationships. Free CE if you attend live!
URL:https://nbhap.org/event/webinar-children-of-parental-addiction/
LOCATION:online
CATEGORIES:NBHAP event
ATTACH;FMTTYPE=image/png:https://nbhap.org/wp-content/uploads/2023_0920-webinar-Children-of-Parental-Addiction-main.png
ORGANIZER;CN="NBHAP (National Behavioral Health Association of Providers)":MAILTO:info@nbhap.org
END:VEVENT
BEGIN:VEVENT
DTSTART;TZID=America/Los_Angeles:20230809T100000
DTEND;TZID=America/Los_Angeles:20230809T110000
DTSTAMP:20260420T085601
CREATED:20230626T190758Z
LAST-MODIFIED:20230626T190806Z
UID:4300000864-1691575200-1691578800@nbhap.org
SUMMARY:Webinar: Confidentiality Matters: HIPAA Training with a Focus on Behavioral Health
DESCRIPTION:This webinar emphasizes the importance of developing a strong HIPAA compliance program for addiction treatment programs\, as well as the basics of HIPAA compliance\, Title 42 Part 2\, and best practices for implementing these regulations in care settings\, HIPAA security safeguards\, surviving the enforcement process\, and fostering a culture of compliance.
URL:https://nbhap.org/event/webinar-confidentiality-matters-hipaa-training-with-a-focus-on-behavioral-health/
LOCATION:online
CATEGORIES:NBHAP event,webinar or workshop
ATTACH;FMTTYPE=image/png:https://nbhap.org/wp-content/uploads/2023_0809-webinar-Confidentiality-Matters-HIPAA-WordPress-main.png
ORGANIZER;CN="NBHAP (National Behavioral Health Association of Providers)":MAILTO:info@nbhap.org
END:VEVENT
BEGIN:VEVENT
DTSTART;TZID=America/Los_Angeles:20230621T100000
DTEND;TZID=America/Los_Angeles:20230621T113000
DTSTAMP:20260420T085601
CREATED:20230306T200831Z
LAST-MODIFIED:20230420T205603Z
UID:4300000836-1687341600-1687347000@nbhap.org
SUMMARY:Webinar: The Brain of Addiction: For Loved Ones
DESCRIPTION:Dr. Bob Weathers\, addiction educator and recovery coach\, shares over forty years of clinical experience and research on navigating recovery from addiction. He addresses\, in plain English\, key questions that most often arise in working with the loved ones of individuals seeking recovery in this CE-based webinar. \nFree to attend\, and 1.5 CEs provided to those who attend live.
URL:https://nbhap.org/event/webinar-a-glimpse-behind-walls-responding-to-sex-trafficking-post-incarceration/
LOCATION:online
CATEGORIES:NBHAP event,webinar or workshop
ATTACH;FMTTYPE=image/png:https://nbhap.org/wp-content/uploads/2023_0621-webinar-The-Brain-of-Addiction-For-Loved-Ones-main.png
ORGANIZER;CN="NBHAP (National Behavioral Health Association of Providers)":MAILTO:info@nbhap.org
END:VEVENT
BEGIN:VEVENT
DTSTART;TZID=America/Los_Angeles:20230531T100000
DTEND;TZID=America/Los_Angeles:20230531T110000
DTSTAMP:20260420T085601
CREATED:20230412T181516Z
LAST-MODIFIED:20230412T181516Z
UID:4300000850-1685527200-1685530800@nbhap.org
SUMMARY:Webinar: he Shifting SUD Policy Landscape
DESCRIPTION:2023 has brought with it a shift in the SUD policy landscape. Learn more about NBHAP’s advocacy work and what’s been happening in this CE-based webinar. \nFree to attend\, and 1 CE provided to those who attend live.
URL:https://nbhap.org/event/webinar-he-shifting-sud-policy-landscape/
LOCATION:online
CATEGORIES:NBHAP event,webinar or workshop
ATTACH;FMTTYPE=image/png:https://nbhap.org/wp-content/uploads/2023_0531-webinar-The-Shifting-SUD-Policy-Landscape-WordPress-main.png
ORGANIZER;CN="NBHAP (National Behavioral Health Association of Providers)":MAILTO:info@nbhap.org
END:VEVENT
BEGIN:VEVENT
DTSTART;TZID=America/Los_Angeles:20230517T093000
DTEND;TZID=America/Los_Angeles:20230517T103000
DTSTAMP:20260420T085601
CREATED:20230322T191323Z
LAST-MODIFIED:20230322T191508Z
UID:4300000849-1684315800-1684319400@nbhap.org
SUMMARY:Webinar: SUD Patient Records & Changing Federal Confidentiality Regulations
DESCRIPTION:This one-hour CE webinar will provide participants with a summative review of the changes to 42 CFR Part 2 regulations\, with a special emphasis on how the recent changes both align with and differ from other related federal privacy regulations (HIPAA\, the HITECH Act\, and the CARES Act). \nFree to attend\, and 1 CE provided to those who attend live.
URL:https://nbhap.org/event/webinar-sud-patient-records-changing-federal-confidentiality-regulations/
LOCATION:online
CATEGORIES:NBHAP event,webinar or workshop
ATTACH;FMTTYPE=image/png:https://nbhap.org/wp-content/uploads/2023_0517-webinar-SUD-Patient-Records-main.png
ORGANIZER;CN="NBHAP (National Behavioral Health Association of Providers)":MAILTO:info@nbhap.org
END:VEVENT
BEGIN:VEVENT
DTSTART;TZID=America/Los_Angeles:20230214T100000
DTEND;TZID=America/Los_Angeles:20230214T110000
DTSTAMP:20260420T085601
CREATED:20230105T173741Z
LAST-MODIFIED:20230105T173741Z
UID:4300000813-1676368800-1676372400@nbhap.org
SUMMARY:Webinar: Beyond Sobriety: How the Recovery Capital Index Supports Clients\, Practitioners and Organizational Outcomes
DESCRIPTION:The Recovery Capital Index (RCI) is becoming the defacto standard for outcomes measurement across the industry. Delivered with simple\, ubiquitous technology\, it is being used to measure and improve outcomes\, and scale communication with your people. Learn about the Recovery Capital Index (RCI) and how it is delivered in this CE-based webinar. \nFree to attend\, and 1 CE provided to those who attend live.
URL:https://nbhap.org/event/webinar-beyond-sobriety-how-the-recovery-capital-index-supports-clients-practitioners-and-organizational-outcomes/
LOCATION:online
CATEGORIES:NBHAP event,webinar or workshop
ATTACH;FMTTYPE=image/png:https://nbhap.org/wp-content/uploads/2023_0214-Beyond-Sobriety-webinar-main.png
ORGANIZER;CN="NBHAP (National Behavioral Health Association of Providers)":MAILTO:info@nbhap.org
END:VEVENT
BEGIN:VEVENT
DTSTART;TZID=America/Los_Angeles:20230110T100000
DTEND;TZID=America/Los_Angeles:20230110T110000
DTSTAMP:20260420T085601
CREATED:20221116T185756Z
LAST-MODIFIED:20221116T185846Z
UID:4300000790-1673344800-1673348400@nbhap.org
SUMMARY:Webinar: Being “SMART” About Treatment Approaches to Harm Reduction
DESCRIPTION:This webinar will help participants understand the SMART recovery approach to behavioral change. \nFree to attend\, and 1 CE provided to those who attend live.
URL:https://nbhap.org/event/webinar-being-smart-about-treatment-approaches-to-harm-reduction/
LOCATION:online
CATEGORIES:NBHAP event,webinar or workshop
ATTACH;FMTTYPE=image/png:https://nbhap.org/wp-content/uploads/webinar-Being-SMART-About-Treatment-Approaches-to-Harm-Reduction-main.png
ORGANIZER;CN="NBHAP (National Behavioral Health Association of Providers)":MAILTO:info@nbhap.org
END:VEVENT
BEGIN:VEVENT
DTSTART;TZID=America/Los_Angeles:20221220T100000
DTEND;TZID=America/Los_Angeles:20221220T110000
DTSTAMP:20260420T085601
CREATED:20221116T185514Z
LAST-MODIFIED:20221116T185749Z
UID:4300000789-1671530400-1671534000@nbhap.org
SUMMARY:Webinar: Maximizing Revenue and Outcomes
DESCRIPTION:While compliance can be measured easily\, organizational health cannot. In this CE-based webinar\, you will learn how to maximize outcomes through organizational health\, compliance\, and performance improvement. \nFree to attend\, and 1 CE provided to those who attend live.
URL:https://nbhap.org/event/webinar-maximizing-revenue-and-outcomes/
LOCATION:online
CATEGORIES:NBHAP event,webinar or workshop
ATTACH;FMTTYPE=image/png:https://nbhap.org/wp-content/uploads/Maximizing-Revenue-and-Outcomes-WordPress-event-main-image-400x250-1.png
ORGANIZER;CN="NBHAP (National Behavioral Health Association of Providers)":MAILTO:info@nbhap.org
END:VEVENT
BEGIN:VEVENT
DTSTART;TZID=America/Los_Angeles:20220816T100000
DTEND;TZID=America/Los_Angeles:20220816T110000
DTSTAMP:20260420T085601
CREATED:20220419T195715Z
LAST-MODIFIED:20220419T195715Z
UID:4300000745-1660644000-1660647600@nbhap.org
SUMMARY:Webinar: EKRA Essentials — What Providers Need to Know
DESCRIPTION:This one-hour CE event will show providers what they need to know about risks\, compliance and enforcement related to the Eliminating Kickbacks in Recovery Act (EKRA) and related laws. \nFree to attend\, and 1 CE provided to those who attend live.
URL:https://nbhap.org/event/webinar-ekra-essentials-what-providers-need-to-know/
LOCATION:online
CATEGORIES:NBHAP event,webinar or workshop
ATTACH;FMTTYPE=image/png:https://nbhap.org/wp-content/uploads/2022_0816-webinar-EKRA-Essentials-main-.png
ORGANIZER;CN="NBHAP (National Behavioral Health Association of Providers)":MAILTO:info@nbhap.org
END:VEVENT
BEGIN:VEVENT
DTSTART;TZID=America/Los_Angeles:20220712T100000
DTEND;TZID=America/Los_Angeles:20220712T110000
DTSTAMP:20260420T085601
CREATED:20220519T205056Z
LAST-MODIFIED:20220519T205056Z
UID:4300000760-1657620000-1657623600@nbhap.org
SUMMARY:Webinar: OMG! What's Next? The Basics of Disaster Preparedness
DESCRIPTION:In this CE-based webinar\, you will learn the basics of disaster preparedness and best practices for implementation within your care settings. \nFree to attend\, and 1 CE provided to those who attend live.
URL:https://nbhap.org/event/webinar-omg-whats-next-the-basics-of-disaster-preparedness/
LOCATION:online
CATEGORIES:NBHAP event,webinar or workshop
ATTACH;FMTTYPE=image/png:https://nbhap.org/wp-content/uploads/2022_0712-BHAP-webinar-The-Basics-of-Disaster-Preparedness-main.png
ORGANIZER;CN="NBHAP (National Behavioral Health Association of Providers)":MAILTO:info@nbhap.org
END:VEVENT
BEGIN:VEVENT
DTSTART;TZID=America/Los_Angeles:20220517T100000
DTEND;TZID=America/Los_Angeles:20220517T110000
DTSTAMP:20260420T085601
CREATED:20220314T195244Z
LAST-MODIFIED:20220419T195425Z
UID:4300000729-1652781600-1652785200@nbhap.org
SUMMARY:Webinar: Recent Development in the Mental Health Parity Laws: What You Need to Know for Improving Reimbursement
DESCRIPTION:In the past several years\, there have been significant efforts at both the state and federal level to strengthen mental health parity legislation. This CE-based webinar will delve into the most notable existing and prospective legislation\, with an emphasis on California’s SB 855. \nFree to attend\, and 1 CE provided to those who attend live.
URL:https://nbhap.org/event/webinar-mental-health-parity-laws/
LOCATION:online
CATEGORIES:NBHAP event,webinar or workshop
ATTACH;FMTTYPE=image/png:https://nbhap.org/wp-content/uploads/2022_0517webinar-Mental-Health-Parity-Laws-WordPress.png
ORGANIZER;CN="NBHAP (National Behavioral Health Association of Providers)":MAILTO:info@nbhap.org
END:VEVENT
BEGIN:VEVENT
DTSTART;TZID=America/Los_Angeles:20220510T100000
DTEND;TZID=America/Los_Angeles:20220510T110000
DTSTAMP:20260420T085602
CREATED:20220419T195536Z
LAST-MODIFIED:20220419T195536Z
UID:4300000744-1652176800-1652180400@nbhap.org
SUMMARY:Webinar: Reclaiming the Podium: Making SUD Policy a Priority Once Again
DESCRIPTION:This one-hour CE event will examine how Congress is addressing SUD prevention\, treatment\, and recovery. \nFree to attend\, and 1 CE provided to those who attend live.
URL:https://nbhap.org/event/webinar-reclaiming-the-podium-making-sud-policy-a-priority-once-again/
LOCATION:online
CATEGORIES:NBHAP event,webinar or workshop
ATTACH;FMTTYPE=image/png:https://nbhap.org/wp-content/uploads/2022_0510-BHAP-webinar-Reclaiming-the-Podium-main.png
ORGANIZER;CN="NBHAP (National Behavioral Health Association of Providers)":MAILTO:info@nbhap.org
END:VEVENT
BEGIN:VEVENT
DTSTART;TZID=America/Los_Angeles:20220405T100000
DTEND;TZID=America/Los_Angeles:20220405T110000
DTSTAMP:20260420T085602
CREATED:20220217T234146Z
LAST-MODIFIED:20220314T195235Z
UID:4300000723-1649152800-1649156400@nbhap.org
SUMMARY:Webinar: Recovery Resilience vs. Shame and Stigma: Necessary Innovations in Addiction Treatment
DESCRIPTION:This webinar will navigate recovery from addiction while addressing barriers like personal shame and cultural stigma. Tying in principles and methods from his recent books on recovery resilience\, Dr. Bob Weathers will start with a diagnostic approach\, then address resources and limitations inherent in early recovery. Finally\, he’ll incorporate cognitive-behavioral and mindfulness strategies\, along with the creative process and relational neuroscience\, into a more advanced set of resources to aid in a sustained and successful recovery. \nFree to attend\, and 1 CE provided to those who attend live.
URL:https://nbhap.org/event/webinar-recovery-resilience-vs-shame-and-stigma-necessary-innovations-in-addiction-treatment/
LOCATION:online
CATEGORIES:NBHAP event,webinar or workshop
ATTACH;FMTTYPE=image/png:https://nbhap.org/wp-content/uploads/Recovery-Resilience-vs-Shame-and-Stigma-webinar-main.png
ORGANIZER;CN="NBHAP (National Behavioral Health Association of Providers)":MAILTO:info@nbhap.org
END:VEVENT
BEGIN:VEVENT
DTSTART;TZID=America/Los_Angeles:20210914T100000
DTEND;TZID=America/Los_Angeles:20210914T110000
DTSTAMP:20260420T085602
CREATED:20210819T183636Z
LAST-MODIFIED:20210819T183824Z
UID:4300000582-1631613600-1631617200@nbhap.org
SUMMARY:Webinar: Around the Horn: Key Legal Topics in Behavioral Health
DESCRIPTION:
URL:https://nbhap.org/event/webinar-around-the-horn-key-legal-topics-in-behavioral-health/
LOCATION:online
CATEGORIES:NBHAP event,webinar or workshop
ATTACH;FMTTYPE=image/png:https://nbhap.org/wp-content/uploads/2021_0914-BHAP-webinar-Key-Legal-Topics-in-Behavioral-Health-main.png
ORGANIZER;CN="NBHAP (National Behavioral Health Association of Providers)":MAILTO:info@nbhap.org
END:VEVENT
BEGIN:VEVENT
DTSTART;TZID=America/Los_Angeles:20210831T100000
DTEND;TZID=America/Los_Angeles:20210831T110000
DTSTAMP:20260420T085602
CREATED:20210803T002000Z
LAST-MODIFIED:20210803T002000Z
UID:4300000473-1630404000-1630407600@nbhap.org
SUMMARY:Webinar: Making Addiction Treatment "Smart"
DESCRIPTION:
URL:https://nbhap.org/event/webinar-making-addiction-treatment-smart-083121/
LOCATION:online
CATEGORIES:NBHAP event,webinar or workshop
ATTACH;FMTTYPE=image/png:https://nbhap.org/wp-content/uploads/2021_0831-BHAP-webinar-Making-Addiction-Treatment-Smart-event-main.png
ORGANIZER;CN="NBHAP (National Behavioral Health Association of Providers)":MAILTO:info@nbhap.org
END:VEVENT
BEGIN:VEVENT
DTSTART;TZID=America/Los_Angeles:20210826T100000
DTEND;TZID=America/Los_Angeles:20210826T110000
DTSTAMP:20260420T085602
CREATED:20210802T235238Z
LAST-MODIFIED:20210802T235400Z
UID:4300000471-1629972000-1629975600@nbhap.org
SUMMARY:Webinar: Substance Abuse Stigma -- The Latest Research\, Effects\, & Steps to Turn the Tide
DESCRIPTION:While a staggering 20.4 million Americans ages 12 and older have a substance use disorder (SUD)\, only 4.2 million receive treatment. Why? A good portion of the answer lies somewhere in the stigma associated with substance abuse. This webinar will address the topic of substance abuse stigma head on. Attendees will walk away understanding SUD\, the stigma associated with it\, the impact stigma can have on individuals with SUDs\, and how the general public and clinicians can help reduce stigma.
URL:https://nbhap.org/event/webinar-substance-abuse-stigma-the-latest-research-effects-steps-to-turn-the-tide-082621/
LOCATION:online
CATEGORIES:NBHAP event,webinar or workshop
ATTACH;FMTTYPE=image/png:https://nbhap.org/wp-content/uploads/2021_0826-BHAP-webinar-Substance-Abuse-Stigma-event-main.png
ORGANIZER;CN="NBHAP (National Behavioral Health Association of Providers)":MAILTO:info@nbhap.org
END:VEVENT
BEGIN:VEVENT
DTSTART;TZID=America/Los_Angeles:20210727T100000
DTEND;TZID=America/Los_Angeles:20210727T110000
DTSTAMP:20260420T085602
CREATED:20210604T191822Z
LAST-MODIFIED:20210707T194602Z
UID:4300000444-1627380000-1627383600@nbhap.org
SUMMARY:Webinar: 2021 Advocacy Update: Moving on from COVID
DESCRIPTION:As the COVID emergency eases\, behavioral health advocates in Washington are left with two major policy questions: will we ever see a return to “normal” advocacy\, and what does it mean for behavioral health? \nThe COVID emergency was a boon for funding\, but now we need to return to advancing our policy priorities\, which are needed more than ever in the wake of the pandemic. Demand for the services provided by our professionals is at an all-time high\, and we must continue to advocate for policies that will enable us to build a workforce and provide the services that are in such great demand. \nIn this webinar\, BHAP’s advocate Andrew Kessler will update you on the latest information coming out of Washington\, DC\, that affects the behavioral health and addiction treatment industry.
URL:https://nbhap.org/event/webinar-2021-advocacy-update-moving-on-from-covid-072721/
LOCATION:online
CATEGORIES:NBHAP event,webinar or workshop
ATTACH;FMTTYPE=image/png:https://nbhap.org/wp-content/uploads/2021_0727-BHAP-webinar-2021-Advocacy-Update-Moving-On-From-COVID-main.png
ORGANIZER;CN="NBHAP (National Behavioral Health Association of Providers)":MAILTO:info@nbhap.org
END:VEVENT
BEGIN:VEVENT
DTSTART;TZID=America/Los_Angeles:20210722T100000
DTEND;TZID=America/Los_Angeles:20210722T110000
DTSTAMP:20260420T085602
CREATED:20210521T213446Z
LAST-MODIFIED:20210707T194610Z
UID:4300000439-1626948000-1626951600@nbhap.org
SUMMARY:Finding Your Dream Job or Candidate in Behavioral Health
DESCRIPTION:The job search can be tough – no matter if you need a job or have one to fill. This webinar is for both sides. For those looking\, you’ll learn best practices for evaluating a job opportunity in behavioral health. For those hiring\, you’ll learn how to attract and hire ideal candidates. \nPresenter:\nJordan Young\, Jordan and Associates\nJamie Vance\, The Vance Group Healthcare Consulting
URL:https://nbhap.org/event/finding-your-dream-job-or-candidate-in-behavioral-health-072221/
LOCATION:online
CATEGORIES:NBHAP event,webinar or workshop
ATTACH;FMTTYPE=image/png:https://nbhap.org/wp-content/uploads/2021_0722-webinar-Finding-Your-Dream-Job-or-Candidate-in-Behavioral-Health-main.png
ORGANIZER;CN="NBHAP (National Behavioral Health Association of Providers)":MAILTO:info@nbhap.org
END:VEVENT
BEGIN:VEVENT
DTSTART;TZID=America/Los_Angeles:20210608T100000
DTEND;TZID=America/Los_Angeles:20210608T110000
DTSTAMP:20260420T085602
CREATED:20210521T213717Z
LAST-MODIFIED:20210707T195058Z
UID:4300000441-1623146400-1623150000@nbhap.org
SUMMARY:Webinar: Accreditation – The First Step to a Safer Organization
DESCRIPTION:The Joint Commission envisions a future of zero harm in behavioral health and human services and is committed to making that a reality. This webinar explores and defines a culture of safety and high reliability and its importance in moving toward zero harm. It will discuss how to assess and measure your organization’s safety culture and steps to achieve a culture of safety. \nPresenter:\nYvonne Rockwood\, The Joint Commission
URL:https://nbhap.org/event/webinar-accreditation-the-first-step-to-a-safer-organization-060821/
LOCATION:online
CATEGORIES:NBHAP event,webinar or workshop
ORGANIZER;CN="NBHAP (National Behavioral Health Association of Providers)":MAILTO:info@nbhap.org
END:VEVENT
END:VCALENDAR