BEGIN:VCALENDAR
VERSION:2.0
PRODID:-//National Behavioral Health Association of Providers (NBHAP) - ECPv6.15.20//NONSGML v1.0//EN
CALSCALE:GREGORIAN
METHOD:PUBLISH
X-ORIGINAL-URL:https://nbhap.org
X-WR-CALDESC:Events for National Behavioral Health Association of Providers (NBHAP)
REFRESH-INTERVAL;VALUE=DURATION:PT1H
X-Robots-Tag:noindex
X-PUBLISHED-TTL:PT1H
BEGIN:VTIMEZONE
TZID:America/Los_Angeles
BEGIN:DAYLIGHT
TZOFFSETFROM:-0800
TZOFFSETTO:-0700
TZNAME:PDT
DTSTART:20240310T100000
END:DAYLIGHT
BEGIN:STANDARD
TZOFFSETFROM:-0700
TZOFFSETTO:-0800
TZNAME:PST
DTSTART:20241103T090000
END:STANDARD
BEGIN:DAYLIGHT
TZOFFSETFROM:-0800
TZOFFSETTO:-0700
TZNAME:PDT
DTSTART:20250309T100000
END:DAYLIGHT
BEGIN:STANDARD
TZOFFSETFROM:-0700
TZOFFSETTO:-0800
TZNAME:PST
DTSTART:20251102T090000
END:STANDARD
BEGIN:DAYLIGHT
TZOFFSETFROM:-0800
TZOFFSETTO:-0700
TZNAME:PDT
DTSTART:20260308T100000
END:DAYLIGHT
BEGIN:STANDARD
TZOFFSETFROM:-0700
TZOFFSETTO:-0800
TZNAME:PST
DTSTART:20261101T090000
END:STANDARD
END:VTIMEZONE
BEGIN:VEVENT
DTSTART;TZID=America/Los_Angeles:20250110T100000
DTEND;TZID=America/Los_Angeles:20250110T120000
DTSTAMP:20260421T043552
CREATED:20250106T203912Z
LAST-MODIFIED:20250106T203912Z
UID:4300001103-1736503200-1736510400@nbhap.org
SUMMARY:SUD Counselor Clinical Supervision Training 2025
DESCRIPTION:Join CCAPP’s comprehensive training program designed to equip aspiring clinical supervisors with the essential knowledge and skills to effectively guide Substance Use Disorder (SUD) counselors. Webinar version also available.
URL:https://nbhap.org/event/sud-counselor-clinical-supervision-training-2025/
LOCATION:Sacramento\, CA\, Sacramento\, California
CATEGORIES:partner event
END:VEVENT
BEGIN:VEVENT
DTSTART;TZID=America/Los_Angeles:20250115T110000
DTEND;TZID=America/Los_Angeles:20250115T120000
DTSTAMP:20260421T043552
CREATED:20250109T223042Z
LAST-MODIFIED:20250109T223042Z
UID:4300001104-1736938800-1736942400@nbhap.org
SUMMARY:It Matters Launch Party Registration 2025
DESCRIPTION:The Kansas Prevention Collaborative will be hosting a launch party and will go over the following: \n\nPromote the use of the It Matters materials\nShare how it can be used to support coalitions and communities\nProvide an opportunity for questions\, feedback\, and suggested changes.\nProvide assets in your most requested sizes for your promotional materials and distribution:\n\nAs a recap of what to expect\, this will be 8 new assets in 7 file formats for 2 primary audiences (Young Adults and Youth) that will soon be available to access on the KPC It Matters webpages.
URL:https://nbhap.org/event/it-matters-launch-party-registration-2025/
LOCATION:online
CATEGORIES:partner event
END:VEVENT
BEGIN:VEVENT
DTSTART;VALUE=DATE:20250128
DTEND;VALUE=DATE:20250131
DTSTAMP:20260421T043552
CREATED:20241219T002519Z
LAST-MODIFIED:20241219T002519Z
UID:4300001100-1738022400-1738281599@nbhap.org
SUMMARY:NATSAP Annual Conference 2025
DESCRIPTION:Join us in Carlsbad\, CA on January 28-30\, 2025 for the 2025 NATSAP Annual Conference!
URL:https://nbhap.org/event/natsap-annual-conference-2025/
LOCATION:Carlsbad\, CA\, Carlsbad\, CA\, United States
CATEGORIES:conference or summit,partner event
END:VEVENT
END:VCALENDAR