BEGIN:VCALENDAR
VERSION:2.0
PRODID:-//National Behavioral Health Association of Providers (NBHAP) - ECPv6.15.20//NONSGML v1.0//EN
CALSCALE:GREGORIAN
METHOD:PUBLISH
X-WR-CALNAME:National Behavioral Health Association of Providers (NBHAP)
X-ORIGINAL-URL:https://nbhap.org
X-WR-CALDESC:Events for National Behavioral Health Association of Providers (NBHAP)
REFRESH-INTERVAL;VALUE=DURATION:PT1H
X-Robots-Tag:noindex
X-PUBLISHED-TTL:PT1H
BEGIN:VTIMEZONE
TZID:America/Los_Angeles
BEGIN:DAYLIGHT
TZOFFSETFROM:-0800
TZOFFSETTO:-0700
TZNAME:PDT
DTSTART:20240310T100000
END:DAYLIGHT
BEGIN:STANDARD
TZOFFSETFROM:-0700
TZOFFSETTO:-0800
TZNAME:PST
DTSTART:20241103T090000
END:STANDARD
BEGIN:DAYLIGHT
TZOFFSETFROM:-0800
TZOFFSETTO:-0700
TZNAME:PDT
DTSTART:20250309T100000
END:DAYLIGHT
BEGIN:STANDARD
TZOFFSETFROM:-0700
TZOFFSETTO:-0800
TZNAME:PST
DTSTART:20251102T090000
END:STANDARD
BEGIN:DAYLIGHT
TZOFFSETFROM:-0800
TZOFFSETTO:-0700
TZNAME:PDT
DTSTART:20260308T100000
END:DAYLIGHT
BEGIN:STANDARD
TZOFFSETFROM:-0700
TZOFFSETTO:-0800
TZNAME:PST
DTSTART:20261101T090000
END:STANDARD
END:VTIMEZONE
BEGIN:VEVENT
DTSTART;VALUE=DATE:20250212
DTEND;VALUE=DATE:20250215
DTSTAMP:20260421T031158
CREATED:20241022T220644Z
LAST-MODIFIED:20250114T234636Z
UID:4300001051-1739318400-1739577599@nbhap.org
SUMMARY:BHASe 2025
DESCRIPTION:BHASe – Behavioral Health Summit for Executives – is a premier event that brings together corporate and strategic leaders of behavioral health centers and networks with private equity sources\, family offices\, banks\, brokers\, lenders\, and transactional vendors. \nBHASe spans the entire industry\, from outpatient mental health and addiction facilities to residential treatment centers\, from acute inpatient psychiatric hospitals to ABA and IDD programs. The conference is focused on helping your business prosper through transactional and acquisition-based networking\, while learning about pivotal changes to the regulatory landscape and the investment outlook currently influencing the industry.
URL:https://nbhap.org/event/bhase-2025/
LOCATION:Miami\, FL\, Miami\, FL\, United States
CATEGORIES:partner event
END:VEVENT
BEGIN:VEVENT
DTSTART;VALUE=DATE:20250221
DTEND;VALUE=DATE:20250223
DTSTAMP:20260421T031158
CREATED:20241226T193318Z
LAST-MODIFIED:20241226T193710Z
UID:4300001102-1740096000-1740268799@nbhap.org
SUMMARY:DOT SAP Qualification Training 2025
DESCRIPTION:CCAPP will be presenting training on the DOT SAP Qualification in Los Angeles. (Test February 23.) This education will focus on the role and responsibilities of the Substance Abuse Professional and DOT Compliance.
URL:https://nbhap.org/event/dot-sap-qualification-training-2025/
LOCATION:Los Angeles\, CA\, Los Angeles\, California
CATEGORIES:partner event
ATTACH;FMTTYPE=image/webp:https://nbhap.org/wp-content/uploads/DOT-Training.webp
END:VEVENT
BEGIN:VEVENT
DTSTART;VALUE=DATE:20250225
DTEND;VALUE=DATE:20250227
DTSTAMP:20260421T031158
CREATED:20241204T213323Z
LAST-MODIFIED:20241219T003241Z
UID:4300001070-1740441600-1740614399@nbhap.org
SUMMARY:PreventionWorKS and Advocacy Day 2025
DESCRIPTION:PreventionWorKS: Join us for an empowering advocacy workshop led by expert trainers from CADCA\, where you’ll gain valuable skills to amplify your voice and drive change in your community! \nHear from legislators\, a youth panel\, and meet with your representatives. This event is designed to foster dialogue\, build connections\, and empower you to be an advocate for meaningful change in your community.
URL:https://nbhap.org/event/preventionworks-and-advocacy-day-2025/
LOCATION:Topeka\, KS\, Topeka\, KS\, United States
CATEGORIES:conference or summit,partner event
END:VEVENT
END:VCALENDAR