BEGIN:VCALENDAR
VERSION:2.0
PRODID:-//National Behavioral Health Association of Providers (NBHAP) - ECPv6.15.20//NONSGML v1.0//EN
CALSCALE:GREGORIAN
METHOD:PUBLISH
X-WR-CALNAME:National Behavioral Health Association of Providers (NBHAP)
X-ORIGINAL-URL:https://nbhap.org
X-WR-CALDESC:Events for National Behavioral Health Association of Providers (NBHAP)
REFRESH-INTERVAL;VALUE=DURATION:PT1H
X-Robots-Tag:noindex
X-PUBLISHED-TTL:PT1H
BEGIN:VTIMEZONE
TZID:America/Los_Angeles
BEGIN:DAYLIGHT
TZOFFSETFROM:-0800
TZOFFSETTO:-0700
TZNAME:PDT
DTSTART:20240310T100000
END:DAYLIGHT
BEGIN:STANDARD
TZOFFSETFROM:-0700
TZOFFSETTO:-0800
TZNAME:PST
DTSTART:20241103T090000
END:STANDARD
BEGIN:DAYLIGHT
TZOFFSETFROM:-0800
TZOFFSETTO:-0700
TZNAME:PDT
DTSTART:20250309T100000
END:DAYLIGHT
BEGIN:STANDARD
TZOFFSETFROM:-0700
TZOFFSETTO:-0800
TZNAME:PST
DTSTART:20251102T090000
END:STANDARD
BEGIN:DAYLIGHT
TZOFFSETFROM:-0800
TZOFFSETTO:-0700
TZNAME:PDT
DTSTART:20260308T100000
END:DAYLIGHT
BEGIN:STANDARD
TZOFFSETFROM:-0700
TZOFFSETTO:-0800
TZNAME:PST
DTSTART:20261101T090000
END:STANDARD
END:VTIMEZONE
BEGIN:VEVENT
DTSTART;VALUE=DATE:20250529
DTEND;VALUE=DATE:20250601
DTSTAMP:20260420T224344
CREATED:20241001T203219Z
LAST-MODIFIED:20241001T203219Z
UID:4300001035-1748476800-1748735999@nbhap.org
SUMMARY:2025 West Coast Symposium
DESCRIPTION:Now in its 16th year\, the West Coast Symposium continues to be at the forefront of the addiction treatment and behavioral health field\, providing advanced education and networking for professionals across the nation. With guidance from top national experts\, this conference empowers you with cutting-edge strategies and insights\, consistently adapting to the ever-evolving landscape of our field. Among a community of passionate peers\, you’ll explore new solutions to the critical challenges we face\, while expanding your professional network.  \nIt’s time to unite together in the fight against addiction.
URL:https://nbhap.org/event/2025-west-coast-symposium/
LOCATION:Palm Springs\, CA\, Palm Springs\, CA\, United States
CATEGORIES:conference or summit,partner event
END:VEVENT
END:VCALENDAR