BEGIN:VCALENDAR
VERSION:2.0
PRODID:-//National Behavioral Health Association of Providers (NBHAP) - ECPv6.15.20//NONSGML v1.0//EN
CALSCALE:GREGORIAN
METHOD:PUBLISH
X-ORIGINAL-URL:https://nbhap.org
X-WR-CALDESC:Events for National Behavioral Health Association of Providers (NBHAP)
REFRESH-INTERVAL;VALUE=DURATION:PT1H
X-Robots-Tag:noindex
X-PUBLISHED-TTL:PT1H
BEGIN:VTIMEZONE
TZID:America/Los_Angeles
BEGIN:DAYLIGHT
TZOFFSETFROM:-0800
TZOFFSETTO:-0700
TZNAME:PDT
DTSTART:20240310T100000
END:DAYLIGHT
BEGIN:STANDARD
TZOFFSETFROM:-0700
TZOFFSETTO:-0800
TZNAME:PST
DTSTART:20241103T090000
END:STANDARD
BEGIN:DAYLIGHT
TZOFFSETFROM:-0800
TZOFFSETTO:-0700
TZNAME:PDT
DTSTART:20250309T100000
END:DAYLIGHT
BEGIN:STANDARD
TZOFFSETFROM:-0700
TZOFFSETTO:-0800
TZNAME:PST
DTSTART:20251102T090000
END:STANDARD
BEGIN:DAYLIGHT
TZOFFSETFROM:-0800
TZOFFSETTO:-0700
TZNAME:PDT
DTSTART:20260308T100000
END:DAYLIGHT
BEGIN:STANDARD
TZOFFSETFROM:-0700
TZOFFSETTO:-0800
TZNAME:PST
DTSTART:20261101T090000
END:STANDARD
END:VTIMEZONE
BEGIN:VEVENT
DTSTART;VALUE=DATE:20250805
DTEND;VALUE=DATE:20250807
DTSTAMP:20260420T181621
CREATED:20250425T231700Z
LAST-MODIFIED:20250624T195422Z
UID:4300001414-1754352000-1754524799@nbhap.org
SUMMARY:2025 Youth Recovery Expo
DESCRIPTION:The Youth Recovery Expo is a unique opportunity to explore groundbreaking organizations\, innovative products\, and inspiring individuals dedicated to transforming the lives of young people in recovery. This event is your chance to connect with advocates\, leaders\, and allies who are actively shaping the future of the recovery movement! \nDiscover New Perspectives: Engage with thought leaders sharing best practices and success stories in youth recovery. Networking Opportunities: Connect with peers\, experts\, and inspirational figures in the recovery community. Be Inspired: Witness firsthand the positive impact of recovery support services and advocacy efforts.
URL:https://nbhap.org/event/2025-youth-recovery-expo/
LOCATION:Los Angeles\, CA\, Los Angeles\, California
CATEGORIES:conference or summit,partner event
END:VEVENT
END:VCALENDAR