BEGIN:VCALENDAR
VERSION:2.0
PRODID:-//National Behavioral Health Association of Providers (NBHAP) - ECPv6.15.20//NONSGML v1.0//EN
CALSCALE:GREGORIAN
METHOD:PUBLISH
X-ORIGINAL-URL:https://nbhap.org
X-WR-CALDESC:Events for National Behavioral Health Association of Providers (NBHAP)
REFRESH-INTERVAL;VALUE=DURATION:PT1H
X-Robots-Tag:noindex
X-PUBLISHED-TTL:PT1H
BEGIN:VTIMEZONE
TZID:America/Los_Angeles
BEGIN:DAYLIGHT
TZOFFSETFROM:-0800
TZOFFSETTO:-0700
TZNAME:PDT
DTSTART:20200308T100000
END:DAYLIGHT
BEGIN:STANDARD
TZOFFSETFROM:-0700
TZOFFSETTO:-0800
TZNAME:PST
DTSTART:20201101T090000
END:STANDARD
BEGIN:DAYLIGHT
TZOFFSETFROM:-0800
TZOFFSETTO:-0700
TZNAME:PDT
DTSTART:20210314T100000
END:DAYLIGHT
BEGIN:STANDARD
TZOFFSETFROM:-0700
TZOFFSETTO:-0800
TZNAME:PST
DTSTART:20211107T090000
END:STANDARD
BEGIN:DAYLIGHT
TZOFFSETFROM:-0800
TZOFFSETTO:-0700
TZNAME:PDT
DTSTART:20220313T100000
END:DAYLIGHT
BEGIN:STANDARD
TZOFFSETFROM:-0700
TZOFFSETTO:-0800
TZNAME:PST
DTSTART:20221106T090000
END:STANDARD
BEGIN:DAYLIGHT
TZOFFSETFROM:-0800
TZOFFSETTO:-0700
TZNAME:PDT
DTSTART:20230312T100000
END:DAYLIGHT
BEGIN:STANDARD
TZOFFSETFROM:-0700
TZOFFSETTO:-0800
TZNAME:PST
DTSTART:20231105T090000
END:STANDARD
BEGIN:DAYLIGHT
TZOFFSETFROM:-0800
TZOFFSETTO:-0700
TZNAME:PDT
DTSTART:20240310T100000
END:DAYLIGHT
BEGIN:STANDARD
TZOFFSETFROM:-0700
TZOFFSETTO:-0800
TZNAME:PST
DTSTART:20241103T090000
END:STANDARD
END:VTIMEZONE
BEGIN:VEVENT
DTSTART;VALUE=DATE:20231005
DTEND;VALUE=DATE:20231007
DTSTAMP:20260423T170935
CREATED:20230808T181732Z
LAST-MODIFIED:20230808T181732Z
UID:4300000876-1696464000-1696636799@nbhap.org
SUMMARY:2023 Fall Conference
DESCRIPTION:Call for Presenters due 8/31/23.
URL:https://nbhap.org/event/2023-fall-conference/
LOCATION:Norman\, OK\, Norman\, OK\, United States
CATEGORIES:conference or summit,partner event
END:VEVENT
BEGIN:VEVENT
DTSTART;VALUE=DATE:20230906
DTEND;VALUE=DATE:20230907
DTSTAMP:20260423T170935
CREATED:20230711T182350Z
LAST-MODIFIED:20230711T183906Z
UID:4300000872-1693958400-1694044799@nbhap.org
SUMMARY:Recovery Happens 2023
DESCRIPTION:Join our partner CCAPP for a day of advocacy and awareness.  \nA recovery walk\, a 12-Step meeting\, a pancake breakfast\, a rally\, a wide range of speakers\, and more. Increase awareness and understanding of mental health and substance use disorders and celebrate who recover.
URL:https://nbhap.org/event/recovery-happens-2023/
LOCATION:Sacramento\, CA\, Sacramento\, California
CATEGORIES:conference or summit,partner event
END:VEVENT
BEGIN:VEVENT
DTSTART;VALUE=DATE:20230708
DTEND;VALUE=DATE:20230710
DTSTAMP:20260423T170935
CREATED:20230601T162215Z
LAST-MODIFIED:20230601T162215Z
UID:4300000861-1688774400-1688947199@nbhap.org
SUMMARY:Multicultural Conference 2023
DESCRIPTION:Immerse yourself in multicultural competencies in treating those with substance use disorders. Experts in diverse populations will bring the latest research and education to you. Earn up to 18 CEs\, and free powwow on Saturday!
URL:https://nbhap.org/event/multicultural-conference-2023/
LOCATION:Bakersfield\, CA\, Bakersfield\, CA\, United States
CATEGORIES:conference or summit,partner event
END:VEVENT
BEGIN:VEVENT
DTSTART;VALUE=DATE:20230417
DTEND;VALUE=DATE:20230419
DTSTAMP:20260423T170935
CREATED:20230224T182118Z
LAST-MODIFIED:20230224T182118Z
UID:4300000828-1681689600-1681862399@nbhap.org
SUMMARY:Addiction Leadership Conference 2023
DESCRIPTION:
URL:https://nbhap.org/event/addiction-leadership-conference-2023/
LOCATION:Sacramento\, CA\, Sacramento\, California
CATEGORIES:conference or summit,partner event
ATTACH;FMTTYPE=image/png:https://nbhap.org/wp-content/uploads/2023_0417-CCAPPs-ALC-Ontraport-top-image-600x300-1.png
END:VEVENT
BEGIN:VEVENT
DTSTART;VALUE=DATE:20230406
DTEND;VALUE=DATE:20230408
DTSTAMP:20260423T170935
CREATED:20230222T181842Z
LAST-MODIFIED:20230222T181842Z
UID:4300000827-1680739200-1680911999@nbhap.org
SUMMARY:Spring Conference 2023
DESCRIPTION:
URL:https://nbhap.org/event/spring-conference-2023/
LOCATION:Norman\, OK\, Norman\, OK\, United States
CATEGORIES:conference or summit,partner event
END:VEVENT
BEGIN:VEVENT
DTSTART;VALUE=DATE:20221214
DTEND;VALUE=DATE:20221218
DTSTAMP:20260423T170935
CREATED:20220518T234704Z
LAST-MODIFIED:20220906T202813Z
UID:4300000756-1670976000-1671321599@nbhap.org
SUMMARY:The Evolution of Psychotherapy
DESCRIPTION:The Evolution of Psychotherapy conference has always been tailored to the needs and wants of the mental health community. Our goal is to make sure that anyone from anywhere can experience the robust and inspirational agenda\, in-person and online.  \nCelebrating 37 years\, this world-renowned conference features psychotherapy trailblazers who share ideas\, promote convergence\, and highlight unifying principles that guide effective clinical treatment. Immerse yourself in point/counterpoint discussions\, workshops\, clinical demonstrations\, dialogues\, topical panels\, and conversation hours with the experts face-to-face. The magnitude of educational excellence\, globally uniting professionals from over 60 countries\, will undeniably be the most valuable experience of your year.
URL:https://nbhap.org/event/the-evolution-of-psychotherapy-2022/
LOCATION:Orlando\, FL\, Orlando\, Florida
CATEGORIES:conference or summit,partner event
END:VEVENT
BEGIN:VEVENT
DTSTART;TZID=America/Los_Angeles:20221122T100000
DTEND;TZID=America/Los_Angeles:20221122T110000
DTSTAMP:20260423T170935
CREATED:20221103T184242Z
LAST-MODIFIED:20221103T184242Z
UID:4300000788-1669111200-1669114800@nbhap.org
SUMMARY:7 Best Ways to Reduce AMA/ACA During the Holidays and what Patients Wish Clinicians Knew
DESCRIPTION:With the holidays right around the corner\, AMA/ACA tends to be a rising issue with Behavioral Health centers during the holidays. Tune in while deep diving into closing the loop with the client and patient involvement with their treatment journey as we identify what works and what doesn’t within practices and provide techniques that improve patient retention scores. In this webinar\, we will share what works best for providers and practices with key strategies that will take the guesswork out and efficiencies in. \nIncludes an expert panel\, tips on improving the stay\, use of therapy to discourage an AMA\, and more. \n• Creating an environment to increase patient contentment\n• Improving patient’s recovery journey of care\n• Strategies for reducing AMA\n• Therapy techniques to discourage an AMA\n• Tips for helping patients during the holidays\n• Panelists share stories on client care during the holidays\n• Tools to improve the process by minimizing AMA/ACA
URL:https://nbhap.org/event/7-best-ways-to-reduce-ama-aca-during-the-holidays-and-what-patients-wish-clinicians-knew/
LOCATION:online
CATEGORIES:partner event,webinar or workshop
END:VEVENT
BEGIN:VEVENT
DTSTART;VALUE=DATE:20221107
DTEND;VALUE=DATE:20221119
DTSTAMP:20260423T170935
CREATED:20220512T201756Z
LAST-MODIFIED:20220512T203953Z
UID:4300000749-1667779200-1668815999@nbhap.org
SUMMARY:Behavioral Health Peer Support Training
DESCRIPTION:The Behavioral Health Peer Support training is an innovative new approach to healing people’s lives that is unlike any other training. Utilizing a dynamic approach to learning that blends both process and content\, this training satisfies education requirements for the Certified Mental Health Peer Credential and SUD Peer Recovery Mentor Credential.
URL:https://nbhap.org/event/behavioral-health-peer-support-training-110722/
LOCATION:online
CATEGORIES:partner event
END:VEVENT
BEGIN:VEVENT
DTSTART;VALUE=DATE:20221026
DTEND;VALUE=DATE:20221031
DTSTAMP:20260423T170935
CREATED:20220317T164723Z
LAST-MODIFIED:20220317T164723Z
UID:4300000731-1666742400-1667174399@nbhap.org
SUMMARY:California Addiction Conference
DESCRIPTION:Immerse yourself in competencies both addiction programs and professionals in treating persons with substance use disorder. Join experts in the field who will bring the latest research and education to you.
URL:https://nbhap.org/event/california-addiction-conference-2022/
LOCATION:San Diego\, CA\, San Diego\, California
CATEGORIES:conference or summit,partner event
END:VEVENT
BEGIN:VEVENT
DTSTART;VALUE=DATE:20221024
DTEND;VALUE=DATE:20221027
DTSTAMP:20260423T170935
CREATED:20220216T214502Z
LAST-MODIFIED:20220216T214502Z
UID:4300000604-1666569600-1666828799@nbhap.org
SUMMARY:Best Practices Summit
DESCRIPTION:
URL:https://nbhap.org/event/best-practices-summit-2022/
LOCATION:Richmond\, VA\, Richmond\, Virginia
CATEGORIES:partner event
END:VEVENT
BEGIN:VEVENT
DTSTART;VALUE=DATE:20221006
DTEND;VALUE=DATE:20221008
DTSTAMP:20260423T170935
CREATED:20220907T164731Z
LAST-MODIFIED:20220907T164731Z
UID:4300000765-1665014400-1665187199@nbhap.org
SUMMARY:2022 Fall Conference
DESCRIPTION:
URL:https://nbhap.org/event/2022-fall-conference/
LOCATION:California
CATEGORIES:conference or summit,partner event
END:VEVENT
BEGIN:VEVENT
DTSTART;TZID=America/Los_Angeles:20220907T080000
DTEND;TZID=America/Los_Angeles:20220907T080000
DTSTAMP:20260423T170935
CREATED:20220725T173751Z
LAST-MODIFIED:20220725T173751Z
UID:4300000764-1662537600-1662537600@nbhap.org
SUMMARY:Recovery Happens
DESCRIPTION:Join our partner CCAPP for the 30th Recovery Happens Rally in person at the State Capitol. \nJoin thousands to increase awareness and understanding of mental health and substance use disorders and celebrate.
URL:https://nbhap.org/event/recovery-happens/
LOCATION:California
CATEGORIES:partner event
END:VEVENT
BEGIN:VEVENT
DTSTART;VALUE=DATE:20220811
DTEND;VALUE=DATE:20220813
DTSTAMP:20260423T170935
CREATED:20220414T190124Z
LAST-MODIFIED:20220414T190124Z
UID:4300000623-1660176000-1660348799@nbhap.org
SUMMARY:LGBTQIA2+ Certificate Training
DESCRIPTION:Improve your LGBTQIA2+ friendliness\, education 101\, terminology\, and understanding of history in this online course\, CCAPP’s LGBTQIA2+ Certificate. Earn 12 CEUs. $240 for non-CCAPP members\, $180 for members.
URL:https://nbhap.org/event/lgbtqia2-certificate-training/
LOCATION:online
CATEGORIES:partner event
END:VEVENT
BEGIN:VEVENT
DTSTART;VALUE=DATE:20220602
DTEND;VALUE=DATE:20220605
DTSTAMP:20260423T170935
CREATED:20211117T234456Z
LAST-MODIFIED:20220325T201921Z
UID:4300000665-1654128000-1654387199@nbhap.org
SUMMARY:WCSAD (West Coast Symposium on Addictive Disorders)
DESCRIPTION:At the West Coast Symposium\, you’ll find yourself among like-minded professionals\, learning and addressing the significant challenges we must overcome—together. Join us as we rise above the challenges\, reverse the numbers\, and celebrate recovery.
URL:https://nbhap.org/event/wcsad-west-coast-symposium-on-addictive-disorders-2022/
LOCATION:La Quinta\, CA\, La Quinta\, CA\, United States
CATEGORIES:conference or summit,partner event
END:VEVENT
BEGIN:VEVENT
DTSTART;VALUE=DATE:20220503
DTEND;VALUE=DATE:20220505
DTSTAMP:20260423T170935
CREATED:20220317T164514Z
LAST-MODIFIED:20220317T165028Z
UID:4300000730-1651536000-1651708799@nbhap.org
SUMMARY:Addiction Leadership Conference
DESCRIPTION:Making the world a better place by lessening the devastation caused by addiction. Get prepared by CCAPP Governmental Affairs Director\, Sherry Daley\, on innovative ways to speak with your representative in person. CEOs\, executives\, and directors will gain a comprehensive understanding about admissions and marketing. Addiction and behavioral health professionals will earn up to 18 continuing education\, which includes six hours in ethics.
URL:https://nbhap.org/event/addiction-leadership-conference-2022/
LOCATION:Sacramento\, CA\, Sacramento\, California
CATEGORIES:conference or summit,partner event
END:VEVENT
BEGIN:VEVENT
DTSTART;VALUE=DATE:20220317
DTEND;VALUE=DATE:20220319
DTSTAMP:20260423T170936
CREATED:20220105T003035Z
LAST-MODIFIED:20220105T003051Z
UID:4300000704-1647475200-1647647999@nbhap.org
SUMMARY:DOT SAP Qualification Training
DESCRIPTION:CCAPP has developed a two-day training event specific to the revised DOT regulations and focusing on the roles and responsibilities of the Substance Abuse Professional (SAP). This training also qualifies as a DOT compliance seminar for employers who must meet the DOT requirements. The written qualification examination for SAP’s is administered by the IC&RC Certification Boards throughout the country.  \nThe two days of training will provide participants with a comprehensive understanding of the revised DOT alcohol and drug testing procedures and clearly define the role of responsibilities of the Substance Abuse Professional. Must meet minimum prerequisites and take the exam on the third day.  \nCCAPP and BHAP members get $100 off.
URL:https://nbhap.org/event/dot-sap-qualification-training-031722/
LOCATION:Los Angeles\, CA\, Los Angeles\, California
CATEGORIES:partner event
END:VEVENT
BEGIN:VEVENT
DTSTART;TZID=America/Los_Angeles:20220226T090000
DTEND;TZID=America/Los_Angeles:20220226T130000
DTSTAMP:20260423T170936
CREATED:20220210T193929Z
LAST-MODIFIED:20220210T193929Z
UID:4300000593-1645866000-1645880400@nbhap.org
SUMMARY:IC&RC Exam Prep
DESCRIPTION:This workshop will prepare students for the IC&RC exam\, a requirement to become certified counselors. It includes reviewing all content areas of the test questions. Free for CCAPP students only.
URL:https://nbhap.org/event/icrc-exam-prep/
LOCATION:online
CATEGORIES:partner event,webinar or workshop
END:VEVENT
BEGIN:VEVENT
DTSTART;VALUE=DATE:20220207
DTEND;VALUE=DATE:20220212
DTSTAMP:20260423T170936
CREATED:20211112T191416Z
LAST-MODIFIED:20211112T191416Z
UID:4300000640-1644192000-1644623999@nbhap.org
SUMMARY:Diversity Inclusion Professional (DIP) Training
DESCRIPTION:This course is intended for any organization in contact with diverse populations (including mental health and substance use disorder clinicians\, HIV providers\, state\, local\, and county government employees\, primary care providers\, public health practitioners\, prevention specialists\, community based organizations\, school teachers\, and counselors).
URL:https://nbhap.org/event/diversity-inclusion-professional-dip-training/
LOCATION:Los Angeles\, CA\, Los Angeles\, California
CATEGORIES:partner event
END:VEVENT
BEGIN:VEVENT
DTSTART;TZID=America/Los_Angeles:20220202T140000
DTEND;TZID=America/Los_Angeles:20220202T150000
DTSTAMP:20260423T170936
CREATED:20220104T203301Z
LAST-MODIFIED:20220104T203301Z
UID:4300000703-1643810400-1643814000@nbhap.org
SUMMARY:Webinar: Cyber Security and Insurance Needs in the Health Care Field
DESCRIPTION:
URL:https://nbhap.org/event/webinar-cyber-security-and-insurance-needs-in-the-health-care-field/
LOCATION:online
CATEGORIES:partner event,webinar or workshop
END:VEVENT
BEGIN:VEVENT
DTSTART;VALUE=DATE:20220103
DTEND;VALUE=DATE:20220115
DTSTAMP:20260423T170936
CREATED:20211223T204715Z
LAST-MODIFIED:20211223T204715Z
UID:4300000699-1641168000-1642204799@nbhap.org
SUMMARY:Behavioral Health Peer Support Training
DESCRIPTION:The Behavioral Health Peer Support training is an innovative new approach to healing people’s lives that is unlike any other training. Utilizing a dynamic approach to learning that blends both process and content\, this training satisfies education requirements for the Certified Mental Health Peer Credential and SUD Peer Recovery Mentor Credential.
URL:https://nbhap.org/event/behavioral-health-peer-support-training-010321/
LOCATION:online
CATEGORIES:partner event
END:VEVENT
BEGIN:VEVENT
DTSTART;VALUE=DATE:20211210
DTEND;VALUE=DATE:20211213
DTSTAMP:20260423T170936
CREATED:20210802T182136Z
LAST-MODIFIED:20210802T182212Z
UID:4300000462-1639094400-1639353599@nbhap.org
SUMMARY:Treatment Center Investment and Valuation Retreat (TCIV)
DESCRIPTION:The seventh annual Treatment Center Investment & Valuation Retreat—the only event of its kind—brings together owners and senior executives from the addiction treatment and recovery community to connect with key members of the investment and financial community for an exclusive 3-day educational\, business\, and networking event. Whether you are looking to grow your current business and have no plans for M&A activity\, or if you are looking to pursue mergers and acquisitions\, the Retreat is the ideal event for executives and financial professionals interested in all types of growth strategies.
URL:https://nbhap.org/event/tciv-2021/
LOCATION:Scottsdale\, AZ\, Scottsdale\, AZ\, United States
CATEGORIES:conference or summit,partner event
END:VEVENT
BEGIN:VEVENT
DTSTART;TZID=America/Los_Angeles:20211208T120000
DTEND;TZID=America/Los_Angeles:20211208T130000
DTSTAMP:20260423T170936
CREATED:20211119T193343Z
LAST-MODIFIED:20211119T193343Z
UID:4300000675-1638964800-1638968400@nbhap.org
SUMMARY:Webinar: Behavioral Health Insurance Forum
DESCRIPTION:Please join Nelson Hardiman for an informal quarterly forum for the behavioral health community to discuss industry-wide trends\, challenges\, and hot-topics in billing and reimbursement. \nThe moderators will also address several other recent events affecting the commercial reimbursement landscape for behavioral health providers.
URL:https://nbhap.org/event/webinar-behavioral-health-insurance-forum/
LOCATION:online
CATEGORIES:partner event,webinar or workshop
END:VEVENT
BEGIN:VEVENT
DTSTART;VALUE=DATE:20211130
DTEND;VALUE=DATE:20211206
DTSTAMP:20260423T170936
CREATED:20210802T182451Z
LAST-MODIFIED:20210802T182451Z
UID:4300000464-1638230400-1638748799@nbhap.org
SUMMARY:The Evolution of Psychotherapy
DESCRIPTION:The Evolution of Psychotherapy conference has always been tailored to the needs and wants of the mental health community. Our goal is to make sure that anyone from anywhere can experience the robust and inspirational agenda\, in-person and online.  \nCelebrating 36 years\, this world-renowned conference features psychotherapy thought leaders who share ideas\, promote convergence\, and highlight unifying principles that guide effective clinical work. Now to enjoy in-person or online: Point/counterpoint discussions\, state-of-the-art addresses\, workshops\, clinical demonstrations\, dialogues\, panels\, and conversation hours. The magnitude of educational excellence uniting for 6 days will be the most valuable experience you’ll have all year.
URL:https://nbhap.org/event/the-evolution-of-psychotherapy-2021/
LOCATION:Anaheim\, CA\, Anaheim\, CA\, United States
CATEGORIES:conference or summit,partner event
END:VEVENT
BEGIN:VEVENT
DTSTART;VALUE=DATE:20211119
DTEND;VALUE=DATE:20211122
DTSTAMP:20260423T170936
CREATED:20210621T210429Z
LAST-MODIFIED:20210707T194327Z
UID:4300000456-1637280000-1637539199@nbhap.org
SUMMARY:NCAD East
DESCRIPTION:At NCAD East\, you’ll find yourself among like-minded peers\, learning and addressing the significant challenges we must overcome. Especially in the face of a pandemic\, our work can not stop. We can’t afford for more lives to be lost.
URL:https://nbhap.org/event/ncad-east-2021/
LOCATION:Baltimore\, MD\, Baltimore\, Maryland
CATEGORIES:conference or summit,partner event
END:VEVENT
BEGIN:VEVENT
DTSTART;VALUE=DATE:20211029
DTEND;VALUE=DATE:20211102
DTSTAMP:20260423T170936
CREATED:20210802T182651Z
LAST-MODIFIED:20210802T182705Z
UID:4300000465-1635465600-1635811199@nbhap.org
SUMMARY:Psych Congress
DESCRIPTION:Psych Congress is the nation’s premier conference on practical psychopharmacology and serves as a unique and integrated forum to connect members of the entire mental health team—psychiatrists\, nurse practitioners\, physician assistants\, psychologists\, primary care physicians\, and other mental health professionals—with the foremost experts in psychiatry to improve patient outcomes through education. \nNo other conference offers the same breadth and level of comprehensive psychopharmacology education combined with state-of-the-art treatment approaches and emerging research findings.
URL:https://nbhap.org/event/psych-congress-2021/
LOCATION:San Antonio\, TX\, San Antonio\, Texas
CATEGORIES:conference or summit,partner event
END:VEVENT
BEGIN:VEVENT
DTSTART;VALUE=DATE:20211028
DTEND;VALUE=DATE:20211101
DTSTAMP:20260423T170936
CREATED:20210804T211419Z
LAST-MODIFIED:20210804T211522Z
UID:4300000548-1635379200-1635724799@nbhap.org
SUMMARY:California Addiction Conference
DESCRIPTION:Immerse yourself in competencies both addiction programs and professionals in treating persons with substance use disorder. Join experts in the field who will bring the latest research and education to you. Proposals due 08/15/21.
URL:https://nbhap.org/event/california-addiction-conference-2021/
LOCATION:Newport Beach\, CA\, Newport Beach\, CA\, United States
CATEGORIES:conference or summit,partner event
END:VEVENT
BEGIN:VEVENT
DTSTART;VALUE=DATE:20211024
DTEND;VALUE=DATE:20211027
DTSTAMP:20260423T170936
CREATED:20210607T200618Z
LAST-MODIFIED:20210707T194348Z
UID:4300000445-1635033600-1635292799@nbhap.org
SUMMARY:Best Practices Summit
DESCRIPTION:
URL:https://nbhap.org/event/best-practices-summit-2021/
LOCATION:Richmond\, VA\, Richmond\, Virginia
CATEGORIES:partner event
END:VEVENT
BEGIN:VEVENT
DTSTART;TZID=America/Los_Angeles:20211014T110000
DTEND;TZID=America/Los_Angeles:20211014T120000
DTSTAMP:20260423T170936
CREATED:20210916T184120Z
LAST-MODIFIED:20210916T184120Z
UID:4300000509-1634209200-1634212800@nbhap.org
SUMMARY:Webinar: Strategies for Successfully Disputing Payer Refund Requests
DESCRIPTION:Post-payment audits frequently lead to overpayment determinations and flags that result in automatic claims denials. This can be crippling to your business. \nJoin Nelson Hardiman as they discuss the latest trends in this complex area and explore innovative strategies for resolving overpayment disputes.
URL:https://nbhap.org/event/webinar-strategies-for-successfully-disputing-payer-refund-requests-101421/
LOCATION:online
CATEGORIES:partner event,webinar or workshop
END:VEVENT
BEGIN:VEVENT
DTSTART;VALUE=DATE:20211014
DTEND;VALUE=DATE:20211017
DTSTAMP:20260423T170936
CREATED:20210802T182827Z
LAST-MODIFIED:20210802T182835Z
UID:4300000467-1634169600-1634428799@nbhap.org
SUMMARY:Stimulant Summit
DESCRIPTION:Stimulants have become increasingly prevalent in overdoses and addiction throughout our communities. We can’t afford to lose more ground\, for more lives to be lost. \nNow in its fourth year\, the Cocaine\, Meth & Stimulant Summit is the ONLY educational event focused on addressing this crisis. The Stimulant Summit provides clinical\, law enforcement\, and public health professionals with practical strategies and solutions. \nRegister today at our lowest rate of the year\, and prepare to hear from and engage with field leaders and change makers working to address this public health emergency.
URL:https://nbhap.org/event/stimulant-summit-2021/
LOCATION:online
CATEGORIES:partner event
END:VEVENT
BEGIN:VEVENT
DTSTART;VALUE=DATE:20211003
DTEND;VALUE=DATE:20211007
DTSTAMP:20260423T170936
CREATED:20210621T205304Z
LAST-MODIFIED:20210707T194433Z
UID:4300000455-1633219200-1633564799@nbhap.org
SUMMARY:Recovery Leadership Summit
DESCRIPTION:This year is Faces & Voices of Recovery’s 20th Anniversary! The Recovery Leadership Summit brings together key leaders from Recovery Community Organizations (RCOs) across the nation for networking and learning opportunities.
URL:https://nbhap.org/event/recovery-leadership-summit-2021/
LOCATION:Saint Paul\, MN\, Saint Paul\, Minnesota
CATEGORIES:partner event
END:VEVENT
END:VCALENDAR