BEGIN:VCALENDAR
VERSION:2.0
PRODID:-//National Behavioral Health Association of Providers (NBHAP) - ECPv6.15.20//NONSGML v1.0//EN
CALSCALE:GREGORIAN
METHOD:PUBLISH
X-ORIGINAL-URL:https://nbhap.org
X-WR-CALDESC:Events for National Behavioral Health Association of Providers (NBHAP)
REFRESH-INTERVAL;VALUE=DURATION:PT1H
X-Robots-Tag:noindex
X-PUBLISHED-TTL:PT1H
BEGIN:VTIMEZONE
TZID:America/Los_Angeles
BEGIN:DAYLIGHT
TZOFFSETFROM:-0800
TZOFFSETTO:-0700
TZNAME:PDT
DTSTART:20180311T100000
END:DAYLIGHT
BEGIN:STANDARD
TZOFFSETFROM:-0700
TZOFFSETTO:-0800
TZNAME:PST
DTSTART:20181104T090000
END:STANDARD
BEGIN:DAYLIGHT
TZOFFSETFROM:-0800
TZOFFSETTO:-0700
TZNAME:PDT
DTSTART:20190310T100000
END:DAYLIGHT
BEGIN:STANDARD
TZOFFSETFROM:-0700
TZOFFSETTO:-0800
TZNAME:PST
DTSTART:20191103T090000
END:STANDARD
BEGIN:DAYLIGHT
TZOFFSETFROM:-0800
TZOFFSETTO:-0700
TZNAME:PDT
DTSTART:20200308T100000
END:DAYLIGHT
BEGIN:STANDARD
TZOFFSETFROM:-0700
TZOFFSETTO:-0800
TZNAME:PST
DTSTART:20201101T090000
END:STANDARD
BEGIN:DAYLIGHT
TZOFFSETFROM:-0800
TZOFFSETTO:-0700
TZNAME:PDT
DTSTART:20210314T100000
END:DAYLIGHT
BEGIN:STANDARD
TZOFFSETFROM:-0700
TZOFFSETTO:-0800
TZNAME:PST
DTSTART:20211107T090000
END:STANDARD
BEGIN:DAYLIGHT
TZOFFSETFROM:-0800
TZOFFSETTO:-0700
TZNAME:PDT
DTSTART:20220313T100000
END:DAYLIGHT
BEGIN:STANDARD
TZOFFSETFROM:-0700
TZOFFSETTO:-0800
TZNAME:PST
DTSTART:20221106T090000
END:STANDARD
END:VTIMEZONE
BEGIN:VTIMEZONE
TZID:America/Chicago
BEGIN:DAYLIGHT
TZOFFSETFROM:-0600
TZOFFSETTO:-0500
TZNAME:CDT
DTSTART:20200308T080000
END:DAYLIGHT
BEGIN:STANDARD
TZOFFSETFROM:-0500
TZOFFSETTO:-0600
TZNAME:CST
DTSTART:20201101T070000
END:STANDARD
BEGIN:DAYLIGHT
TZOFFSETFROM:-0600
TZOFFSETTO:-0500
TZNAME:CDT
DTSTART:20210314T080000
END:DAYLIGHT
BEGIN:STANDARD
TZOFFSETFROM:-0500
TZOFFSETTO:-0600
TZNAME:CST
DTSTART:20211107T070000
END:STANDARD
BEGIN:DAYLIGHT
TZOFFSETFROM:-0600
TZOFFSETTO:-0500
TZNAME:CDT
DTSTART:20220313T080000
END:DAYLIGHT
BEGIN:STANDARD
TZOFFSETFROM:-0500
TZOFFSETTO:-0600
TZNAME:CST
DTSTART:20221106T070000
END:STANDARD
END:VTIMEZONE
BEGIN:VEVENT
DTSTART;VALUE=DATE:20211210
DTEND;VALUE=DATE:20211213
DTSTAMP:20260423T205051
CREATED:20210802T182136Z
LAST-MODIFIED:20210802T182212Z
UID:4300000462-1639094400-1639353599@nbhap.org
SUMMARY:Treatment Center Investment and Valuation Retreat (TCIV)
DESCRIPTION:The seventh annual Treatment Center Investment & Valuation Retreat—the only event of its kind—brings together owners and senior executives from the addiction treatment and recovery community to connect with key members of the investment and financial community for an exclusive 3-day educational\, business\, and networking event. Whether you are looking to grow your current business and have no plans for M&A activity\, or if you are looking to pursue mergers and acquisitions\, the Retreat is the ideal event for executives and financial professionals interested in all types of growth strategies.
URL:https://nbhap.org/event/tciv-2021/
LOCATION:Scottsdale\, AZ\, Scottsdale\, AZ\, United States
CATEGORIES:conference or summit,partner event
END:VEVENT
BEGIN:VEVENT
DTSTART;TZID=America/Los_Angeles:20211208T120000
DTEND;TZID=America/Los_Angeles:20211208T130000
DTSTAMP:20260423T205051
CREATED:20211119T193343Z
LAST-MODIFIED:20211119T193343Z
UID:4300000675-1638964800-1638968400@nbhap.org
SUMMARY:Webinar: Behavioral Health Insurance Forum
DESCRIPTION:Please join Nelson Hardiman for an informal quarterly forum for the behavioral health community to discuss industry-wide trends\, challenges\, and hot-topics in billing and reimbursement. \nThe moderators will also address several other recent events affecting the commercial reimbursement landscape for behavioral health providers.
URL:https://nbhap.org/event/webinar-behavioral-health-insurance-forum/
LOCATION:online
CATEGORIES:partner event,webinar or workshop
END:VEVENT
BEGIN:VEVENT
DTSTART;VALUE=DATE:20211130
DTEND;VALUE=DATE:20211206
DTSTAMP:20260423T205051
CREATED:20210802T182451Z
LAST-MODIFIED:20210802T182451Z
UID:4300000464-1638230400-1638748799@nbhap.org
SUMMARY:The Evolution of Psychotherapy
DESCRIPTION:The Evolution of Psychotherapy conference has always been tailored to the needs and wants of the mental health community. Our goal is to make sure that anyone from anywhere can experience the robust and inspirational agenda\, in-person and online.  \nCelebrating 36 years\, this world-renowned conference features psychotherapy thought leaders who share ideas\, promote convergence\, and highlight unifying principles that guide effective clinical work. Now to enjoy in-person or online: Point/counterpoint discussions\, state-of-the-art addresses\, workshops\, clinical demonstrations\, dialogues\, panels\, and conversation hours. The magnitude of educational excellence uniting for 6 days will be the most valuable experience you’ll have all year.
URL:https://nbhap.org/event/the-evolution-of-psychotherapy-2021/
LOCATION:Anaheim\, CA\, Anaheim\, CA\, United States
CATEGORIES:conference or summit,partner event
END:VEVENT
BEGIN:VEVENT
DTSTART;VALUE=DATE:20211119
DTEND;VALUE=DATE:20211122
DTSTAMP:20260423T205051
CREATED:20210621T210429Z
LAST-MODIFIED:20210707T194327Z
UID:4300000456-1637280000-1637539199@nbhap.org
SUMMARY:NCAD East
DESCRIPTION:At NCAD East\, you’ll find yourself among like-minded peers\, learning and addressing the significant challenges we must overcome. Especially in the face of a pandemic\, our work can not stop. We can’t afford for more lives to be lost.
URL:https://nbhap.org/event/ncad-east-2021/
LOCATION:Baltimore\, MD\, Baltimore\, Maryland
CATEGORIES:conference or summit,partner event
END:VEVENT
BEGIN:VEVENT
DTSTART;VALUE=DATE:20211029
DTEND;VALUE=DATE:20211102
DTSTAMP:20260423T205051
CREATED:20210802T182651Z
LAST-MODIFIED:20210802T182705Z
UID:4300000465-1635465600-1635811199@nbhap.org
SUMMARY:Psych Congress
DESCRIPTION:Psych Congress is the nation’s premier conference on practical psychopharmacology and serves as a unique and integrated forum to connect members of the entire mental health team—psychiatrists\, nurse practitioners\, physician assistants\, psychologists\, primary care physicians\, and other mental health professionals—with the foremost experts in psychiatry to improve patient outcomes through education. \nNo other conference offers the same breadth and level of comprehensive psychopharmacology education combined with state-of-the-art treatment approaches and emerging research findings.
URL:https://nbhap.org/event/psych-congress-2021/
LOCATION:San Antonio\, TX\, San Antonio\, Texas
CATEGORIES:conference or summit,partner event
END:VEVENT
BEGIN:VEVENT
DTSTART;VALUE=DATE:20211028
DTEND;VALUE=DATE:20211101
DTSTAMP:20260423T205051
CREATED:20210804T211419Z
LAST-MODIFIED:20210804T211522Z
UID:4300000548-1635379200-1635724799@nbhap.org
SUMMARY:California Addiction Conference
DESCRIPTION:Immerse yourself in competencies both addiction programs and professionals in treating persons with substance use disorder. Join experts in the field who will bring the latest research and education to you. Proposals due 08/15/21.
URL:https://nbhap.org/event/california-addiction-conference-2021/
LOCATION:Newport Beach\, CA\, Newport Beach\, CA\, United States
CATEGORIES:conference or summit,partner event
END:VEVENT
BEGIN:VEVENT
DTSTART;VALUE=DATE:20211024
DTEND;VALUE=DATE:20211027
DTSTAMP:20260423T205051
CREATED:20210607T200618Z
LAST-MODIFIED:20210707T194348Z
UID:4300000445-1635033600-1635292799@nbhap.org
SUMMARY:Best Practices Summit
DESCRIPTION:
URL:https://nbhap.org/event/best-practices-summit-2021/
LOCATION:Richmond\, VA\, Richmond\, Virginia
CATEGORIES:partner event
END:VEVENT
BEGIN:VEVENT
DTSTART;TZID=America/Los_Angeles:20211014T110000
DTEND;TZID=America/Los_Angeles:20211014T120000
DTSTAMP:20260423T205051
CREATED:20210916T184120Z
LAST-MODIFIED:20210916T184120Z
UID:4300000509-1634209200-1634212800@nbhap.org
SUMMARY:Webinar: Strategies for Successfully Disputing Payer Refund Requests
DESCRIPTION:Post-payment audits frequently lead to overpayment determinations and flags that result in automatic claims denials. This can be crippling to your business. \nJoin Nelson Hardiman as they discuss the latest trends in this complex area and explore innovative strategies for resolving overpayment disputes.
URL:https://nbhap.org/event/webinar-strategies-for-successfully-disputing-payer-refund-requests-101421/
LOCATION:online
CATEGORIES:partner event,webinar or workshop
END:VEVENT
BEGIN:VEVENT
DTSTART;VALUE=DATE:20211014
DTEND;VALUE=DATE:20211017
DTSTAMP:20260423T205051
CREATED:20210802T182827Z
LAST-MODIFIED:20210802T182835Z
UID:4300000467-1634169600-1634428799@nbhap.org
SUMMARY:Stimulant Summit
DESCRIPTION:Stimulants have become increasingly prevalent in overdoses and addiction throughout our communities. We can’t afford to lose more ground\, for more lives to be lost. \nNow in its fourth year\, the Cocaine\, Meth & Stimulant Summit is the ONLY educational event focused on addressing this crisis. The Stimulant Summit provides clinical\, law enforcement\, and public health professionals with practical strategies and solutions. \nRegister today at our lowest rate of the year\, and prepare to hear from and engage with field leaders and change makers working to address this public health emergency.
URL:https://nbhap.org/event/stimulant-summit-2021/
LOCATION:online
CATEGORIES:partner event
END:VEVENT
BEGIN:VEVENT
DTSTART;VALUE=DATE:20211003
DTEND;VALUE=DATE:20211007
DTSTAMP:20260423T205051
CREATED:20210621T205304Z
LAST-MODIFIED:20210707T194433Z
UID:4300000455-1633219200-1633564799@nbhap.org
SUMMARY:Recovery Leadership Summit
DESCRIPTION:This year is Faces & Voices of Recovery’s 20th Anniversary! The Recovery Leadership Summit brings together key leaders from Recovery Community Organizations (RCOs) across the nation for networking and learning opportunities.
URL:https://nbhap.org/event/recovery-leadership-summit-2021/
LOCATION:Saint Paul\, MN\, Saint Paul\, Minnesota
CATEGORIES:partner event
END:VEVENT
BEGIN:VEVENT
DTSTART;TZID=America/Chicago:20210924T073000
DTEND;TZID=America/Chicago:20210924T171500
DTSTAMP:20260423T205051
CREATED:20210723T185450Z
LAST-MODIFIED:20210819T184812Z
UID:4300000501-1632468600-1632503700@nbhap.org
SUMMARY:Chicago Social Work Conference
DESCRIPTION:Social Work Foundations has been developing and offering cutting-edge accredited social work and mental health continuing education to our professional community for over 25 years. We are directed by a seasoned team of LCSWs & ACSWs who are committed to our vision of maintaining “Excellence in Social Work Education and Practice”!
URL:https://nbhap.org/event/chicago-social-work-conference-2021/
LOCATION:online
CATEGORIES:conference or summit,partner event
END:VEVENT
BEGIN:VEVENT
DTSTART;TZID=America/Los_Angeles:20210920T100000
DTEND;TZID=America/Los_Angeles:20210920T110000
DTSTAMP:20260423T205051
CREATED:20210726T174346Z
LAST-MODIFIED:20210726T174346Z
UID:4300000539-1632132000-1632135600@nbhap.org
SUMMARY:Global Criteria: The 12 Core Functions - Referral and Consultation
DESCRIPTION:Join our partner CCAPP from March to September for a free webinar series on The 12 Core Functions. Dr. John Herdman will help substance abuse counselors reach their goal of certification or licensure. Attend one or all. Free CEs to CCAPP members. Non-members can attend without CEs.
URL:https://nbhap.org/event/global-criteria-the-12-core-functions-referral-and-consultation-092021/
LOCATION:online
CATEGORIES:partner event,webinar or workshop
END:VEVENT
BEGIN:VEVENT
DTSTART;VALUE=DATE:20210908
DTEND;VALUE=DATE:20210913
DTSTAMP:20260423T205051
CREATED:20210802T183018Z
LAST-MODIFIED:20210802T183032Z
UID:4300000469-1631059200-1631491199@nbhap.org
SUMMARY:CCSAD (Cape Cod Symposium on Addictive Disorders)
DESCRIPTION:For more than 30 years\, the Cape Cod Symposium on Addictive Disorders (Official Meeting of the C4 Recovery Foundation) has continued to lead the way in addiction treatment and patient care. \nThis September\, immerse yourself in conversation\, collaboration\, and cutting-edge education alongside the New England Coast.
URL:https://nbhap.org/event/ccsad-2021/
LOCATION:Hyannis\, MA\, Hyannis\, MA\, United States
CATEGORIES:conference or summit,partner event
END:VEVENT
BEGIN:VEVENT
DTSTART;TZID=America/Los_Angeles:20210816T100000
DTEND;TZID=America/Los_Angeles:20210816T110000
DTSTAMP:20260423T205051
CREATED:20210726T174510Z
LAST-MODIFIED:20210726T174510Z
UID:4300000540-1629108000-1629111600@nbhap.org
SUMMARY:Global Criteria: The 12 Core Functions - Client Education and Crisis Intervention
DESCRIPTION:Join our partner CCAPP from March to September for a free webinar series on The 12 Core Functions. Dr. John Herdman will help substance abuse counselors reach their goal of certification or licensure. Attend one or all. Free CEs to CCAPP members. Non-members can attend without CEs.
URL:https://nbhap.org/event/global-criteria-the-12-core-functions-client-education-and-crisis-intervention-081621/
LOCATION:online
CATEGORIES:partner event,webinar or workshop
END:VEVENT
BEGIN:VEVENT
DTSTART;TZID=America/Los_Angeles:20210729T130000
DTEND;TZID=America/Los_Angeles:20210729T140000
DTSTAMP:20260423T205051
CREATED:20210517T205823Z
LAST-MODIFIED:20210707T194553Z
UID:4300000412-1627563600-1627567200@nbhap.org
SUMMARY:Are You Protected When a Claim Arises?
DESCRIPTION:This webinar will cover the benefits of insurance for facilities and counselors all offered at an affordable cost. Good for 1 CE\, it will also dive into why you need to carry your own insurance policy as well as the different coverages available including Professional Liability\, General Liability\, Abuse & Molestation & Excess Coverages. The Van Wagner Group is committed to providing the highest level of service while offering leading coverage\, expert knowledge\, and unmatched service.
URL:https://nbhap.org/event/are-you-protected-when-a-claim-arises-072921/
LOCATION:online
CATEGORIES:partner event,webinar or workshop
END:VEVENT
BEGIN:VEVENT
DTSTART;TZID=America/Los_Angeles:20210727T100000
DTEND;TZID=America/Los_Angeles:20210727T153000
DTSTAMP:20260423T205051
CREATED:20210707T221208Z
LAST-MODIFIED:20210707T221400Z
UID:4300000434-1627380000-1627399800@nbhap.org
SUMMARY:IC&RC Exam Prep
DESCRIPTION:This workshop will prepare students for the IC&RC exam\, a requirement to become certified counselors. It includes reviewing all content areas of the test questions.
URL:https://nbhap.org/event/icrc-exam-prep-072721/
LOCATION:online
CATEGORIES:partner event,webinar or workshop
END:VEVENT
BEGIN:VEVENT
DTSTART;TZID=America/Los_Angeles:20210720T140000
DTEND;TZID=America/Los_Angeles:20210720T160000
DTSTAMP:20260423T205051
CREATED:20210706T201031Z
LAST-MODIFIED:20210707T194622Z
UID:4300000481-1626789600-1626796800@nbhap.org
SUMMARY:Accessing Safe and Positive Recovery and Bridge Housing
DESCRIPTION:This workshop is a panel discussion led by state and national experts on recovery residence housing.
URL:https://nbhap.org/event/accessing-safe-and-positive-recovery-and-bridge-housing-072021/
LOCATION:online
CATEGORIES:partner event,webinar or workshop
ATTACH;FMTTYPE=image/png:https://nbhap.org/wp-content/uploads/CCAPP_preview_400x250.png
END:VEVENT
BEGIN:VEVENT
DTSTART;TZID=America/Los_Angeles:20210719T100000
DTEND;TZID=America/Los_Angeles:20210719T110000
DTSTAMP:20260423T205051
CREATED:20210726T174553Z
LAST-MODIFIED:20210726T174553Z
UID:4300000541-1626688800-1626692400@nbhap.org
SUMMARY:Global Criteria: The 12 Core Functions - Case Management and Reports & Recordkeeping
DESCRIPTION:Join our partner CCAPP from March to September for a free webinar series on The 12 Core Functions. Dr. John Herdman will help substance abuse counselors reach their goal of certification or licensure. Attend one or all. Free CEs to CCAPP members. Non-members can attend without CEs.
URL:https://nbhap.org/event/global-criteria-the-12-core-functions-case-management-and-reports-recordkeeping-071921/
LOCATION:online
CATEGORIES:partner event,webinar or workshop
END:VEVENT
BEGIN:VEVENT
DTSTART;VALUE=DATE:20210715
DTEND;VALUE=DATE:20210717
DTSTAMP:20260423T205051
CREATED:20210726T175349Z
LAST-MODIFIED:20210726T175402Z
UID:4300000546-1626307200-1626479999@nbhap.org
SUMMARY:Multicultural Conference
DESCRIPTION:Immerse yourself in multicultural competencies in treating those with substance use disorders. Join us at CCAPP’s seventh annual Multicultural Conference. Earn up to 18 CEs\, including in ethics.
URL:https://nbhap.org/event/multicultural-conference-2021/
LOCATION:online
CATEGORIES:conference or summit,partner event
END:VEVENT
BEGIN:VEVENT
DTSTART;TZID=America/Los_Angeles:20210621T100000
DTEND;TZID=America/Los_Angeles:20210621T110000
DTSTAMP:20260423T205051
CREATED:20210726T174628Z
LAST-MODIFIED:20210726T174628Z
UID:4300000542-1624269600-1624273200@nbhap.org
SUMMARY:Global Criteria: The 12 Core Functions - Counseling
DESCRIPTION:Join our partner CCAPP from March to September for a free webinar series on The 12 Core Functions. Dr. John Herdman will help substance abuse counselors reach their goal of certification or licensure. Attend one or all. Free CEs to CCAPP members. Non-members can attend without CEs.
URL:https://nbhap.org/event/global-criteria-the-12-core-functions-counseling-062121/
LOCATION:online
CATEGORIES:partner event,webinar or workshop
END:VEVENT
BEGIN:VEVENT
DTSTART;TZID=America/Los_Angeles:20210517T100000
DTEND;TZID=America/Los_Angeles:20210517T110000
DTSTAMP:20260423T205051
CREATED:20210726T174706Z
LAST-MODIFIED:20210726T174706Z
UID:4300000543-1621245600-1621249200@nbhap.org
SUMMARY:Global Criteria: The 12 Core Functions - Treatment Planning
DESCRIPTION:Join our partner CCAPP from March to September for a free webinar series on The 12 Core Functions. Dr. John Herdman will help substance abuse counselors reach their goal of certification or licensure. Attend one or all. Free CEs to CCAPP members. Non-members can attend without CEs.
URL:https://nbhap.org/event/global-criteria-the-12-core-functions-treatment-planning-051721/
LOCATION:online
CATEGORIES:partner event,webinar or workshop
END:VEVENT
BEGIN:VEVENT
DTSTART;TZID=America/Los_Angeles:20210419T100000
DTEND;TZID=America/Los_Angeles:20210419T110000
DTSTAMP:20260423T205051
CREATED:20210726T174738Z
LAST-MODIFIED:20210726T174738Z
UID:4300000544-1618826400-1618830000@nbhap.org
SUMMARY:Global Criteria: The 12 Core Functions - Assessment
DESCRIPTION:Join our partner CCAPP from March to September for a free webinar series on The 12 Core Functions. Dr. John Herdman will help substance abuse counselors reach their goal of certification or licensure. Attend one or all. Free CEs to CCAPP members. Non-members can attend without CEs.
URL:https://nbhap.org/event/global-criteria-the-12-core-functions-assessment-041921/
LOCATION:online
CATEGORIES:partner event,webinar or workshop
END:VEVENT
BEGIN:VEVENT
DTSTART;TZID=America/Los_Angeles:20210315T100000
DTEND;TZID=America/Los_Angeles:20210315T110000
DTSTAMP:20260423T205051
CREATED:20210726T174809Z
LAST-MODIFIED:20210726T174809Z
UID:4300000545-1615802400-1615806000@nbhap.org
SUMMARY:Global Criteria: The 12 Core Functions - Screening\, Intake\, and Orientation
DESCRIPTION:Join our partner CCAPP from March to September for a free webinar series on The 12 Core Functions. Dr. John Herdman will help substance abuse counselors reach their goal of certification or licensure. Attend one or all. Free CEs to CCAPP members. Non-members can attend without CEs.
URL:https://nbhap.org/event/global-criteria-the-12-core-functions-screening-intake-and-orientation-031521/
LOCATION:online
CATEGORIES:partner event,webinar or workshop
END:VEVENT
BEGIN:VEVENT
DTSTART;VALUE=DATE:20210225
DTEND;VALUE=DATE:20210226
DTSTAMP:20260423T205051
CREATED:20210702T182334Z
LAST-MODIFIED:20210707T194957Z
UID:4300000457-1614211200-1614297599@nbhap.org
SUMMARY:Diversity\, Equity & Inclusion: Community Public Forum
DESCRIPTION:
URL:https://nbhap.org/event/diversity-equity-inclusion-community-public-forum-2021/
LOCATION:online
CATEGORIES:forum or advocacy,partner event
END:VEVENT
BEGIN:VEVENT
DTSTART;VALUE=DATE:20201101
DTEND;VALUE=DATE:20201102
DTSTAMP:20260423T205051
CREATED:20210702T182446Z
LAST-MODIFIED:20210706T201621Z
UID:4300000458-1604188800-1604275199@nbhap.org
SUMMARY:Rally to Vote Recovery 2020
DESCRIPTION:
URL:https://nbhap.org/event/rally-to-vote-recovery-2020/
LOCATION:online
CATEGORIES:conference or summit,partner event
END:VEVENT
BEGIN:VEVENT
DTSTART;VALUE=DATE:20201029
DTEND;VALUE=DATE:20201030
DTSTAMP:20260423T205051
CREATED:20210702T182942Z
LAST-MODIFIED:20210707T195133Z
UID:4300000461-1603929600-1604015999@nbhap.org
SUMMARY:Diversity\, Equity & Inclusion: Public Community Forum\, Round 3
DESCRIPTION:
URL:https://nbhap.org/event/diversity-equity-inclusion-public-community-forum-round-3-2020/
LOCATION:online
CATEGORIES:forum or advocacy,partner event
END:VEVENT
BEGIN:VEVENT
DTSTART;VALUE=DATE:20200716
DTEND;VALUE=DATE:20200718
DTSTAMP:20260423T205051
CREATED:20210726T175518Z
LAST-MODIFIED:20210726T175518Z
UID:4300000547-1594857600-1595030399@nbhap.org
SUMMARY:Multicultural Conference
DESCRIPTION:Immerse yourself in multicultural competencies in treating those with substance use disorders. Earn up to 18 CEs\, including in ethics.
URL:https://nbhap.org/event/multicultural-conference-2020/
LOCATION:online
CATEGORIES:conference or summit,partner event
END:VEVENT
BEGIN:VEVENT
DTSTART;VALUE=DATE:20200615
DTEND;VALUE=DATE:20200617
DTSTAMP:20260423T205051
CREATED:20210702T183117Z
LAST-MODIFIED:20210707T195142Z
UID:4300000463-1592179200-1592351999@nbhap.org
SUMMARY:Recovery Leadership Summit
DESCRIPTION:
URL:https://nbhap.org/event/recovery-leadership-summit-2020/
LOCATION:online
CATEGORIES:partner event
END:VEVENT
BEGIN:VEVENT
DTSTART;VALUE=DATE:20190720
DTEND;VALUE=DATE:20190722
DTSTAMP:20260423T205051
CREATED:20210726T175621Z
LAST-MODIFIED:20210726T175621Z
UID:4300000459-1563580800-1563753599@nbhap.org
SUMMARY:Multicultural Conference
DESCRIPTION:Immerse yourself in multicultural competencies in treating those with substance use disorders. Earn up to 18 CEs\, including in ethics.
URL:https://nbhap.org/event/multicultural-conference-2019/
LOCATION:Bakersfield\, CA\, Bakersfield\, CA\, United States
CATEGORIES:conference or summit,partner event
END:VEVENT
BEGIN:VEVENT
DTSTART;VALUE=DATE:20190125
DTEND;VALUE=DATE:20190126
DTSTAMP:20260423T205051
CREATED:20210702T185229Z
LAST-MODIFIED:20210707T195302Z
UID:4300000468-1548374400-1548460799@nbhap.org
SUMMARY:Webinar: Developing and Implementing a Peer Supported Emergency Response Program
DESCRIPTION:
URL:https://nbhap.org/event/webinar-developing-and-implementing-a-peer-supported-emergency-response-program-2019/
LOCATION:online
CATEGORIES:partner event,webinar or workshop
END:VEVENT
END:VCALENDAR