BEGIN:VCALENDAR
VERSION:2.0
PRODID:-//National Behavioral Health Association of Providers (NBHAP) - ECPv6.15.20//NONSGML v1.0//EN
CALSCALE:GREGORIAN
METHOD:PUBLISH
X-ORIGINAL-URL:https://nbhap.org
X-WR-CALDESC:Events for National Behavioral Health Association of Providers (NBHAP)
REFRESH-INTERVAL;VALUE=DURATION:PT1H
X-Robots-Tag:noindex
X-PUBLISHED-TTL:PT1H
BEGIN:VTIMEZONE
TZID:America/Los_Angeles
BEGIN:DAYLIGHT
TZOFFSETFROM:-0800
TZOFFSETTO:-0700
TZNAME:PDT
DTSTART:20230312T100000
END:DAYLIGHT
BEGIN:STANDARD
TZOFFSETFROM:-0700
TZOFFSETTO:-0800
TZNAME:PST
DTSTART:20231105T090000
END:STANDARD
BEGIN:DAYLIGHT
TZOFFSETFROM:-0800
TZOFFSETTO:-0700
TZNAME:PDT
DTSTART:20240310T100000
END:DAYLIGHT
BEGIN:STANDARD
TZOFFSETFROM:-0700
TZOFFSETTO:-0800
TZNAME:PST
DTSTART:20241103T090000
END:STANDARD
BEGIN:DAYLIGHT
TZOFFSETFROM:-0800
TZOFFSETTO:-0700
TZNAME:PDT
DTSTART:20250309T100000
END:DAYLIGHT
BEGIN:STANDARD
TZOFFSETFROM:-0700
TZOFFSETTO:-0800
TZNAME:PST
DTSTART:20251102T090000
END:STANDARD
END:VTIMEZONE
BEGIN:VEVENT
DTSTART;TZID=America/Los_Angeles:20240410T100000
DTEND;TZID=America/Los_Angeles:20240410T110000
DTSTAMP:20260423T073727
CREATED:20240305T185855Z
LAST-MODIFIED:20240306T172058Z
UID:4300000937-1712743200-1712746800@nbhap.org
SUMMARY:Webinar: Leadership: Is Now a Good Time?
DESCRIPTION:Multitasking used to be a good thing. It meant that we were adept at juggling multiple priorities and landing each one successfully. How do we prioritize that which moves us forward – with our team\, in our professional development and in our lives? Join us for a webinar on executive burnout and clever ways to defeat it.
URL:https://nbhap.org/event/webinar-leadership-is-now-a-good-time/
LOCATION:online
CATEGORIES:NBHAP event,webinar or workshop
ATTACH;FMTTYPE=image/png:https://nbhap.org/wp-content/uploads/webinar-Leadership-Is-Now-a-Good-Time-main.png
ORGANIZER;CN="NBHAP (National Behavioral Health Association of Providers)":MAILTO:info@nbhap.org
END:VEVENT
BEGIN:VEVENT
DTSTART;TZID=America/Los_Angeles:20240424T100000
DTEND;TZID=America/Los_Angeles:20240424T110000
DTSTAMP:20260423T073727
CREATED:20240306T171944Z
LAST-MODIFIED:20240306T171944Z
UID:4300000938-1713952800-1713956400@nbhap.org
SUMMARY:Webinar: Curriculum Best Practices — How Does Your Program Stack Up?
DESCRIPTION:Is your staff and clients excited about the programs you offer? How are you leveraging evidence-based practices? Is it easy to find\, access\, and share your programing with clients? How are you reducing the time and stress of your staff to document each session? Join us for this 1 CE-based webinar.
URL:https://nbhap.org/event/webinar-curriculum-best-practices-how-does-your-program-stack-up/
LOCATION:online
CATEGORIES:NBHAP event,webinar or workshop
ATTACH;FMTTYPE=image/png:https://nbhap.org/wp-content/uploads/2024_0424-NBHAP-webinar-Curriculum-Best-Practices-main.png
ORGANIZER;CN="NBHAP (National Behavioral Health Association of Providers)":MAILTO:info@nbhap.org
END:VEVENT
END:VCALENDAR