BEGIN:VCALENDAR
VERSION:2.0
PRODID:-//National Behavioral Health Association of Providers (NBHAP) - ECPv6.15.20//NONSGML v1.0//EN
CALSCALE:GREGORIAN
METHOD:PUBLISH
X-ORIGINAL-URL:https://nbhap.org
X-WR-CALDESC:Events for National Behavioral Health Association of Providers (NBHAP)
REFRESH-INTERVAL;VALUE=DURATION:PT1H
X-Robots-Tag:noindex
X-PUBLISHED-TTL:PT1H
BEGIN:VTIMEZONE
TZID:America/Los_Angeles
BEGIN:DAYLIGHT
TZOFFSETFROM:-0800
TZOFFSETTO:-0700
TZNAME:PDT
DTSTART:20230312T100000
END:DAYLIGHT
BEGIN:STANDARD
TZOFFSETFROM:-0700
TZOFFSETTO:-0800
TZNAME:PST
DTSTART:20231105T090000
END:STANDARD
BEGIN:DAYLIGHT
TZOFFSETFROM:-0800
TZOFFSETTO:-0700
TZNAME:PDT
DTSTART:20240310T100000
END:DAYLIGHT
BEGIN:STANDARD
TZOFFSETFROM:-0700
TZOFFSETTO:-0800
TZNAME:PST
DTSTART:20241103T090000
END:STANDARD
BEGIN:DAYLIGHT
TZOFFSETFROM:-0800
TZOFFSETTO:-0700
TZNAME:PDT
DTSTART:20250309T100000
END:DAYLIGHT
BEGIN:STANDARD
TZOFFSETFROM:-0700
TZOFFSETTO:-0800
TZNAME:PST
DTSTART:20251102T090000
END:STANDARD
END:VTIMEZONE
BEGIN:VEVENT
DTSTART;VALUE=DATE:20241101
DTEND;VALUE=DATE:20241102
DTSTAMP:20260421T022614
CREATED:20241022T215448Z
LAST-MODIFIED:20241022T215448Z
UID:4300001047-1730419200-1730505599@nbhap.org
SUMMARY:Integrating Wellness in Treatment Planning: A Holistic Approach
DESCRIPTION:
URL:https://nbhap.org/event/integrating-wellness-in-treatment-planning-a-holistic-approach/
LOCATION:online
CATEGORIES:webinar or workshop
END:VEVENT
BEGIN:VEVENT
DTSTART;VALUE=DATE:20241101
DTEND;VALUE=DATE:20241116
DTSTAMP:20260421T022614
CREATED:20241022T214933Z
LAST-MODIFIED:20241022T214933Z
UID:4300001046-1730419200-1731715199@nbhap.org
SUMMARY:ACMT Total Tox Course 2024
DESCRIPTION:Fridays only.
URL:https://nbhap.org/event/acmt-total-tox-course-2024/
LOCATION:online
CATEGORIES:webinar or workshop
END:VEVENT
BEGIN:VEVENT
DTSTART;TZID=America/Los_Angeles:20241107T100000
DTEND;TZID=America/Los_Angeles:20241107T110000
DTSTAMP:20260421T022614
CREATED:20240926T200650Z
LAST-MODIFIED:20240926T200706Z
UID:4300001033-1730973600-1730977200@nbhap.org
SUMMARY:The Change Journey: Understanding and Applying the Stages of Change
DESCRIPTION:
URL:https://nbhap.org/event/the-change-journey-understanding-and-applying-the-stages-of-change/
LOCATION:online
CATEGORIES:NBHAP event,webinar or workshop
ATTACH;FMTTYPE=image/png:https://nbhap.org/wp-content/uploads/2024_1107-webinar-The-Change-Journey-main.png
ORGANIZER;CN="NBHAP (National Behavioral Health Association of Providers)":MAILTO:info@nbhap.org
END:VEVENT
BEGIN:VEVENT
DTSTART;VALUE=DATE:20241113
DTEND;VALUE=DATE:20241115
DTSTAMP:20260421T022614
CREATED:20241022T221952Z
LAST-MODIFIED:20241022T221952Z
UID:4300001056-1731456000-1731628799@nbhap.org
SUMMARY:NIH Grants Process Primer: Application to Award
DESCRIPTION:
URL:https://nbhap.org/event/nih-grants-process-primer-application-to-award/
LOCATION:online
CATEGORIES:webinar or workshop
END:VEVENT
BEGIN:VEVENT
DTSTART;TZID=America/Los_Angeles:20241113T080000
DTEND;TZID=America/Los_Angeles:20241113T090000
DTSTAMP:20260421T022614
CREATED:20240808T232358Z
LAST-MODIFIED:20240808T232358Z
UID:4300000989-1731484800-1731488400@nbhap.org
SUMMARY:Caring Across Cultures: Suicide Prevention Readiness Training
DESCRIPTION:
URL:https://nbhap.org/event/caring-across-cultures-suicide-prevention-readiness-training-5/
LOCATION:online
CATEGORIES:webinar or workshop
END:VEVENT
BEGIN:VEVENT
DTSTART;VALUE=DATE:20241115
DTEND;VALUE=DATE:20241116
DTSTAMP:20260421T022614
CREATED:20241022T215807Z
LAST-MODIFIED:20241022T215807Z
UID:4300001048-1731628800-1731715199@nbhap.org
SUMMARY:High THC products link to psychotic disorders in teens\, with clinical\, prevention and policy interventions
DESCRIPTION:
URL:https://nbhap.org/event/high-thc-products-link-to-psychotic-disorders-in-teens-with-clinical-prevention-and-policy-interventions/
LOCATION:online
CATEGORIES:webinar or workshop
END:VEVENT
BEGIN:VEVENT
DTSTART;TZID=America/Los_Angeles:20241120T100000
DTEND;TZID=America/Los_Angeles:20241120T110000
DTSTAMP:20260421T022614
CREATED:20240926T203451Z
LAST-MODIFIED:20240926T203451Z
UID:4300001034-1732096800-1732100400@nbhap.org
SUMMARY:Look Back\, Look Ahead: Behavioral Health Policy After the Elections
DESCRIPTION:
URL:https://nbhap.org/event/look-back-look-ahead-behavioral-health-policy-after-the-elections/
LOCATION:online
CATEGORIES:NBHAP event,webinar or workshop
ATTACH;FMTTYPE=image/png:https://nbhap.org/wp-content/uploads/2024_1120-Look-Back-Look-Ahead-main.png
ORGANIZER;CN="NBHAP (National Behavioral Health Association of Providers)":MAILTO:info@nbhap.org
END:VEVENT
BEGIN:VEVENT
DTSTART;VALUE=DATE:20241121
DTEND;VALUE=DATE:20241122
DTSTAMP:20260421T022614
CREATED:20241022T221122Z
LAST-MODIFIED:20241022T221122Z
UID:4300001053-1732147200-1732233599@nbhap.org
SUMMARY:Adult Treatment Provider Training
DESCRIPTION:
URL:https://nbhap.org/event/adult-treatment-provider-training-2/
LOCATION:online
CATEGORIES:webinar or workshop
END:VEVENT
END:VCALENDAR