BEGIN:VCALENDAR
VERSION:2.0
PRODID:-//National Behavioral Health Association of Providers (NBHAP) - ECPv6.15.20//NONSGML v1.0//EN
CALSCALE:GREGORIAN
METHOD:PUBLISH
X-WR-CALNAME:National Behavioral Health Association of Providers (NBHAP)
X-ORIGINAL-URL:https://nbhap.org
X-WR-CALDESC:Events for National Behavioral Health Association of Providers (NBHAP)
REFRESH-INTERVAL;VALUE=DURATION:PT1H
X-Robots-Tag:noindex
X-PUBLISHED-TTL:PT1H
BEGIN:VTIMEZONE
TZID:America/Los_Angeles
BEGIN:DAYLIGHT
TZOFFSETFROM:-0800
TZOFFSETTO:-0700
TZNAME:PDT
DTSTART:20240310T100000
END:DAYLIGHT
BEGIN:STANDARD
TZOFFSETFROM:-0700
TZOFFSETTO:-0800
TZNAME:PST
DTSTART:20241103T090000
END:STANDARD
BEGIN:DAYLIGHT
TZOFFSETFROM:-0800
TZOFFSETTO:-0700
TZNAME:PDT
DTSTART:20250309T100000
END:DAYLIGHT
BEGIN:STANDARD
TZOFFSETFROM:-0700
TZOFFSETTO:-0800
TZNAME:PST
DTSTART:20251102T090000
END:STANDARD
BEGIN:DAYLIGHT
TZOFFSETFROM:-0800
TZOFFSETTO:-0700
TZNAME:PDT
DTSTART:20260308T100000
END:DAYLIGHT
BEGIN:STANDARD
TZOFFSETFROM:-0700
TZOFFSETTO:-0800
TZNAME:PST
DTSTART:20261101T090000
END:STANDARD
END:VTIMEZONE
BEGIN:VEVENT
DTSTART;VALUE=DATE:20250301
DTEND;VALUE=DATE:20250302
DTSTAMP:20260420T203043
CREATED:20250220T231440Z
LAST-MODIFIED:20250220T231440Z
UID:4300001223-1740787200-1740873599@nbhap.org
SUMMARY:Emotional Sobriety: On Becoming What We Can Be
DESCRIPTION:
URL:https://nbhap.org/event/emotional-sobriety-on-becoming-what-we-can-be/
LOCATION:Doylestown\, PA\, Doylestown\, PA\, United States
CATEGORIES:webinar or workshop
END:VEVENT
BEGIN:VEVENT
DTSTART;VALUE=DATE:20250303
DTEND;VALUE=DATE:20250304
DTSTAMP:20260420T203043
CREATED:20250205T204432Z
LAST-MODIFIED:20250205T204432Z
UID:4300001182-1740960000-1741046399@nbhap.org
SUMMARY:Peer-Supported Mobile Mental Health for Veteran Primary Care Patients
DESCRIPTION:
URL:https://nbhap.org/event/peer-supported-mobile-mental-health-for-veteran-primary-care-patients/
LOCATION:online
CATEGORIES:webinar or workshop
END:VEVENT
BEGIN:VEVENT
DTSTART;VALUE=DATE:20250303
DTEND;VALUE=DATE:20250304
DTSTAMP:20260420T203043
CREATED:20250220T235159Z
LAST-MODIFIED:20250220T235159Z
UID:4300001237-1740960000-1741046399@nbhap.org
SUMMARY:Suicidal thoughts and behaviors in eating disorders
DESCRIPTION:
URL:https://nbhap.org/event/suicidal-thoughts-and-behaviors-in-eating-disorders/
LOCATION:online
CATEGORIES:webinar or workshop
END:VEVENT
BEGIN:VEVENT
DTSTART;VALUE=DATE:20250305
DTEND;VALUE=DATE:20250306
DTSTAMP:20260420T203043
CREATED:20250205T201729Z
LAST-MODIFIED:20250205T201729Z
UID:4300001164-1741132800-1741219199@nbhap.org
SUMMARY:Virtual Core Foundations of Recovery Intro Series: Advancing Harm Reduction Approaches
DESCRIPTION:
URL:https://nbhap.org/event/virtual-core-foundations-of-recovery-intro-series-advancing-harm-reduction-approaches/
LOCATION:online
CATEGORIES:webinar or workshop
END:VEVENT
BEGIN:VEVENT
DTSTART;VALUE=DATE:20250305
DTEND;VALUE=DATE:20250306
DTSTAMP:20260420T203043
CREATED:20250220T233437Z
LAST-MODIFIED:20250220T233437Z
UID:4300001227-1741132800-1741219199@nbhap.org
SUMMARY:From Can't to Can: Using Ability-Based Design to Improve Patient Experience & Outcomes
DESCRIPTION:
URL:https://nbhap.org/event/from-cant-to-can-using-ability-based-design-to-improve-patient-experience-outcomes/
LOCATION:online
CATEGORIES:webinar or workshop
END:VEVENT
BEGIN:VEVENT
DTSTART;TZID=America/Los_Angeles:20250305T100000
DTEND;TZID=America/Los_Angeles:20250305T110000
DTSTAMP:20260420T203043
CREATED:20250129T182415Z
LAST-MODIFIED:20250129T185411Z
UID:4300001123-1741168800-1741172400@nbhap.org
SUMMARY:Webinar: Empowering Recovery: How the Trait-Based Model is Transforming Lives through Starting from Strength
DESCRIPTION:This webinar introduces licensed therapists to the revolutionary Trait-Based Model of Recovery\, an evidence-based\, person-centered approach that transforms lives by focusing on individual strengths. Unlike rigid models\, it adapts to diverse needs while improving mental health outcomes like anxiety\, depression\, and resilience. Learn how this flexible framework fosters growth\, empowers clients\, and enhances therapeutic practice across all levels of care. Discover how starting from strength is reshaping recovery.
URL:https://nbhap.org/event/webinar-empowering-recovery-how-the-trait-based-model-is-transforming-lives-through-starting-from-strength/
LOCATION:online
CATEGORIES:NBHAP event,webinar or workshop
ATTACH;FMTTYPE=image/png:https://nbhap.org/wp-content/uploads/2025_0305-webinar-Empowering-Recovery-main.png
ORGANIZER;CN="NBHAP (National Behavioral Health Association of Providers)":MAILTO:info@nbhap.org
END:VEVENT
BEGIN:VEVENT
DTSTART;VALUE=DATE:20250307
DTEND;VALUE=DATE:20250308
DTSTAMP:20260420T203043
CREATED:20250205T204609Z
LAST-MODIFIED:20250205T204609Z
UID:4300001183-1741305600-1741391999@nbhap.org
SUMMARY:The Art of Assessment: Tailoring Behavioral Health Care Levels
DESCRIPTION:
URL:https://nbhap.org/event/the-art-of-assessment-tailoring-behavioral-health-care-levels/
LOCATION:online
CATEGORIES:webinar or workshop
END:VEVENT
BEGIN:VEVENT
DTSTART;VALUE=DATE:20250307
DTEND;VALUE=DATE:20250308
DTSTAMP:20260420T203043
CREATED:20250220T235611Z
LAST-MODIFIED:20250220T235611Z
UID:4300001238-1741305600-1741391999@nbhap.org
SUMMARY:An Introduction to the Internal Family Systems (IFS) Model: Theory & Practice
DESCRIPTION:
URL:https://nbhap.org/event/an-introduction-to-the-internal-family-systems-ifs-model-theory-practice/
LOCATION:online
CATEGORIES:webinar or workshop
END:VEVENT
BEGIN:VEVENT
DTSTART;VALUE=DATE:20250307
DTEND;VALUE=DATE:20250308
DTSTAMP:20260420T203043
CREATED:20250303T194446Z
LAST-MODIFIED:20250303T194446Z
UID:4300001248-1741305600-1741391999@nbhap.org
SUMMARY:Advocacy in Action: Our Journey!
DESCRIPTION:
URL:https://nbhap.org/event/advocacy-in-action-our-journey/
LOCATION:online
CATEGORIES:webinar or workshop
END:VEVENT
BEGIN:VEVENT
DTSTART;VALUE=DATE:20250307
DTEND;VALUE=DATE:20250308
DTSTAMP:20260420T203043
CREATED:20250303T204146Z
LAST-MODIFIED:20250303T204146Z
UID:4300001265-1741305600-1741391999@nbhap.org
SUMMARY:CFR 42\, HIPAA and Confidentiality
DESCRIPTION:
URL:https://nbhap.org/event/cfr-42-hipaa-and-confidentiality-2/
LOCATION:online
CATEGORIES:webinar or workshop
END:VEVENT
BEGIN:VEVENT
DTSTART;VALUE=DATE:20250308
DTEND;VALUE=DATE:20250309
DTSTAMP:20260420T203043
CREATED:20250205T205003Z
LAST-MODIFIED:20250205T205117Z
UID:4300001186-1741392000-1741478399@nbhap.org
SUMMARY:Smart Strategies to Work with Clients Using Telemental Health
DESCRIPTION:
URL:https://nbhap.org/event/smart-strategies-to-work-with-clients-using-telemental-health-2/
LOCATION:online
CATEGORIES:webinar or workshop
END:VEVENT
BEGIN:VEVENT
DTSTART;VALUE=DATE:20250309
DTEND;VALUE=DATE:20250310
DTSTAMP:20260420T203043
CREATED:20250205T215747Z
LAST-MODIFIED:20250205T215747Z
UID:4300001213-1741478400-1741564799@nbhap.org
SUMMARY:Ethics For Addiction Counselors
DESCRIPTION:
URL:https://nbhap.org/event/ethics-for-addiction-counselors-2/
LOCATION:online
CATEGORIES:webinar or workshop
END:VEVENT
BEGIN:VEVENT
DTSTART;VALUE=DATE:20250310
DTEND;VALUE=DATE:20250311
DTSTAMP:20260420T203043
CREATED:20250205T204326Z
LAST-MODIFIED:20250205T204326Z
UID:4300001180-1741564800-1741651199@nbhap.org
SUMMARY:Aftermath of a Terrorist Attack: How the Community Can Recover
DESCRIPTION:
URL:https://nbhap.org/event/aftermath-of-a-terrorist-attack-how-the-community-can-recover/
LOCATION:online
CATEGORIES:webinar or workshop
END:VEVENT
BEGIN:VEVENT
DTSTART;VALUE=DATE:20250311
DTEND;VALUE=DATE:20250312
DTSTAMP:20260420T203043
CREATED:20250205T204635Z
LAST-MODIFIED:20250205T204635Z
UID:4300001184-1741651200-1741737599@nbhap.org
SUMMARY:Levels of Care in Mental Health: Introduction and Decision-making Guidelines
DESCRIPTION:
URL:https://nbhap.org/event/levels-of-care-in-mental-health-introduction-and-decision-making-guidelines/
LOCATION:online
CATEGORIES:webinar or workshop
END:VEVENT
BEGIN:VEVENT
DTSTART;VALUE=DATE:20250312
DTEND;VALUE=DATE:20250313
DTSTAMP:20260420T203043
CREATED:20250201T232301Z
LAST-MODIFIED:20250201T232301Z
UID:4300001127-1741737600-1741823999@nbhap.org
SUMMARY:Youth and the Legalization of Marijuana
DESCRIPTION:
URL:https://nbhap.org/event/youth-and-the-legalization-of-marijuana/
LOCATION:online
CATEGORIES:webinar or workshop
END:VEVENT
BEGIN:VEVENT
DTSTART;VALUE=DATE:20250312
DTEND;VALUE=DATE:20250313
DTSTAMP:20260420T203043
CREATED:20250303T194255Z
LAST-MODIFIED:20250303T194255Z
UID:4300001245-1741737600-1741823999@nbhap.org
SUMMARY:Attention Needed: Navigating ADHD and Eating Disorders
DESCRIPTION:
URL:https://nbhap.org/event/attention-needed-navigating-adhd-and-eating-disorders/
LOCATION:online
CATEGORIES:webinar or workshop
END:VEVENT
BEGIN:VEVENT
DTSTART;VALUE=DATE:20250312
DTEND;VALUE=DATE:20250313
DTSTAMP:20260420T203043
CREATED:20250303T194414Z
LAST-MODIFIED:20250303T194414Z
UID:4300001247-1741737600-1741823999@nbhap.org
SUMMARY:Recovery Specialist Fundamentals and Application
DESCRIPTION:
URL:https://nbhap.org/event/recovery-specialist-fundamentals-and-application/
LOCATION:online
CATEGORIES:webinar or workshop
END:VEVENT
BEGIN:VEVENT
DTSTART;VALUE=DATE:20250312
DTEND;VALUE=DATE:20250313
DTSTAMP:20260420T203043
CREATED:20250303T202635Z
LAST-MODIFIED:20250303T202635Z
UID:4300001257-1741737600-1741823999@nbhap.org
SUMMARY:Marijuana Legalization and the Prevention of Youth Cannabis Use
DESCRIPTION:
URL:https://nbhap.org/event/marijuana-legalization-and-the-prevention-of-youth-cannabis-use/
LOCATION:online
CATEGORIES:webinar or workshop
END:VEVENT
BEGIN:VEVENT
DTSTART;VALUE=DATE:20250313
DTEND;VALUE=DATE:20250314
DTSTAMP:20260420T203043
CREATED:20250205T202632Z
LAST-MODIFIED:20250205T202632Z
UID:4300001170-1741824000-1741910399@nbhap.org
SUMMARY:CBT Certification: Rational Living Therapy Level-One Certification: Day 1
DESCRIPTION:
URL:https://nbhap.org/event/cbt-certification-rational-living-therapy-level-one-certification-day-1/
LOCATION:online
CATEGORIES:webinar or workshop
END:VEVENT
BEGIN:VEVENT
DTSTART;VALUE=DATE:20250313
DTEND;VALUE=DATE:20250314
DTSTAMP:20260420T203043
CREATED:20250303T204634Z
LAST-MODIFIED:20250303T204634Z
UID:4300001267-1741824000-1741910399@nbhap.org
SUMMARY:Revolutionizing Care: The Next Wave of Autism-Focused Technologies
DESCRIPTION:
URL:https://nbhap.org/event/revolutionizing-care-the-next-wave-of-autism-focused-technologies/
LOCATION:online
CATEGORIES:webinar or workshop
END:VEVENT
BEGIN:VEVENT
DTSTART;VALUE=DATE:20250314
DTEND;VALUE=DATE:20250315
DTSTAMP:20260420T203043
CREATED:20250220T235748Z
LAST-MODIFIED:20250220T235748Z
UID:4300001241-1741910400-1741996799@nbhap.org
SUMMARY:Radically Open Dialectical Behavior Therapy (RO DBT): Healing the Burden of Overcontrol
DESCRIPTION:
URL:https://nbhap.org/event/radically-open-dialectical-behavior-therapy-ro-dbt-healing-the-burden-of-overcontrol/
LOCATION:online
CATEGORIES:webinar or workshop
END:VEVENT
BEGIN:VEVENT
DTSTART;VALUE=DATE:20250314
DTEND;VALUE=DATE:20250315
DTSTAMP:20260420T203043
CREATED:20250303T194341Z
LAST-MODIFIED:20250303T194341Z
UID:4300001246-1741910400-1741996799@nbhap.org
SUMMARY:Resilient Grieving After Disaster: Strategies for Navigating Loss and Fostering Recovery
DESCRIPTION:
URL:https://nbhap.org/event/resilient-grieving-after-disaster-strategies-for-navigating-loss-and-fostering-recovery/
LOCATION:online
CATEGORIES:webinar or workshop
END:VEVENT
BEGIN:VEVENT
DTSTART;VALUE=DATE:20250315
DTEND;VALUE=DATE:20250316
DTSTAMP:20260420T203043
CREATED:20250205T205612Z
LAST-MODIFIED:20250205T205658Z
UID:4300001187-1741996800-1742083199@nbhap.org
SUMMARY:Understanding Risk Factors of Addiction and the Importance of  Trauma-Informed Addiction Counseling
DESCRIPTION:
URL:https://nbhap.org/event/understanding-risk-factors-of-addiction-and-the-importance-of-trauma-informed-addiction-counseling/
LOCATION:online
CATEGORIES:webinar or workshop
END:VEVENT
BEGIN:VEVENT
DTSTART;VALUE=DATE:20250318
DTEND;VALUE=DATE:20250319
DTSTAMP:20260420T203043
CREATED:20250220T234654Z
LAST-MODIFIED:20250220T234654Z
UID:4300001233-1742256000-1742342399@nbhap.org
SUMMARY:Why Multiples are Way\, Way\, Overrated
DESCRIPTION:
URL:https://nbhap.org/event/why-multiples-are-way-way-overrated/
LOCATION:online
CATEGORIES:webinar or workshop
END:VEVENT
BEGIN:VEVENT
DTSTART;VALUE=DATE:20250319
DTEND;VALUE=DATE:20250320
DTSTAMP:20260420T203043
CREATED:20250303T195229Z
LAST-MODIFIED:20250303T195229Z
UID:4300001251-1742342400-1742428799@nbhap.org
SUMMARY:An Important Readout on Current Drug Trends
DESCRIPTION:
URL:https://nbhap.org/event/an-important-readout-on-current-drug-trends/
LOCATION:online
CATEGORIES:webinar or workshop
END:VEVENT
BEGIN:VEVENT
DTSTART;TZID=America/Los_Angeles:20250319T100000
DTEND;TZID=America/Los_Angeles:20250319T110000
DTSTAMP:20260420T203043
CREATED:20250129T185345Z
LAST-MODIFIED:20250129T185345Z
UID:4300001124-1742378400-1742382000@nbhap.org
SUMMARY:Webinar: Building & Retaining Your Behavioral Healthcare Staff
DESCRIPTION:This webinar will examine the factors that drive challenges many treatment centers face in hiring and retaining key staff.
URL:https://nbhap.org/event/webinar-building-retaining-your-behavioral-healthcare-staff/
LOCATION:online
CATEGORIES:NBHAP event,webinar or workshop
ATTACH;FMTTYPE=image/png:https://nbhap.org/wp-content/uploads/2025_0319-Building-and-Retaining-Your-Behavioral-Healthcare-Staff.png
ORGANIZER;CN="NBHAP (National Behavioral Health Association of Providers)":MAILTO:info@nbhap.org
END:VEVENT
BEGIN:VEVENT
DTSTART;TZID=America/Los_Angeles:20250319T123000
DTEND;TZID=America/Los_Angeles:20250319T133000
DTSTAMP:20260420T203043
CREATED:20250205T193826Z
LAST-MODIFIED:20250205T193826Z
UID:4300001152-1742387400-1742391000@nbhap.org
SUMMARY:NARR Learning Community 2025: March
DESCRIPTION:
URL:https://nbhap.org/event/narr-learning-community-2025-march/
LOCATION:online
CATEGORIES:webinar or workshop
END:VEVENT
BEGIN:VEVENT
DTSTART;TZID=America/Los_Angeles:20250319T123000
DTEND;TZID=America/Los_Angeles:20250319T133000
DTSTAMP:20260420T203043
CREATED:20260225T222514Z
LAST-MODIFIED:20260225T222514Z
UID:4300002232-1742387400-1742391000@nbhap.org
SUMMARY:2026 NARR Learning Community
DESCRIPTION:
URL:https://nbhap.org/event/2026-narr-learning-community/
LOCATION:online
CATEGORIES:webinar or workshop
END:VEVENT
BEGIN:VEVENT
DTSTART;VALUE=DATE:20250320
DTEND;VALUE=DATE:20250321
DTSTAMP:20260420T203043
CREATED:20250205T202733Z
LAST-MODIFIED:20250205T202733Z
UID:4300001171-1742428800-1742515199@nbhap.org
SUMMARY:CBT Certification: Rational Living Therapy Level-One Certification: Day 2
DESCRIPTION:
URL:https://nbhap.org/event/cbt-certification-rational-living-therapy-level-one-certification-day-2/
LOCATION:online
CATEGORIES:webinar or workshop
END:VEVENT
BEGIN:VEVENT
DTSTART;VALUE=DATE:20250321
DTEND;VALUE=DATE:20250322
DTSTAMP:20260420T203043
CREATED:20250220T235644Z
LAST-MODIFIED:20250220T235644Z
UID:4300001239-1742515200-1742601599@nbhap.org
SUMMARY:Ethical Considerations When Working with Minors: Helping Clinicians Feel Confident and Competent
DESCRIPTION:
URL:https://nbhap.org/event/ethical-considerations-when-working-with-minors-helping-clinicians-feel-confident-and-competent/
LOCATION:online
CATEGORIES:webinar or workshop
END:VEVENT
END:VCALENDAR