BEGIN:VCALENDAR
VERSION:2.0
PRODID:-//National Behavioral Health Association of Providers (NBHAP) - ECPv6.15.20//NONSGML v1.0//EN
CALSCALE:GREGORIAN
METHOD:PUBLISH
X-ORIGINAL-URL:https://nbhap.org
X-WR-CALDESC:Events for National Behavioral Health Association of Providers (NBHAP)
REFRESH-INTERVAL;VALUE=DURATION:PT1H
X-Robots-Tag:noindex
X-PUBLISHED-TTL:PT1H
BEGIN:VTIMEZONE
TZID:America/Los_Angeles
BEGIN:DAYLIGHT
TZOFFSETFROM:-0800
TZOFFSETTO:-0700
TZNAME:PDT
DTSTART:20240310T100000
END:DAYLIGHT
BEGIN:STANDARD
TZOFFSETFROM:-0700
TZOFFSETTO:-0800
TZNAME:PST
DTSTART:20241103T090000
END:STANDARD
BEGIN:DAYLIGHT
TZOFFSETFROM:-0800
TZOFFSETTO:-0700
TZNAME:PDT
DTSTART:20250309T100000
END:DAYLIGHT
BEGIN:STANDARD
TZOFFSETFROM:-0700
TZOFFSETTO:-0800
TZNAME:PST
DTSTART:20251102T090000
END:STANDARD
BEGIN:DAYLIGHT
TZOFFSETFROM:-0800
TZOFFSETTO:-0700
TZNAME:PDT
DTSTART:20260308T100000
END:DAYLIGHT
BEGIN:STANDARD
TZOFFSETFROM:-0700
TZOFFSETTO:-0800
TZNAME:PST
DTSTART:20261101T090000
END:STANDARD
END:VTIMEZONE
BEGIN:VEVENT
DTSTART;TZID=America/Los_Angeles:20250703T100000
DTEND;TZID=America/Los_Angeles:20250703T110000
DTSTAMP:20260420T155618
CREATED:20250321T172148Z
LAST-MODIFIED:20250501T170200Z
UID:4300001290-1751536800-1751540400@nbhap.org
SUMMARY:Digital Mental Health Webinar Series 24-25
DESCRIPTION:
URL:https://nbhap.org/event/digital-mental-health-webinar-series-24-25-070325/
LOCATION:online
CATEGORIES:webinar or workshop
END:VEVENT
BEGIN:VEVENT
DTSTART;TZID=America/Los_Angeles:20250707T083000
DTEND;TZID=America/Los_Angeles:20250707T120000
DTSTAMP:20260420T155619
CREATED:20250502T031649Z
LAST-MODIFIED:20250502T031705Z
UID:4300001489-1751877000-1751889600@nbhap.org
SUMMARY:Foundations of Zero Suicide: Clinical Competency
DESCRIPTION:
URL:https://nbhap.org/event/foundations-of-zero-suicide-clinical-competency-070725/
LOCATION:online
CATEGORIES:webinar or workshop
END:VEVENT
BEGIN:VEVENT
DTSTART;TZID=America/Los_Angeles:20250708T110000
DTEND;TZID=America/Los_Angeles:20250708T120000
DTSTAMP:20260420T155619
CREATED:20250614T011255Z
LAST-MODIFIED:20250907T041038Z
UID:4300001615-1751972400-1751976000@nbhap.org
SUMMARY:Parity Violations & Ghost Networks
DESCRIPTION:
URL:https://nbhap.org/event/parity-violations-ghost-networks/
LOCATION:online
CATEGORIES:webinar or workshop
END:VEVENT
BEGIN:VEVENT
DTSTART;TZID=America/Los_Angeles:20250709T090000
DTEND;TZID=America/Los_Angeles:20250709T100000
DTSTAMP:20260420T155619
CREATED:20250528T221622Z
LAST-MODIFIED:20250528T221622Z
UID:4300001571-1752051600-1752055200@nbhap.org
SUMMARY:Illuminating the Dark Shadows of Cyberaggression
DESCRIPTION:
URL:https://nbhap.org/event/illuminating-the-dark-shadows-of-cyberaggression/
LOCATION:online
CATEGORIES:webinar or workshop
END:VEVENT
BEGIN:VEVENT
DTSTART;TZID=America/Los_Angeles:20250709T120000
DTEND;TZID=America/Los_Angeles:20250709T133000
DTSTAMP:20260420T155619
CREATED:20250201T232722Z
LAST-MODIFIED:20250502T014000Z
UID:4300001135-1752062400-1752067800@nbhap.org
SUMMARY:Next Steps for Cultural Responsiveness in Ethical Decision-Making
DESCRIPTION:
URL:https://nbhap.org/event/next-steps-for-cultural-responsiveness-in-ethical-decision-making/
LOCATION:online
CATEGORIES:webinar or workshop
END:VEVENT
BEGIN:VEVENT
DTSTART;TZID=America/Los_Angeles:20250710T103000
DTEND;TZID=America/Los_Angeles:20250710T180000
DTSTAMP:20260420T155619
CREATED:20250425T224517Z
LAST-MODIFIED:20250425T224517Z
UID:4300001395-1752143400-1752170400@nbhap.org
SUMMARY:Rational Living Therapy Level 1.5 Certification
DESCRIPTION:Rational Living Therapy Level 1.5 Certification Webinar (Three-Day Training)\nDates: July 10\, 2025 (Day One)\n           July 17\, 2025 (Day Two)\n           July 24\, 2025 (Day Three)
URL:https://nbhap.org/event/rational-living-therapy-level-1-5-certification/
LOCATION:online
CATEGORIES:webinar or workshop
END:VEVENT
BEGIN:VEVENT
DTSTART;TZID=America/Los_Angeles:20250711T130000
DTEND;TZID=America/Los_Angeles:20250711T161500
DTSTAMP:20260420T155619
CREATED:20250520T230343Z
LAST-MODIFIED:20250520T230343Z
UID:4300001535-1752238800-1752250500@nbhap.org
SUMMARY:Grief Surrounds Us: Coping with Grief in the Modern Era
DESCRIPTION:
URL:https://nbhap.org/event/grief-surrounds-us-coping-with-grief-in-the-modern-era/
LOCATION:online
CATEGORIES:webinar or workshop
END:VEVENT
BEGIN:VEVENT
DTSTART;TZID=America/Los_Angeles:20250716T100000
DTEND;TZID=America/Los_Angeles:20250716T110000
DTSTAMP:20260420T155619
CREATED:20250627T232800Z
LAST-MODIFIED:20250627T232800Z
UID:4300001636-1752660000-1752663600@nbhap.org
SUMMARY:TKF Mental Health Parity Index Webinar
DESCRIPTION:
URL:https://nbhap.org/event/tkf-mental-health-parity-index-webinar/
LOCATION:online
CATEGORIES:webinar or workshop
END:VEVENT
BEGIN:VEVENT
DTSTART;TZID=America/Los_Angeles:20250716T100000
DTEND;TZID=America/Los_Angeles:20250716T113000
DTSTAMP:20260420T155619
CREATED:20250627T210411Z
LAST-MODIFIED:20250627T210411Z
UID:4300001626-1752660000-1752665400@nbhap.org
SUMMARY:Understanding the Foundations of Crisis Services
DESCRIPTION:
URL:https://nbhap.org/event/understanding-the-foundations-of-crisis-services/
LOCATION:online
CATEGORIES:webinar or workshop
END:VEVENT
BEGIN:VEVENT
DTSTART;TZID=America/Los_Angeles:20250716T100000
DTEND;TZID=America/Los_Angeles:20250716T113000
DTSTAMP:20260420T155619
CREATED:20250627T211400Z
LAST-MODIFIED:20250627T211415Z
UID:4300001627-1752660000-1752665400@nbhap.org
SUMMARY:QPR (Question\, Persuade\, Refer)
DESCRIPTION:
URL:https://nbhap.org/event/qpr-question-persuade-refer-071625/
LOCATION:online
CATEGORIES:webinar or workshop
END:VEVENT
BEGIN:VEVENT
DTSTART;TZID=America/Los_Angeles:20250716T120000
DTEND;TZID=America/Los_Angeles:20250716T130000
DTSTAMP:20260420T155619
CREATED:20250614T011512Z
LAST-MODIFIED:20250614T011512Z
UID:4300001616-1752667200-1752670800@nbhap.org
SUMMARY:From Uncertainty to Action: How Objective Biomarkers Are Changing the Autism Diagnosis & Therapy Journey
DESCRIPTION:
URL:https://nbhap.org/event/from-uncertainty-to-action-how-objective-biomarkers-are-changing-the-autism-diagnosis-therapy-journey/
LOCATION:online
CATEGORIES:webinar or workshop
END:VEVENT
BEGIN:VEVENT
DTSTART;TZID=America/Los_Angeles:20250716T123000
DTEND;TZID=America/Los_Angeles:20250716T133000
DTSTAMP:20260420T155619
CREATED:20250502T015051Z
LAST-MODIFIED:20250502T015051Z
UID:4300001453-1752669000-1752672600@nbhap.org
SUMMARY:NARR Learning Community 2025: July
DESCRIPTION:
URL:https://nbhap.org/event/narr-learning-community-2025-july/
LOCATION:online
CATEGORIES:webinar or workshop
END:VEVENT
BEGIN:VEVENT
DTSTART;TZID=America/Los_Angeles:20250721T130000
DTEND;TZID=America/Los_Angeles:20250721T141500
DTSTAMP:20260420T155619
CREATED:20250502T032721Z
LAST-MODIFIED:20250502T032734Z
UID:4300001500-1753102800-1753107300@nbhap.org
SUMMARY:Safety Planning Intervention for Suicide Prevention
DESCRIPTION:
URL:https://nbhap.org/event/safety-planning-intervention-for-suicide-prevention-072125/
LOCATION:online
CATEGORIES:webinar or workshop
END:VEVENT
BEGIN:VEVENT
DTSTART;VALUE=DATE:20250722
DTEND;VALUE=DATE:20250724
DTSTAMP:20260420T155619
CREATED:20250502T032211Z
LAST-MODIFIED:20250502T032211Z
UID:4300001494-1753142400-1753315199@nbhap.org
SUMMARY:Motivational Interviewing
DESCRIPTION:
URL:https://nbhap.org/event/motivational-interviewing/
LOCATION:online
CATEGORIES:webinar or workshop
END:VEVENT
BEGIN:VEVENT
DTSTART;TZID=America/Los_Angeles:20250723T090000
DTEND;TZID=America/Los_Angeles:20250723T100000
DTSTAMP:20260420T155619
CREATED:20250528T221655Z
LAST-MODIFIED:20250528T221655Z
UID:4300001572-1753261200-1753264800@nbhap.org
SUMMARY:Chicken or the Egg: The Cannabis and Psychosis Debate
DESCRIPTION:
URL:https://nbhap.org/event/chicken-or-the-egg-the-cannabis-and-psychosis-debate/
LOCATION:online
CATEGORIES:webinar or workshop
END:VEVENT
BEGIN:VEVENT
DTSTART;TZID=America/Los_Angeles:20250723T100000
DTEND;TZID=America/Los_Angeles:20250723T110000
DTSTAMP:20260420T155619
CREATED:20250529T210446Z
LAST-MODIFIED:20250529T210446Z
UID:4300001583-1753264800-1753268400@nbhap.org
SUMMARY:Empowering Excellence: Best Practices in Clinical Supervision
DESCRIPTION:Foster confident\, culturally responsive supervision in this free CE-based webinar. Designed for both new and experienced clinical supervisors\, Neha Kumar will equip behavioral health professionals with essential tools for effective ethical supervision.
URL:https://nbhap.org/event/empowering-excellence-best-practices-in-clinical-supervision/
LOCATION:online
CATEGORIES:webinar or workshop
ATTACH;FMTTYPE=image/png:https://nbhap.org/wp-content/uploads/webinar-Empowering-Excellence-Best-Practices-in-Clinical-Supervision-main.png
ORGANIZER;CN="NBHAP (National Behavioral Health Association of Providers)":MAILTO:info@nbhap.org
END:VEVENT
BEGIN:VEVENT
DTSTART;TZID=America/Los_Angeles:20250723T120000
DTEND;TZID=America/Los_Angeles:20250723T133000
DTSTAMP:20260420T155619
CREATED:20250201T232750Z
LAST-MODIFIED:20250502T014104Z
UID:4300001136-1753272000-1753277400@nbhap.org
SUMMARY:Breaking the Cycle: Interrupting Intergenerational Trauma in Substance Use Disorders
DESCRIPTION:
URL:https://nbhap.org/event/breaking-the-cycle-interrupting-intergenerational-trauma-in-substance-use-disorders/
LOCATION:online
CATEGORIES:webinar or workshop
END:VEVENT
BEGIN:VEVENT
DTSTART;TZID=America/Los_Angeles:20250724T190000
DTEND;TZID=America/Los_Angeles:20250724T203000
DTSTAMP:20260420T155619
CREATED:20250612T012108Z
LAST-MODIFIED:20250612T012108Z
UID:4300001598-1753383600-1753389000@nbhap.org
SUMMARY:The Missing Link: How Parent Coaching Elevates Youth Recovery Outcomes
DESCRIPTION:
URL:https://nbhap.org/event/the-missing-link-how-parent-coaching-elevates-youth-recovery-outcomes/
LOCATION:online
CATEGORIES:webinar or workshop
END:VEVENT
BEGIN:VEVENT
DTSTART;TZID=America/Los_Angeles:20250725T084500
DTEND;TZID=America/Los_Angeles:20250725T160000
DTSTAMP:20260420T155619
CREATED:20250520T234302Z
LAST-MODIFIED:20250520T234302Z
UID:4300001550-1753433100-1753459200@nbhap.org
SUMMARY:Anyone Can Get AIDS
DESCRIPTION:
URL:https://nbhap.org/event/anyone-can-get-aids/
LOCATION:online
CATEGORIES:webinar or workshop
END:VEVENT
BEGIN:VEVENT
DTSTART;TZID=America/Los_Angeles:20250726T090000
DTEND;TZID=America/Los_Angeles:20250726T150000
DTSTAMP:20260420T155619
CREATED:20250627T211456Z
LAST-MODIFIED:20250627T211456Z
UID:4300001628-1753520400-1753542000@nbhap.org
SUMMARY:Youth MHFA
DESCRIPTION:
URL:https://nbhap.org/event/youth-mhfa/
LOCATION:online
CATEGORIES:webinar or workshop
END:VEVENT
BEGIN:VEVENT
DTSTART;TZID=America/Los_Angeles:20250729T110000
DTEND;TZID=America/Los_Angeles:20250729T120000
DTSTAMP:20260420T155619
CREATED:20250627T205344Z
LAST-MODIFIED:20250627T205344Z
UID:4300001618-1753786800-1753790400@nbhap.org
SUMMARY:Addiction Hijacked Therapy
DESCRIPTION:
URL:https://nbhap.org/event/addiction-hijacked-therapy/
LOCATION:online
CATEGORIES:webinar or workshop
END:VEVENT
BEGIN:VEVENT
DTSTART;TZID=America/Los_Angeles:20250730T100000
DTEND;TZID=America/Los_Angeles:20250730T110000
DTSTAMP:20260420T155619
CREATED:20250530T165317Z
LAST-MODIFIED:20250530T165317Z
UID:4300001586-1753869600-1753873200@nbhap.org
SUMMARY:Webinar: Thriving with Self Care: The Rewired Method
DESCRIPTION:Unlock your potential and build resilience. This free CE-based webinar equips you with practical self-care strategies (mental\, emotional\, spiritual\, and physical)\, communication skills\, and stress management techniques to thrive personally and professionally. You’ll gain actionable tips and exercises to enhance your well-being\, collaboration\, and emotional awareness.
URL:https://nbhap.org/event/webinar-thriving-with-self-care-the-rewired-method/
LOCATION:online
CATEGORIES:webinar or workshop
ATTACH;FMTTYPE=image/png:https://nbhap.org/wp-content/uploads/webinar-Thriving-with-Self-Care-The-Rewired-Method.png
ORGANIZER;CN="NBHAP (National Behavioral Health Association of Providers)":MAILTO:info@nbhap.org
END:VEVENT
END:VCALENDAR