BEGIN:VCALENDAR
VERSION:2.0
PRODID:-//National Behavioral Health Association of Providers (NBHAP) - ECPv6.15.20//NONSGML v1.0//EN
CALSCALE:GREGORIAN
METHOD:PUBLISH
X-WR-CALNAME:National Behavioral Health Association of Providers (NBHAP)
X-ORIGINAL-URL:https://nbhap.org
X-WR-CALDESC:Events for National Behavioral Health Association of Providers (NBHAP)
REFRESH-INTERVAL;VALUE=DURATION:PT1H
X-Robots-Tag:noindex
X-PUBLISHED-TTL:PT1H
BEGIN:VTIMEZONE
TZID:America/Los_Angeles
BEGIN:DAYLIGHT
TZOFFSETFROM:-0800
TZOFFSETTO:-0700
TZNAME:PDT
DTSTART:20250309T100000
END:DAYLIGHT
BEGIN:STANDARD
TZOFFSETFROM:-0700
TZOFFSETTO:-0800
TZNAME:PST
DTSTART:20251102T090000
END:STANDARD
BEGIN:DAYLIGHT
TZOFFSETFROM:-0800
TZOFFSETTO:-0700
TZNAME:PDT
DTSTART:20260308T100000
END:DAYLIGHT
BEGIN:STANDARD
TZOFFSETFROM:-0700
TZOFFSETTO:-0800
TZNAME:PST
DTSTART:20261101T090000
END:STANDARD
BEGIN:DAYLIGHT
TZOFFSETFROM:-0800
TZOFFSETTO:-0700
TZNAME:PDT
DTSTART:20270314T100000
END:DAYLIGHT
BEGIN:STANDARD
TZOFFSETFROM:-0700
TZOFFSETTO:-0800
TZNAME:PST
DTSTART:20271107T090000
END:STANDARD
END:VTIMEZONE
BEGIN:VEVENT
DTSTART;VALUE=DATE:20260406
DTEND;VALUE=DATE:20260602
DTSTAMP:20260420T040236
CREATED:20260401T000536Z
LAST-MODIFIED:20260401T000536Z
UID:4300002265-1775433600-1780358399@nbhap.org
SUMMARY:Assessment of ADHD and Executive Functions Across the Lifespan
DESCRIPTION:
URL:https://nbhap.org/event/assessment-of-adhd-and-executive-functions-across-the-lifespan/
LOCATION:online
CATEGORIES:webinar or workshop
END:VEVENT
BEGIN:VEVENT
DTSTART;VALUE=DATE:20260602
DTEND;VALUE=DATE:20260604
DTSTAMP:20260420T040236
CREATED:20251017T215303Z
LAST-MODIFIED:20251017T215303Z
UID:4300001923-1780358400-1780531199@nbhap.org
SUMMARY:Incentives\, Sanctions\, and Service Adjustments Workshop
DESCRIPTION:
URL:https://nbhap.org/event/incentives-sanctions-and-service-adjustments-workshop-060226/
LOCATION:online
CATEGORIES:webinar or workshop
END:VEVENT
BEGIN:VEVENT
DTSTART;VALUE=DATE:20260602
DTEND;VALUE=DATE:20260604
DTSTAMP:20260420T040236
CREATED:20260401T025022Z
LAST-MODIFIED:20260401T025022Z
UID:4300002292-1780358400-1780531199@nbhap.org
SUMMARY:Cognitive Behavioral Therapy for Anorexia Nervosa in Adolescents & Adults
DESCRIPTION:
URL:https://nbhap.org/event/cognitive-behavioral-therapy-for-anorexia-nervosa-in-adolescents-adults/
LOCATION:online
CATEGORIES:webinar or workshop
END:VEVENT
BEGIN:VEVENT
DTSTART;TZID=America/Los_Angeles:20260602T100000
DTEND;TZID=America/Los_Angeles:20260602T120000
DTSTAMP:20260420T040236
CREATED:20260401T024636Z
LAST-MODIFIED:20260401T024636Z
UID:4300002291-1780394400-1780401600@nbhap.org
SUMMARY:Clinical Implications of Substance Use\, Risk\, and Suicide Prevention in Military Populations
DESCRIPTION:
URL:https://nbhap.org/event/clinical-implications-of-substance-use-risk-and-suicide-prevention-in-military-populations/
LOCATION:online
CATEGORIES:webinar or workshop
END:VEVENT
BEGIN:VEVENT
DTSTART;TZID=America/Los_Angeles:20260602T140000
DTEND;TZID=America/Los_Angeles:20260602T160000
DTSTAMP:20260420T040236
CREATED:20260410T233405Z
LAST-MODIFIED:20260410T233405Z
UID:4300002370-1780408800-1780416000@nbhap.org
SUMMARY:Compassionate\, Ethical\, and Informed Care: Supporting Older Adults in Mental Health Practice
DESCRIPTION:
URL:https://nbhap.org/event/compassionate-ethical-and-informed-care-supporting-older-adults-in-mental-health-practice/
LOCATION:online
CATEGORIES:webinar or workshop
END:VEVENT
BEGIN:VEVENT
DTSTART;TZID=America/Los_Angeles:20260603T100000
DTEND;TZID=America/Los_Angeles:20260603T120000
DTSTAMP:20260420T040236
CREATED:20260410T233234Z
LAST-MODIFIED:20260410T233234Z
UID:4300002368-1780480800-1780488000@nbhap.org
SUMMARY:Subpoenas\, Testimony\, & Court-Ordered Clients
DESCRIPTION:
URL:https://nbhap.org/event/subpoenas-testimony-court-ordered-clients/
LOCATION:online
CATEGORIES:webinar or workshop
END:VEVENT
BEGIN:VEVENT
DTSTART;TZID=America/Los_Angeles:20260603T120000
DTEND;TZID=America/Los_Angeles:20260603T133000
DTSTAMP:20260420T040236
CREATED:20260408T044435Z
LAST-MODIFIED:20260408T044435Z
UID:4300002340-1780488000-1780493400@nbhap.org
SUMMARY:Second-Wave Mutual-Help Groups for Addiction Recovery
DESCRIPTION:
URL:https://nbhap.org/event/second-wave-mutual-help-groups-for-addiction-recovery/
LOCATION:online
CATEGORIES:webinar or workshop
END:VEVENT
BEGIN:VEVENT
DTSTART;TZID=America/Los_Angeles:20260604T100000
DTEND;TZID=America/Los_Angeles:20260604T120000
DTSTAMP:20260420T040236
CREATED:20260410T233453Z
LAST-MODIFIED:20260410T233453Z
UID:4300002371-1780567200-1780574400@nbhap.org
SUMMARY:Ethics of Self Care: Staying True Without Burning Out
DESCRIPTION:
URL:https://nbhap.org/event/ethics-of-self-care-staying-true-without-burning-out/
LOCATION:online
CATEGORIES:webinar or workshop
END:VEVENT
BEGIN:VEVENT
DTSTART;TZID=America/Los_Angeles:20260604T140000
DTEND;TZID=America/Los_Angeles:20260604T160000
DTSTAMP:20260420T040236
CREATED:20260413T135359Z
LAST-MODIFIED:20260413T135359Z
UID:4300002372-1780581600-1780588800@nbhap.org
SUMMARY:When The Internet Becomes The Therapist: Risks\, Trends\, & Clinical Implications
DESCRIPTION:
URL:https://nbhap.org/event/when-the-internet-becomes-the-therapist-risks-trends-clinical-implications/
LOCATION:online
CATEGORIES:webinar or workshop
END:VEVENT
BEGIN:VEVENT
DTSTART;TZID=America/Los_Angeles:20260605T100000
DTEND;TZID=America/Los_Angeles:20260605T120000
DTSTAMP:20260420T040236
CREATED:20260414T144909Z
LAST-MODIFIED:20260414T144909Z
UID:4300002377-1780653600-1780660800@nbhap.org
SUMMARY:Culturally Adapted Evidence-Based Interventions
DESCRIPTION:
URL:https://nbhap.org/event/culturally-adapted-evidence-based-interventions/
LOCATION:online
CATEGORIES:webinar or workshop
END:VEVENT
BEGIN:VEVENT
DTSTART;TZID=America/Los_Angeles:20260609T130000
DTEND;TZID=America/Los_Angeles:20260609T161500
DTSTAMP:20260420T040236
CREATED:20260418T013809Z
LAST-MODIFIED:20260418T013809Z
UID:4300002401-1781010000-1781021700@nbhap.org
SUMMARY:Technology\, Ethics\, & Telemental Health: Clinical Decision-Making in the Digital Era
DESCRIPTION:
URL:https://nbhap.org/event/technology-ethics-telemental-health-clinical-decision-making-in-the-digital-era/
LOCATION:online
CATEGORIES:webinar or workshop
END:VEVENT
BEGIN:VEVENT
DTSTART;VALUE=DATE:20260611
DTEND;VALUE=DATE:20260613
DTSTAMP:20260420T040236
CREATED:20260201T233256Z
LAST-MODIFIED:20260201T233256Z
UID:4300002203-1781136000-1781308799@nbhap.org
SUMMARY:SAP Live Trainings
DESCRIPTION:
URL:https://nbhap.org/event/sap-live-trainings-061126/
LOCATION:online
CATEGORIES:webinar or workshop
END:VEVENT
BEGIN:VEVENT
DTSTART;VALUE=DATE:20260611
DTEND;VALUE=DATE:20260613
DTSTAMP:20260420T040236
CREATED:20260410T232701Z
LAST-MODIFIED:20260410T232701Z
UID:4300002362-1781136000-1781308799@nbhap.org
SUMMARY:Custody Evaluator Certification Training
DESCRIPTION:
URL:https://nbhap.org/event/custody-evaluator-certification-training-2/
LOCATION:online
CATEGORIES:webinar or workshop
END:VEVENT
BEGIN:VEVENT
DTSTART;VALUE=DATE:20260611
DTEND;VALUE=DATE:20260613
DTSTAMP:20260420T040236
CREATED:20260418T015341Z
LAST-MODIFIED:20260418T015341Z
UID:4300002406-1781136000-1781308799@nbhap.org
SUMMARY:Schema Therapy for Complex Trauma
DESCRIPTION:
URL:https://nbhap.org/event/schema-therapy-for-complex-trauma/
LOCATION:online
CATEGORIES:webinar or workshop
END:VEVENT
BEGIN:VEVENT
DTSTART;TZID=America/Los_Angeles:20260617T120000
DTEND;TZID=America/Los_Angeles:20260617T130000
DTSTAMP:20260420T040236
CREATED:20260418T015257Z
LAST-MODIFIED:20260418T015257Z
UID:4300002405-1781697600-1781701200@nbhap.org
SUMMARY:Introduction to Hypnotherapy
DESCRIPTION:
URL:https://nbhap.org/event/introduction-to-hypnotherapy/
LOCATION:online
CATEGORIES:webinar or workshop
END:VEVENT
BEGIN:VEVENT
DTSTART;TZID=America/Los_Angeles:20260617T120000
DTEND;TZID=America/Los_Angeles:20260617T133000
DTSTAMP:20260420T040236
CREATED:20260408T044513Z
LAST-MODIFIED:20260408T044513Z
UID:4300002341-1781697600-1781703000@nbhap.org
SUMMARY:Essential Clinical and Peer Supervision Practices in Substance Use Disorder Services
DESCRIPTION:
URL:https://nbhap.org/event/essential-clinical-and-peer-supervision-practices-in-substance-use-disorder-services/
LOCATION:online
CATEGORIES:webinar or workshop
END:VEVENT
BEGIN:VEVENT
DTSTART;TZID=America/Los_Angeles:20260618T130000
DTEND;TZID=America/Los_Angeles:20260618T161500
DTSTAMP:20260420T040236
CREATED:20260418T015431Z
LAST-MODIFIED:20260418T015431Z
UID:4300002407-1781787600-1781799300@nbhap.org
SUMMARY:Introduction To Radically Open Dialectical Behavior Therapy (RO DBT) for Disorders of Over-Control
DESCRIPTION:
URL:https://nbhap.org/event/introduction-to-radically-open-dialectical-behavior-therapy-ro-dbt-for-disorders-of-over-control/
LOCATION:online
CATEGORIES:webinar or workshop
END:VEVENT
BEGIN:VEVENT
DTSTART;TZID=America/Los_Angeles:20260619T123000
DTEND;TZID=America/Los_Angeles:20260619T133000
DTSTAMP:20260420T040236
CREATED:20260408T042622Z
LAST-MODIFIED:20260408T042622Z
UID:4300002333-1781872200-1781875800@nbhap.org
SUMMARY:2026 Free Webinar Series - Webinar #2 - Evidence-Based Group Facilitation: Modernizing our Approach
DESCRIPTION:
URL:https://nbhap.org/event/2026-free-webinar-series-webinar-2-evidence-based-group-facilitation-modernizing-our-approach/
LOCATION:online
CATEGORIES:webinar or workshop
END:VEVENT
BEGIN:VEVENT
DTSTART;TZID=America/Los_Angeles:20260619T130000
DTEND;TZID=America/Los_Angeles:20260619T161500
DTSTAMP:20260420T040236
CREATED:20260418T015521Z
LAST-MODIFIED:20260418T015521Z
UID:4300002408-1781874000-1781885700@nbhap.org
SUMMARY:Awareness to Action: Mitigating Implicit Bias to Optimize Treatment Outcomes for Black Clients
DESCRIPTION:
URL:https://nbhap.org/event/awareness-to-action-mitigating-implicit-bias-to-optimize-treatment-outcomes-for-black-clients/
LOCATION:online
CATEGORIES:webinar or workshop
END:VEVENT
BEGIN:VEVENT
DTSTART;VALUE=DATE:20260623
DTEND;VALUE=DATE:20260625
DTSTAMP:20260420T040236
CREATED:20251017T215335Z
LAST-MODIFIED:20251017T215335Z
UID:4300001924-1782172800-1782345599@nbhap.org
SUMMARY:Incentives\, Sanctions\, and Service Adjustments Workshop
DESCRIPTION:
URL:https://nbhap.org/event/incentives-sanctions-and-service-adjustments-workshop-062326/
LOCATION:online
CATEGORIES:webinar or workshop
END:VEVENT
BEGIN:VEVENT
DTSTART;TZID=America/Los_Angeles:20260624T120000
DTEND;TZID=America/Los_Angeles:20260624T133000
DTSTAMP:20260420T040236
CREATED:20260408T044605Z
LAST-MODIFIED:20260408T044605Z
UID:4300002342-1782302400-1782307800@nbhap.org
SUMMARY:Treating Internet Addiction: AI\, Pornography\, Social Media\, Online Gambling\, & Gaming
DESCRIPTION:
URL:https://nbhap.org/event/treating-internet-addiction-ai-pornography-social-media-online-gambling-gaming/
LOCATION:online
CATEGORIES:webinar or workshop
END:VEVENT
BEGIN:VEVENT
DTSTART;VALUE=DATE:20260625
DTEND;VALUE=DATE:20260627
DTSTAMP:20260420T040236
CREATED:20260201T232834Z
LAST-MODIFIED:20260201T232834Z
UID:4300002200-1782345600-1782518399@nbhap.org
SUMMARY:Conflict Resolution for Recovery
DESCRIPTION:
URL:https://nbhap.org/event/conflict-resolution-for-recovery-062526/
LOCATION:online
CATEGORIES:webinar or workshop
END:VEVENT
BEGIN:VEVENT
DTSTART;TZID=America/Los_Angeles:20260626T100000
DTEND;TZID=America/Los_Angeles:20260626T170000
DTSTAMP:20260420T040236
CREATED:20260201T035429Z
LAST-MODIFIED:20260201T035448Z
UID:4300002180-1782468000-1782493200@nbhap.org
SUMMARY:RX Drugs\, Opiates\, Heroin and Medications to Treat Substance Use Disorders
DESCRIPTION:
URL:https://nbhap.org/event/rx-drugs-opiates-heroin-and-medications-to-treat-substance-use-disorders-062626/
LOCATION:online
CATEGORIES:webinar or workshop
END:VEVENT
END:VCALENDAR