BEGIN:VCALENDAR
VERSION:2.0
PRODID:-//National Behavioral Health Association of Providers (NBHAP) - ECPv6.15.20//NONSGML v1.0//EN
CALSCALE:GREGORIAN
METHOD:PUBLISH
X-ORIGINAL-URL:https://nbhap.org
X-WR-CALDESC:Events for National Behavioral Health Association of Providers (NBHAP)
REFRESH-INTERVAL;VALUE=DURATION:PT1H
X-Robots-Tag:noindex
X-PUBLISHED-TTL:PT1H
BEGIN:VTIMEZONE
TZID:America/Los_Angeles
BEGIN:DAYLIGHT
TZOFFSETFROM:-0800
TZOFFSETTO:-0700
TZNAME:PDT
DTSTART:20240310T100000
END:DAYLIGHT
BEGIN:STANDARD
TZOFFSETFROM:-0700
TZOFFSETTO:-0800
TZNAME:PST
DTSTART:20241103T090000
END:STANDARD
BEGIN:DAYLIGHT
TZOFFSETFROM:-0800
TZOFFSETTO:-0700
TZNAME:PDT
DTSTART:20250309T100000
END:DAYLIGHT
BEGIN:STANDARD
TZOFFSETFROM:-0700
TZOFFSETTO:-0800
TZNAME:PST
DTSTART:20251102T090000
END:STANDARD
BEGIN:DAYLIGHT
TZOFFSETFROM:-0800
TZOFFSETTO:-0700
TZNAME:PDT
DTSTART:20260308T100000
END:DAYLIGHT
BEGIN:STANDARD
TZOFFSETFROM:-0700
TZOFFSETTO:-0800
TZNAME:PST
DTSTART:20261101T090000
END:STANDARD
END:VTIMEZONE
BEGIN:VEVENT
DTSTART;VALUE=DATE:20250305
DTEND;VALUE=DATE:20250306
DTSTAMP:20260420T220005
CREATED:20250205T201729Z
LAST-MODIFIED:20250205T201729Z
UID:4300001164-1741132800-1741219199@nbhap.org
SUMMARY:Virtual Core Foundations of Recovery Intro Series: Advancing Harm Reduction Approaches
DESCRIPTION:
URL:https://nbhap.org/event/virtual-core-foundations-of-recovery-intro-series-advancing-harm-reduction-approaches/
LOCATION:online
CATEGORIES:webinar or workshop
END:VEVENT
BEGIN:VEVENT
DTSTART;VALUE=DATE:20250305
DTEND;VALUE=DATE:20250306
DTSTAMP:20260420T220005
CREATED:20250220T233437Z
LAST-MODIFIED:20250220T233437Z
UID:4300001227-1741132800-1741219199@nbhap.org
SUMMARY:From Can't to Can: Using Ability-Based Design to Improve Patient Experience & Outcomes
DESCRIPTION:
URL:https://nbhap.org/event/from-cant-to-can-using-ability-based-design-to-improve-patient-experience-outcomes/
LOCATION:online
CATEGORIES:webinar or workshop
END:VEVENT
BEGIN:VEVENT
DTSTART;TZID=America/Los_Angeles:20250305T100000
DTEND;TZID=America/Los_Angeles:20250305T110000
DTSTAMP:20260420T220005
CREATED:20250129T182415Z
LAST-MODIFIED:20250129T185411Z
UID:4300001123-1741168800-1741172400@nbhap.org
SUMMARY:Webinar: Empowering Recovery: How the Trait-Based Model is Transforming Lives through Starting from Strength
DESCRIPTION:This webinar introduces licensed therapists to the revolutionary Trait-Based Model of Recovery\, an evidence-based\, person-centered approach that transforms lives by focusing on individual strengths. Unlike rigid models\, it adapts to diverse needs while improving mental health outcomes like anxiety\, depression\, and resilience. Learn how this flexible framework fosters growth\, empowers clients\, and enhances therapeutic practice across all levels of care. Discover how starting from strength is reshaping recovery.
URL:https://nbhap.org/event/webinar-empowering-recovery-how-the-trait-based-model-is-transforming-lives-through-starting-from-strength/
LOCATION:online
CATEGORIES:NBHAP event,webinar or workshop
ATTACH;FMTTYPE=image/png:https://nbhap.org/wp-content/uploads/2025_0305-webinar-Empowering-Recovery-main.png
ORGANIZER;CN="NBHAP (National Behavioral Health Association of Providers)":MAILTO:info@nbhap.org
END:VEVENT
END:VCALENDAR