BEGIN:VCALENDAR
VERSION:2.0
PRODID:-//National Behavioral Health Association of Providers (NBHAP) - ECPv6.15.20//NONSGML v1.0//EN
CALSCALE:GREGORIAN
METHOD:PUBLISH
X-WR-CALNAME:National Behavioral Health Association of Providers (NBHAP)
X-ORIGINAL-URL:https://nbhap.org
X-WR-CALDESC:Events for National Behavioral Health Association of Providers (NBHAP)
REFRESH-INTERVAL;VALUE=DURATION:PT1H
X-Robots-Tag:noindex
X-PUBLISHED-TTL:PT1H
BEGIN:VTIMEZONE
TZID:America/Los_Angeles
BEGIN:DAYLIGHT
TZOFFSETFROM:-0800
TZOFFSETTO:-0700
TZNAME:PDT
DTSTART:20240310T100000
END:DAYLIGHT
BEGIN:STANDARD
TZOFFSETFROM:-0700
TZOFFSETTO:-0800
TZNAME:PST
DTSTART:20241103T090000
END:STANDARD
BEGIN:DAYLIGHT
TZOFFSETFROM:-0800
TZOFFSETTO:-0700
TZNAME:PDT
DTSTART:20250309T100000
END:DAYLIGHT
BEGIN:STANDARD
TZOFFSETFROM:-0700
TZOFFSETTO:-0800
TZNAME:PST
DTSTART:20251102T090000
END:STANDARD
BEGIN:DAYLIGHT
TZOFFSETFROM:-0800
TZOFFSETTO:-0700
TZNAME:PDT
DTSTART:20260308T100000
END:DAYLIGHT
BEGIN:STANDARD
TZOFFSETFROM:-0700
TZOFFSETTO:-0800
TZNAME:PST
DTSTART:20261101T090000
END:STANDARD
END:VTIMEZONE
BEGIN:VEVENT
DTSTART;VALUE=DATE:20250319
DTEND;VALUE=DATE:20250320
DTSTAMP:20260420T215934
CREATED:20250303T195229Z
LAST-MODIFIED:20250303T195229Z
UID:4300001251-1742342400-1742428799@nbhap.org
SUMMARY:An Important Readout on Current Drug Trends
DESCRIPTION:
URL:https://nbhap.org/event/an-important-readout-on-current-drug-trends/
LOCATION:online
CATEGORIES:webinar or workshop
END:VEVENT
BEGIN:VEVENT
DTSTART;TZID=America/Los_Angeles:20250319T100000
DTEND;TZID=America/Los_Angeles:20250319T110000
DTSTAMP:20260420T215934
CREATED:20250129T185345Z
LAST-MODIFIED:20250129T185345Z
UID:4300001124-1742378400-1742382000@nbhap.org
SUMMARY:Webinar: Building & Retaining Your Behavioral Healthcare Staff
DESCRIPTION:This webinar will examine the factors that drive challenges many treatment centers face in hiring and retaining key staff.
URL:https://nbhap.org/event/webinar-building-retaining-your-behavioral-healthcare-staff/
LOCATION:online
CATEGORIES:NBHAP event,webinar or workshop
ATTACH;FMTTYPE=image/png:https://nbhap.org/wp-content/uploads/2025_0319-Building-and-Retaining-Your-Behavioral-Healthcare-Staff.png
ORGANIZER;CN="NBHAP (National Behavioral Health Association of Providers)":MAILTO:info@nbhap.org
END:VEVENT
BEGIN:VEVENT
DTSTART;TZID=America/Los_Angeles:20250319T123000
DTEND;TZID=America/Los_Angeles:20250319T133000
DTSTAMP:20260420T215934
CREATED:20250205T193826Z
LAST-MODIFIED:20250205T193826Z
UID:4300001152-1742387400-1742391000@nbhap.org
SUMMARY:NARR Learning Community 2025: March
DESCRIPTION:
URL:https://nbhap.org/event/narr-learning-community-2025-march/
LOCATION:online
CATEGORIES:webinar or workshop
END:VEVENT
BEGIN:VEVENT
DTSTART;TZID=America/Los_Angeles:20250319T123000
DTEND;TZID=America/Los_Angeles:20250319T133000
DTSTAMP:20260420T215934
CREATED:20260225T222514Z
LAST-MODIFIED:20260225T222514Z
UID:4300002232-1742387400-1742391000@nbhap.org
SUMMARY:2026 NARR Learning Community
DESCRIPTION:
URL:https://nbhap.org/event/2026-narr-learning-community/
LOCATION:online
CATEGORIES:webinar or workshop
END:VEVENT
END:VCALENDAR