BEGIN:VCALENDAR
VERSION:2.0
PRODID:-//National Behavioral Health Association of Providers (NBHAP) - ECPv6.15.20//NONSGML v1.0//EN
CALSCALE:GREGORIAN
METHOD:PUBLISH
X-ORIGINAL-URL:https://nbhap.org
X-WR-CALDESC:Events for National Behavioral Health Association of Providers (NBHAP)
REFRESH-INTERVAL;VALUE=DURATION:PT1H
X-Robots-Tag:noindex
X-PUBLISHED-TTL:PT1H
BEGIN:VTIMEZONE
TZID:America/Los_Angeles
BEGIN:DAYLIGHT
TZOFFSETFROM:-0800
TZOFFSETTO:-0700
TZNAME:PDT
DTSTART:20240310T100000
END:DAYLIGHT
BEGIN:STANDARD
TZOFFSETFROM:-0700
TZOFFSETTO:-0800
TZNAME:PST
DTSTART:20241103T090000
END:STANDARD
BEGIN:DAYLIGHT
TZOFFSETFROM:-0800
TZOFFSETTO:-0700
TZNAME:PDT
DTSTART:20250309T100000
END:DAYLIGHT
BEGIN:STANDARD
TZOFFSETFROM:-0700
TZOFFSETTO:-0800
TZNAME:PST
DTSTART:20251102T090000
END:STANDARD
BEGIN:DAYLIGHT
TZOFFSETFROM:-0800
TZOFFSETTO:-0700
TZNAME:PDT
DTSTART:20260308T100000
END:DAYLIGHT
BEGIN:STANDARD
TZOFFSETFROM:-0700
TZOFFSETTO:-0800
TZNAME:PST
DTSTART:20261101T090000
END:STANDARD
END:VTIMEZONE
BEGIN:VEVENT
DTSTART;VALUE=DATE:20250416
DTEND;VALUE=DATE:20250417
DTSTAMP:20260420T203058
CREATED:20250321T225218Z
LAST-MODIFIED:20250321T225218Z
UID:4300001314-1744761600-1744847999@nbhap.org
SUMMARY:Supporting your Loved Ones with Mental Health or Substance Use Challenges in Addressing Tobacco Use: The Role of Families and Family Peers
DESCRIPTION:
URL:https://nbhap.org/event/supporting-your-loved-ones-with-mental-health-or-substance-use-challenges-in-addressing-tobacco-use-the-role-of-families-and-family-peers/
LOCATION:online
CATEGORIES:webinar or workshop
END:VEVENT
BEGIN:VEVENT
DTSTART;TZID=America/Los_Angeles:20250416T100000
DTEND;TZID=America/Los_Angeles:20250416T110000
DTSTAMP:20260420T203058
CREATED:20250210T211406Z
LAST-MODIFIED:20250210T211406Z
UID:4300001216-1744797600-1744801200@nbhap.org
SUMMARY:Webinar: Expect the Unexpected – Thoughts on Disaster Preparedness
DESCRIPTION:In the past ten years\, we have faced an onslaught of natural and man-made disasters. As providers of behavioral health treatment\, we are constantly preparing for threats to the safety and well-being of our patients. In this CE-based webinar\, we will explore best practices that utilize technology and training to prepare for the unexpected.
URL:https://nbhap.org/event/webinar-expect-the-unexpected-thoughts-on-disaster-preparedness/
LOCATION:online
CATEGORIES:NBHAP event,webinar or workshop
ATTACH;FMTTYPE=image/png:https://nbhap.org/wp-content/uploads/2025_0416-Expect-the-Unexpected-Thoughts-on-Disaster-Preparation-main.png
ORGANIZER;CN="NBHAP (National Behavioral Health Association of Providers)":MAILTO:info@nbhap.org
END:VEVENT
BEGIN:VEVENT
DTSTART;TZID=America/Los_Angeles:20250416T123000
DTEND;TZID=America/Los_Angeles:20250416T133000
DTSTAMP:20260420T203058
CREATED:20250205T193856Z
LAST-MODIFIED:20250205T193856Z
UID:4300001153-1744806600-1744810200@nbhap.org
SUMMARY:NARR Learning Community 2025: April
DESCRIPTION:
URL:https://nbhap.org/event/narr-learning-community-2025-april/
LOCATION:online
CATEGORIES:webinar or workshop
END:VEVENT
BEGIN:VEVENT
DTSTART;TZID=America/Los_Angeles:20250416T170000
DTEND;TZID=America/Los_Angeles:20250416T190000
DTSTAMP:20260420T203058
CREATED:20250327T183051Z
LAST-MODIFIED:20250327T183051Z
UID:4300001349-1744822800-1744830000@nbhap.org
SUMMARY:Building Recovery Capital
DESCRIPTION:
URL:https://nbhap.org/event/building-recovery-capital/
LOCATION:online
CATEGORIES:webinar or workshop
END:VEVENT
END:VCALENDAR