BEGIN:VCALENDAR
VERSION:2.0
PRODID:-//National Behavioral Health Association of Providers (NBHAP) - ECPv6.15.20//NONSGML v1.0//EN
CALSCALE:GREGORIAN
METHOD:PUBLISH
X-WR-CALNAME:National Behavioral Health Association of Providers (NBHAP)
X-ORIGINAL-URL:https://nbhap.org
X-WR-CALDESC:Events for National Behavioral Health Association of Providers (NBHAP)
REFRESH-INTERVAL;VALUE=DURATION:PT1H
X-Robots-Tag:noindex
X-PUBLISHED-TTL:PT1H
BEGIN:VTIMEZONE
TZID:America/Los_Angeles
BEGIN:DAYLIGHT
TZOFFSETFROM:-0800
TZOFFSETTO:-0700
TZNAME:PDT
DTSTART:20240310T100000
END:DAYLIGHT
BEGIN:STANDARD
TZOFFSETFROM:-0700
TZOFFSETTO:-0800
TZNAME:PST
DTSTART:20241103T090000
END:STANDARD
BEGIN:DAYLIGHT
TZOFFSETFROM:-0800
TZOFFSETTO:-0700
TZNAME:PDT
DTSTART:20250309T100000
END:DAYLIGHT
BEGIN:STANDARD
TZOFFSETFROM:-0700
TZOFFSETTO:-0800
TZNAME:PST
DTSTART:20251102T090000
END:STANDARD
BEGIN:DAYLIGHT
TZOFFSETFROM:-0800
TZOFFSETTO:-0700
TZNAME:PDT
DTSTART:20260308T100000
END:DAYLIGHT
BEGIN:STANDARD
TZOFFSETFROM:-0700
TZOFFSETTO:-0800
TZNAME:PST
DTSTART:20261101T090000
END:STANDARD
END:VTIMEZONE
BEGIN:VEVENT
DTSTART;VALUE=DATE:20250423
DTEND;VALUE=DATE:20250424
DTSTAMP:20260420T203041
CREATED:20250201T232449Z
LAST-MODIFIED:20250201T232449Z
UID:4300001130-1745366400-1745452799@nbhap.org
SUMMARY:Motivational Interviewing for Edible THC
DESCRIPTION:
URL:https://nbhap.org/event/motivational-interviewing-for-edible-thc/
LOCATION:online
CATEGORIES:webinar or workshop
END:VEVENT
BEGIN:VEVENT
DTSTART;TZID=America/Los_Angeles:20250423T100000
DTEND;TZID=America/Los_Angeles:20250423T110000
DTSTAMP:20260420T203041
CREATED:20250419T032301Z
LAST-MODIFIED:20250419T032301Z
UID:4300001368-1745402400-1745406000@nbhap.org
SUMMARY:Treatment Court Roles and Responsibilities
DESCRIPTION:
URL:https://nbhap.org/event/treatment-court-roles-and-responsibilities/
LOCATION:online
CATEGORIES:webinar or workshop
END:VEVENT
BEGIN:VEVENT
DTSTART;TZID=America/Los_Angeles:20250423T110000
DTEND;TZID=America/Los_Angeles:20250423T120000
DTSTAMP:20260420T203041
CREATED:20250419T030205Z
LAST-MODIFIED:20250419T030205Z
UID:4300001366-1745406000-1745409600@nbhap.org
SUMMARY:Introducing Carrum’s SUD Center of Excellence Network
DESCRIPTION:
URL:https://nbhap.org/event/introducing-carrums-sud-center-of-excellence-network/
LOCATION:online
CATEGORIES:webinar or workshop
END:VEVENT
BEGIN:VEVENT
DTSTART;TZID=America/Los_Angeles:20250423T120000
DTEND;TZID=America/Los_Angeles:20250423T130000
DTSTAMP:20260420T203041
CREATED:20250419T031350Z
LAST-MODIFIED:20250419T031350Z
UID:4300001367-1745409600-1745413200@nbhap.org
SUMMARY:Prevention's Role in Addressing Adolescent Co-Occurring Conditions
DESCRIPTION:
URL:https://nbhap.org/event/preventions-role-in-addressing-adolescent-co-occurring-conditions/
LOCATION:online
CATEGORIES:webinar or workshop
END:VEVENT
BEGIN:VEVENT
DTSTART;TZID=America/Los_Angeles:20250423T120000
DTEND;TZID=America/Los_Angeles:20250423T130000
DTSTAMP:20260420T203041
CREATED:20250419T034104Z
LAST-MODIFIED:20250419T034104Z
UID:4300001369-1745409600-1745413200@nbhap.org
SUMMARY:Competencies in Focus: Sustainability
DESCRIPTION:
URL:https://nbhap.org/event/competencies-in-focus-sustainability/
LOCATION:online
CATEGORIES:webinar or workshop
END:VEVENT
BEGIN:VEVENT
DTSTART;TZID=America/Los_Angeles:20250423T140000
DTEND;TZID=America/Los_Angeles:20250423T150000
DTSTAMP:20260420T203041
CREATED:20250327T183416Z
LAST-MODIFIED:20250419T020900Z
UID:4300001354-1745416800-1745420400@nbhap.org
SUMMARY:SPANISH Sistemas de Atención Orientados a la Recuperación (ROSC)
DESCRIPTION:
URL:https://nbhap.org/event/spanish-sistemas-de-atencion-orientados-a-la-recuperacion-rosc/
LOCATION:online
CATEGORIES:webinar or workshop
END:VEVENT
END:VCALENDAR