BEGIN:VCALENDAR
VERSION:2.0
PRODID:-//National Behavioral Health Association of Providers (NBHAP) - ECPv6.15.20//NONSGML v1.0//EN
CALSCALE:GREGORIAN
METHOD:PUBLISH
X-ORIGINAL-URL:https://nbhap.org
X-WR-CALDESC:Events for National Behavioral Health Association of Providers (NBHAP)
REFRESH-INTERVAL;VALUE=DURATION:PT1H
X-Robots-Tag:noindex
X-PUBLISHED-TTL:PT1H
BEGIN:VTIMEZONE
TZID:America/Los_Angeles
BEGIN:DAYLIGHT
TZOFFSETFROM:-0800
TZOFFSETTO:-0700
TZNAME:PDT
DTSTART:20240310T100000
END:DAYLIGHT
BEGIN:STANDARD
TZOFFSETFROM:-0700
TZOFFSETTO:-0800
TZNAME:PST
DTSTART:20241103T090000
END:STANDARD
BEGIN:DAYLIGHT
TZOFFSETFROM:-0800
TZOFFSETTO:-0700
TZNAME:PDT
DTSTART:20250309T100000
END:DAYLIGHT
BEGIN:STANDARD
TZOFFSETFROM:-0700
TZOFFSETTO:-0800
TZNAME:PST
DTSTART:20251102T090000
END:STANDARD
BEGIN:DAYLIGHT
TZOFFSETFROM:-0800
TZOFFSETTO:-0700
TZNAME:PDT
DTSTART:20260308T100000
END:DAYLIGHT
BEGIN:STANDARD
TZOFFSETFROM:-0700
TZOFFSETTO:-0800
TZNAME:PST
DTSTART:20261101T090000
END:STANDARD
END:VTIMEZONE
BEGIN:VEVENT
DTSTART;TZID=America/Los_Angeles:20250502T103000
DTEND;TZID=America/Los_Angeles:20250502T173000
DTSTAMP:20260420T185956
CREATED:20250321T173440Z
LAST-MODIFIED:20250425T223458Z
UID:4300001296-1746181800-1746207000@nbhap.org
SUMMARY:Special Topics in IFS Therapy: The Presence of the Therapist\, Polarizations\, Extreme Protectors\, and the Cycle of Addiction
DESCRIPTION:
URL:https://nbhap.org/event/special-topics-in-ifs-therapy-the-presence-of-the-therapist-polarizations-extreme-protectors-and-the-cycle-of-addiction/
LOCATION:online
CATEGORIES:webinar or workshop
END:VEVENT
BEGIN:VEVENT
DTSTART;TZID=America/Los_Angeles:20250502T110000
DTEND;TZID=America/Los_Angeles:20250502T141500
DTSTAMP:20260420T185956
CREATED:20250501T162859Z
LAST-MODIFIED:20250501T162859Z
UID:4300001440-1746183600-1746195300@nbhap.org
SUMMARY:Unpacking and Healing Shame: Theory and Practice for Practitioners
DESCRIPTION:
URL:https://nbhap.org/event/unpacking-and-healing-shame-theory-and-practice-for-practitioners/
LOCATION:online
CATEGORIES:webinar or workshop
END:VEVENT
BEGIN:VEVENT
DTSTART;TZID=America/Los_Angeles:20250502T120000
DTEND;TZID=America/Los_Angeles:20250502T130000
DTSTAMP:20260420T185956
CREATED:20250419T035655Z
LAST-MODIFIED:20250419T035655Z
UID:4300001372-1746187200-1746190800@nbhap.org
SUMMARY:Finding a New Tribe: Helping Young Men Heal from Childhood Sexual Abuse and Addiction
DESCRIPTION:
URL:https://nbhap.org/event/finding-a-new-tribe-helping-young-men-heal-from-childhood-sexual-abuse-and-addiction/
LOCATION:online
CATEGORIES:webinar or workshop
END:VEVENT
END:VCALENDAR