BEGIN:VCALENDAR
VERSION:2.0
PRODID:-//National Behavioral Health Association of Providers (NBHAP) - ECPv6.15.20//NONSGML v1.0//EN
CALSCALE:GREGORIAN
METHOD:PUBLISH
X-ORIGINAL-URL:https://nbhap.org
X-WR-CALDESC:Events for National Behavioral Health Association of Providers (NBHAP)
REFRESH-INTERVAL;VALUE=DURATION:PT1H
X-Robots-Tag:noindex
X-PUBLISHED-TTL:PT1H
BEGIN:VTIMEZONE
TZID:America/Los_Angeles
BEGIN:DAYLIGHT
TZOFFSETFROM:-0800
TZOFFSETTO:-0700
TZNAME:PDT
DTSTART:20240310T100000
END:DAYLIGHT
BEGIN:STANDARD
TZOFFSETFROM:-0700
TZOFFSETTO:-0800
TZNAME:PST
DTSTART:20241103T090000
END:STANDARD
BEGIN:DAYLIGHT
TZOFFSETFROM:-0800
TZOFFSETTO:-0700
TZNAME:PDT
DTSTART:20250309T100000
END:DAYLIGHT
BEGIN:STANDARD
TZOFFSETFROM:-0700
TZOFFSETTO:-0800
TZNAME:PST
DTSTART:20251102T090000
END:STANDARD
BEGIN:DAYLIGHT
TZOFFSETFROM:-0800
TZOFFSETTO:-0700
TZNAME:PDT
DTSTART:20260308T100000
END:DAYLIGHT
BEGIN:STANDARD
TZOFFSETFROM:-0700
TZOFFSETTO:-0800
TZNAME:PST
DTSTART:20261101T090000
END:STANDARD
END:VTIMEZONE
BEGIN:VEVENT
DTSTART;TZID=America/Los_Angeles:20250520T100000
DTEND;TZID=America/Los_Angeles:20250520T113000
DTSTAMP:20260420T185957
CREATED:20250425T230146Z
LAST-MODIFIED:20250425T230146Z
UID:4300001402-1747735200-1747740600@nbhap.org
SUMMARY:Best Practices for Ethical Documentation with AI
DESCRIPTION:
URL:https://nbhap.org/event/best-practices-for-ethical-documentation-with-ai/
LOCATION:online
CATEGORIES:webinar or workshop
END:VEVENT
BEGIN:VEVENT
DTSTART;TZID=America/Los_Angeles:20250520T110000
DTEND;TZID=America/Los_Angeles:20250520T123000
DTSTAMP:20260420T185957
CREATED:20250501T161038Z
LAST-MODIFIED:20250501T161038Z
UID:4300001429-1747738800-1747744200@nbhap.org
SUMMARY:Neuro Endurance: The Neuroscience of Resilience & Perseverance
DESCRIPTION:
URL:https://nbhap.org/event/neuro-endurance-the-neuroscience-of-resilience-perseverance/
LOCATION:online
CATEGORIES:webinar or workshop
END:VEVENT
END:VCALENDAR