BEGIN:VCALENDAR
VERSION:2.0
PRODID:-//National Behavioral Health Association of Providers (NBHAP) - ECPv6.15.20//NONSGML v1.0//EN
CALSCALE:GREGORIAN
METHOD:PUBLISH
X-WR-CALNAME:National Behavioral Health Association of Providers (NBHAP)
X-ORIGINAL-URL:https://nbhap.org
X-WR-CALDESC:Events for National Behavioral Health Association of Providers (NBHAP)
REFRESH-INTERVAL;VALUE=DURATION:PT1H
X-Robots-Tag:noindex
X-PUBLISHED-TTL:PT1H
BEGIN:VTIMEZONE
TZID:America/Los_Angeles
BEGIN:DAYLIGHT
TZOFFSETFROM:-0800
TZOFFSETTO:-0700
TZNAME:PDT
DTSTART:20240310T100000
END:DAYLIGHT
BEGIN:STANDARD
TZOFFSETFROM:-0700
TZOFFSETTO:-0800
TZNAME:PST
DTSTART:20241103T090000
END:STANDARD
BEGIN:DAYLIGHT
TZOFFSETFROM:-0800
TZOFFSETTO:-0700
TZNAME:PDT
DTSTART:20250309T100000
END:DAYLIGHT
BEGIN:STANDARD
TZOFFSETFROM:-0700
TZOFFSETTO:-0800
TZNAME:PST
DTSTART:20251102T090000
END:STANDARD
BEGIN:DAYLIGHT
TZOFFSETFROM:-0800
TZOFFSETTO:-0700
TZNAME:PDT
DTSTART:20260308T100000
END:DAYLIGHT
BEGIN:STANDARD
TZOFFSETFROM:-0700
TZOFFSETTO:-0800
TZNAME:PST
DTSTART:20261101T090000
END:STANDARD
END:VTIMEZONE
BEGIN:VEVENT
DTSTART;TZID=America/Los_Angeles:20250522T100000
DTEND;TZID=America/Los_Angeles:20250522T110000
DTSTAMP:20260420T185902
CREATED:20250425T230521Z
LAST-MODIFIED:20250425T230521Z
UID:4300001407-1747908000-1747911600@nbhap.org
SUMMARY:Natural Medicine Facilitation: The Psychedelic Future of Therapy
DESCRIPTION:
URL:https://nbhap.org/event/natural-medicine-facilitation-the-psychedelic-future-of-therapy/
LOCATION:online
CATEGORIES:webinar or workshop
END:VEVENT
BEGIN:VEVENT
DTSTART;TZID=America/Los_Angeles:20250522T110000
DTEND;TZID=America/Los_Angeles:20250522T141500
DTSTAMP:20260420T185902
CREATED:20250520T224453Z
LAST-MODIFIED:20250520T224453Z
UID:4300001528-1747911600-1747923300@nbhap.org
SUMMARY:Overcoming the Vicious Cycle of Anxiety and Avoidance
DESCRIPTION:
URL:https://nbhap.org/event/overcoming-the-vicious-cycle-of-anxiety-and-avoidance/
LOCATION:online
CATEGORIES:webinar or workshop
END:VEVENT
END:VCALENDAR