BEGIN:VCALENDAR
VERSION:2.0
PRODID:-//National Behavioral Health Association of Providers (NBHAP) - ECPv6.15.20//NONSGML v1.0//EN
CALSCALE:GREGORIAN
METHOD:PUBLISH
X-ORIGINAL-URL:https://nbhap.org
X-WR-CALDESC:Events for National Behavioral Health Association of Providers (NBHAP)
REFRESH-INTERVAL;VALUE=DURATION:PT1H
X-Robots-Tag:noindex
X-PUBLISHED-TTL:PT1H
BEGIN:VTIMEZONE
TZID:America/Los_Angeles
BEGIN:DAYLIGHT
TZOFFSETFROM:-0800
TZOFFSETTO:-0700
TZNAME:PDT
DTSTART:20240310T100000
END:DAYLIGHT
BEGIN:STANDARD
TZOFFSETFROM:-0700
TZOFFSETTO:-0800
TZNAME:PST
DTSTART:20241103T090000
END:STANDARD
BEGIN:DAYLIGHT
TZOFFSETFROM:-0800
TZOFFSETTO:-0700
TZNAME:PDT
DTSTART:20250309T100000
END:DAYLIGHT
BEGIN:STANDARD
TZOFFSETFROM:-0700
TZOFFSETTO:-0800
TZNAME:PST
DTSTART:20251102T090000
END:STANDARD
BEGIN:DAYLIGHT
TZOFFSETFROM:-0800
TZOFFSETTO:-0700
TZNAME:PDT
DTSTART:20260308T100000
END:DAYLIGHT
BEGIN:STANDARD
TZOFFSETFROM:-0700
TZOFFSETTO:-0800
TZNAME:PST
DTSTART:20261101T090000
END:STANDARD
END:VTIMEZONE
BEGIN:VEVENT
DTSTART;TZID=America/Los_Angeles:20250603T120000
DTEND;TZID=America/Los_Angeles:20250603T130000
DTSTAMP:20260420T155652
CREATED:20250501T165112Z
LAST-MODIFIED:20250501T165112Z
UID:4300001449-1748952000-1748955600@nbhap.org
SUMMARY:Cultivating Sustainable Talent: The Future of Behavioral Health Workforce Development
DESCRIPTION:
URL:https://nbhap.org/event/cultivating-sustainable-talent-the-future-of-behavioral-health-workforce-development/
LOCATION:online
CATEGORIES:webinar or workshop
END:VEVENT
BEGIN:VEVENT
DTSTART;TZID=America/Los_Angeles:20250603T140000
DTEND;TZID=America/Los_Angeles:20250603T153000
DTSTAMP:20260420T155652
CREATED:20250501T162207Z
LAST-MODIFIED:20250501T162207Z
UID:4300001438-1748959200-1748964600@nbhap.org
SUMMARY:SEL 101: An Introduction to Social and Emotional Learning for Health Care Professionals
DESCRIPTION:
URL:https://nbhap.org/event/sel-101-an-introduction-to-social-and-emotional-learning-for-health-care-professionals/
LOCATION:online
CATEGORIES:webinar or workshop
END:VEVENT
END:VCALENDAR