BEGIN:VCALENDAR
VERSION:2.0
PRODID:-//National Behavioral Health Association of Providers (NBHAP) - ECPv6.15.20//NONSGML v1.0//EN
CALSCALE:GREGORIAN
METHOD:PUBLISH
X-ORIGINAL-URL:https://nbhap.org
X-WR-CALDESC:Events for National Behavioral Health Association of Providers (NBHAP)
REFRESH-INTERVAL;VALUE=DURATION:PT1H
X-Robots-Tag:noindex
X-PUBLISHED-TTL:PT1H
BEGIN:VTIMEZONE
TZID:America/Los_Angeles
BEGIN:DAYLIGHT
TZOFFSETFROM:-0800
TZOFFSETTO:-0700
TZNAME:PDT
DTSTART:20240310T100000
END:DAYLIGHT
BEGIN:STANDARD
TZOFFSETFROM:-0700
TZOFFSETTO:-0800
TZNAME:PST
DTSTART:20241103T090000
END:STANDARD
BEGIN:DAYLIGHT
TZOFFSETFROM:-0800
TZOFFSETTO:-0700
TZNAME:PDT
DTSTART:20250309T100000
END:DAYLIGHT
BEGIN:STANDARD
TZOFFSETFROM:-0700
TZOFFSETTO:-0800
TZNAME:PST
DTSTART:20251102T090000
END:STANDARD
BEGIN:DAYLIGHT
TZOFFSETFROM:-0800
TZOFFSETTO:-0700
TZNAME:PDT
DTSTART:20260308T100000
END:DAYLIGHT
BEGIN:STANDARD
TZOFFSETFROM:-0700
TZOFFSETTO:-0800
TZNAME:PST
DTSTART:20261101T090000
END:STANDARD
END:VTIMEZONE
BEGIN:VEVENT
DTSTART;TZID=America/Los_Angeles:20250606T090000
DTEND;TZID=America/Los_Angeles:20250606T103000
DTSTAMP:20260420T155656
CREATED:20250520T232418Z
LAST-MODIFIED:20250520T232418Z
UID:4300001542-1749200400-1749205800@nbhap.org
SUMMARY:Liberation-Based Interventions for Clinicians
DESCRIPTION:
URL:https://nbhap.org/event/liberation-based-interventions-for-clinicians/
LOCATION:online
CATEGORIES:webinar or workshop
END:VEVENT
BEGIN:VEVENT
DTSTART;TZID=America/Los_Angeles:20250606T090000
DTEND;TZID=America/Los_Angeles:20250606T103000
DTSTAMP:20260420T155656
CREATED:20250528T223854Z
LAST-MODIFIED:20250528T223854Z
UID:4300001577-1749200400-1749205800@nbhap.org
SUMMARY:Identifying Systems of Power for Clinicians
DESCRIPTION:
URL:https://nbhap.org/event/identifying-systems-of-power-for-clinicians/
LOCATION:online
CATEGORIES:webinar or workshop
END:VEVENT
BEGIN:VEVENT
DTSTART;TZID=America/Los_Angeles:20250606T140000
DTEND;TZID=America/Los_Angeles:20250606T150000
DTSTAMP:20260420T155656
CREATED:20250501T163328Z
LAST-MODIFIED:20250501T163328Z
UID:4300001443-1749218400-1749222000@nbhap.org
SUMMARY:State-Level Impact: Leveraging SOTA Partnerships to Transform Opioid Treatment
DESCRIPTION:
URL:https://nbhap.org/event/state-level-impact-leveraging-sota-partnerships-to-transform-opioid-treatment/
LOCATION:online
CATEGORIES:webinar or workshop
END:VEVENT
END:VCALENDAR