BEGIN:VCALENDAR
VERSION:2.0
PRODID:-//National Behavioral Health Association of Providers (NBHAP) - ECPv6.15.20//NONSGML v1.0//EN
CALSCALE:GREGORIAN
METHOD:PUBLISH
X-WR-CALNAME:National Behavioral Health Association of Providers (NBHAP)
X-ORIGINAL-URL:https://nbhap.org
X-WR-CALDESC:Events for National Behavioral Health Association of Providers (NBHAP)
REFRESH-INTERVAL;VALUE=DURATION:PT1H
X-Robots-Tag:noindex
X-PUBLISHED-TTL:PT1H
BEGIN:VTIMEZONE
TZID:America/Los_Angeles
BEGIN:DAYLIGHT
TZOFFSETFROM:-0800
TZOFFSETTO:-0700
TZNAME:PDT
DTSTART:20240310T100000
END:DAYLIGHT
BEGIN:STANDARD
TZOFFSETFROM:-0700
TZOFFSETTO:-0800
TZNAME:PST
DTSTART:20241103T090000
END:STANDARD
BEGIN:DAYLIGHT
TZOFFSETFROM:-0800
TZOFFSETTO:-0700
TZNAME:PDT
DTSTART:20250309T100000
END:DAYLIGHT
BEGIN:STANDARD
TZOFFSETFROM:-0700
TZOFFSETTO:-0800
TZNAME:PST
DTSTART:20251102T090000
END:STANDARD
BEGIN:DAYLIGHT
TZOFFSETFROM:-0800
TZOFFSETTO:-0700
TZNAME:PDT
DTSTART:20260308T100000
END:DAYLIGHT
BEGIN:STANDARD
TZOFFSETFROM:-0700
TZOFFSETTO:-0800
TZNAME:PST
DTSTART:20261101T090000
END:STANDARD
END:VTIMEZONE
BEGIN:VEVENT
DTSTART;TZID=America/Los_Angeles:20250611T090000
DTEND;TZID=America/Los_Angeles:20250611T100000
DTSTAMP:20260420T155701
CREATED:20250529T224109Z
LAST-MODIFIED:20250529T224109Z
UID:4300001584-1749632400-1749636000@nbhap.org
SUMMARY:Protecting Recovery: Insurance & Risk Management in Addiction Treatment
DESCRIPTION:
URL:https://nbhap.org/event/protecting-recovery-insurance-risk-management-in-addiction-treatment/
LOCATION:online
CATEGORIES:webinar or workshop
END:VEVENT
BEGIN:VEVENT
DTSTART;TZID=America/Los_Angeles:20250611T100000
DTEND;TZID=America/Los_Angeles:20250611T113000
DTSTAMP:20260420T155701
CREATED:20250313T210441Z
LAST-MODIFIED:20250313T210441Z
UID:4300001279-1749636000-1749641400@nbhap.org
SUMMARY:Webinar: When Luck Runs Out: Problem Gambling & Gambling Disorder
DESCRIPTION:Gambling disorder still remains largely a hidden problem. The goal of this webinar is to train and prepare service providers to better understand gambling disorder and its assessment and treatment. The webinar will also touch on the emerging clinical diagnostic category of internet gaming disorder.
URL:https://nbhap.org/event/webinar-when-luck-runs-out-problem-gambling-gambling-disorder/
LOCATION:online
CATEGORIES:NBHAP event,webinar or workshop
ATTACH;FMTTYPE=image/png:https://nbhap.org/wp-content/uploads/webinar-When-When-Luck-Runs-Out.png
ORGANIZER;CN="NBHAP (National Behavioral Health Association of Providers)":MAILTO:info@nbhap.org
END:VEVENT
BEGIN:VEVENT
DTSTART;TZID=America/Los_Angeles:20250611T120000
DTEND;TZID=America/Los_Angeles:20250611T130000
DTSTAMP:20260420T155701
CREATED:20250520T233119Z
LAST-MODIFIED:20250520T233119Z
UID:4300001546-1749643200-1749646800@nbhap.org
SUMMARY:Understanding and Treating ARFID: Advances in Diagnosis\, Neurobiology\, and Evidence-Based Care
DESCRIPTION:
URL:https://nbhap.org/event/understanding-and-treating-arfid-advances-in-diagnosis-neurobiology-and-evidence-based-care/
LOCATION:online
CATEGORIES:webinar or workshop
END:VEVENT
BEGIN:VEVENT
DTSTART;TZID=America/Los_Angeles:20250611T120000
DTEND;TZID=America/Los_Angeles:20250611T133000
DTSTAMP:20260420T155701
CREATED:20250201T232652Z
LAST-MODIFIED:20250502T013927Z
UID:4300001134-1749643200-1749648600@nbhap.org
SUMMARY:Unveiling ADHD's Complex Relationship with Substance Use and Young Adults
DESCRIPTION:
URL:https://nbhap.org/event/unveiling-adhds-complex-relationship-with-substance-use-and-young-adults/
LOCATION:online
CATEGORIES:webinar or workshop
END:VEVENT
END:VCALENDAR