BEGIN:VCALENDAR
VERSION:2.0
PRODID:-//National Behavioral Health Association of Providers (NBHAP) - ECPv6.15.20//NONSGML v1.0//EN
CALSCALE:GREGORIAN
METHOD:PUBLISH
X-WR-CALNAME:National Behavioral Health Association of Providers (NBHAP)
X-ORIGINAL-URL:https://nbhap.org
X-WR-CALDESC:Events for National Behavioral Health Association of Providers (NBHAP)
REFRESH-INTERVAL;VALUE=DURATION:PT1H
X-Robots-Tag:noindex
X-PUBLISHED-TTL:PT1H
BEGIN:VTIMEZONE
TZID:America/Los_Angeles
BEGIN:DAYLIGHT
TZOFFSETFROM:-0800
TZOFFSETTO:-0700
TZNAME:PDT
DTSTART:20240310T100000
END:DAYLIGHT
BEGIN:STANDARD
TZOFFSETFROM:-0700
TZOFFSETTO:-0800
TZNAME:PST
DTSTART:20241103T090000
END:STANDARD
BEGIN:DAYLIGHT
TZOFFSETFROM:-0800
TZOFFSETTO:-0700
TZNAME:PDT
DTSTART:20250309T100000
END:DAYLIGHT
BEGIN:STANDARD
TZOFFSETFROM:-0700
TZOFFSETTO:-0800
TZNAME:PST
DTSTART:20251102T090000
END:STANDARD
BEGIN:DAYLIGHT
TZOFFSETFROM:-0800
TZOFFSETTO:-0700
TZNAME:PDT
DTSTART:20260308T100000
END:DAYLIGHT
BEGIN:STANDARD
TZOFFSETFROM:-0700
TZOFFSETTO:-0800
TZNAME:PST
DTSTART:20261101T090000
END:STANDARD
END:VTIMEZONE
BEGIN:VEVENT
DTSTART;TZID=America/Los_Angeles:20250617T100000
DTEND;TZID=America/Los_Angeles:20250617T120000
DTSTAMP:20260420T155619
CREATED:20250521T203540Z
LAST-MODIFIED:20250521T203540Z
UID:4300001565-1750154400-1750161600@nbhap.org
SUMMARY:Understanding Historical & Multi-Generational Trauma in Co-Occurring Disorders
DESCRIPTION:
URL:https://nbhap.org/event/understanding-historical-multi-generational-trauma-in-co-occurring-disorders/
LOCATION:online
CATEGORIES:webinar or workshop
END:VEVENT
BEGIN:VEVENT
DTSTART;TZID=America/Los_Angeles:20250617T110000
DTEND;TZID=America/Los_Angeles:20250617T120000
DTSTAMP:20260420T155619
CREATED:20250612T014248Z
LAST-MODIFIED:20250612T014248Z
UID:4300001605-1750158000-1750161600@nbhap.org
SUMMARY:The President's Fiscal Year 2026 Budget Request Explained: Implications for the Substance Use Prevention Field
DESCRIPTION:
URL:https://nbhap.org/event/the-presidents-fiscal-year-2026-budget-request-explained-implications-for-the-substance-use-prevention-field/
LOCATION:online
CATEGORIES:webinar or workshop
END:VEVENT
BEGIN:VEVENT
DTSTART;TZID=America/Los_Angeles:20250617T130000
DTEND;TZID=America/Los_Angeles:20250617T140000
DTSTAMP:20260420T155619
CREATED:20250612T005117Z
LAST-MODIFIED:20250612T005117Z
UID:4300001589-1750165200-1750168800@nbhap.org
SUMMARY:Exploring Gut Microbiota and Dietary Genomics in Anorexia Nervosa
DESCRIPTION:
URL:https://nbhap.org/event/exploring-gut-microbiota-and-dietary-genomics-in-anorexia-nervosa/
LOCATION:online
CATEGORIES:webinar or workshop
END:VEVENT
BEGIN:VEVENT
DTSTART;TZID=America/Los_Angeles:20250617T140000
DTEND;TZID=America/Los_Angeles:20250617T150000
DTSTAMP:20260420T155619
CREATED:20250520T234629Z
LAST-MODIFIED:20250520T234629Z
UID:4300001551-1750168800-1750172400@nbhap.org
SUMMARY:Artificial Intelligence in Behavioral Health: Embracing the Future of Provider Efficiency
DESCRIPTION:
URL:https://nbhap.org/event/artificial-intelligence-in-behavioral-health-embracing-the-future-of-provider-efficiency/
LOCATION:online
CATEGORIES:webinar or workshop
END:VEVENT
END:VCALENDAR