BEGIN:VCALENDAR
VERSION:2.0
PRODID:-//National Behavioral Health Association of Providers (NBHAP) - ECPv6.15.20//NONSGML v1.0//EN
CALSCALE:GREGORIAN
METHOD:PUBLISH
X-ORIGINAL-URL:https://nbhap.org
X-WR-CALDESC:Events for National Behavioral Health Association of Providers (NBHAP)
REFRESH-INTERVAL;VALUE=DURATION:PT1H
X-Robots-Tag:noindex
X-PUBLISHED-TTL:PT1H
BEGIN:VTIMEZONE
TZID:America/Los_Angeles
BEGIN:DAYLIGHT
TZOFFSETFROM:-0800
TZOFFSETTO:-0700
TZNAME:PDT
DTSTART:20240310T100000
END:DAYLIGHT
BEGIN:STANDARD
TZOFFSETFROM:-0700
TZOFFSETTO:-0800
TZNAME:PST
DTSTART:20241103T090000
END:STANDARD
BEGIN:DAYLIGHT
TZOFFSETFROM:-0800
TZOFFSETTO:-0700
TZNAME:PDT
DTSTART:20250309T100000
END:DAYLIGHT
BEGIN:STANDARD
TZOFFSETFROM:-0700
TZOFFSETTO:-0800
TZNAME:PST
DTSTART:20251102T090000
END:STANDARD
BEGIN:DAYLIGHT
TZOFFSETFROM:-0800
TZOFFSETTO:-0700
TZNAME:PDT
DTSTART:20260308T100000
END:DAYLIGHT
BEGIN:STANDARD
TZOFFSETFROM:-0700
TZOFFSETTO:-0800
TZNAME:PST
DTSTART:20261101T090000
END:STANDARD
END:VTIMEZONE
BEGIN:VEVENT
DTSTART;TZID=America/Los_Angeles:20250627T090000
DTEND;TZID=America/Los_Angeles:20250627T121500
DTSTAMP:20260420T155653
CREATED:20250612T011046Z
LAST-MODIFIED:20250612T011046Z
UID:4300001595-1751014800-1751026500@nbhap.org
SUMMARY:Community Resiliency Model (CRM)® Skills for Substance Use Prevention
DESCRIPTION:
URL:https://nbhap.org/event/community-resiliency-model-crm-skills-for-substance-use-prevention/
LOCATION:online
CATEGORIES:webinar or workshop
END:VEVENT
BEGIN:VEVENT
DTSTART;TZID=America/Los_Angeles:20250627T120000
DTEND;TZID=America/Los_Angeles:20250627T130000
DTSTAMP:20260420T155653
CREATED:20250612T015926Z
LAST-MODIFIED:20250612T015926Z
UID:4300001612-1751025600-1751029200@nbhap.org
SUMMARY:Trauma Reactions in Children
DESCRIPTION:
URL:https://nbhap.org/event/trauma-reactions-in-children/
LOCATION:online
CATEGORIES:webinar or workshop
END:VEVENT
BEGIN:VEVENT
DTSTART;TZID=America/Los_Angeles:20250627T120000
DTEND;TZID=America/Los_Angeles:20250627T163000
DTSTAMP:20260420T155653
CREATED:20250501T163539Z
LAST-MODIFIED:20250501T163539Z
UID:4300001444-1751025600-1751041800@nbhap.org
SUMMARY:Overcoming Health Anxiety: Etiology and Treatment Considerations for Health-Based Worries
DESCRIPTION:
URL:https://nbhap.org/event/overcoming-health-anxiety-etiology-and-treatment-considerations-for-health-based-worries/
LOCATION:online
CATEGORIES:webinar or workshop
END:VEVENT
END:VCALENDAR